{"text_format":"1","workbook":"xlsx","n_sheets":11,"sheets":["Main","InputSort","RawInput","TuneLookup","DefaultBuilder","GraphBuild","V2_TuneBuilder","V3_TuneBuilder","4KV2_TuneBuilder","4KV3_TuneBuilder","SendIt"],"not_rendered":{"charts":18,"images":32,"macros":1,"external_links":1,"defined_names":10,"comments":0,"pivot_tables":0},"unopened":[],"bounds":{"document_bytes":16777216,"sheet_cells":100000,"rows_first":2000,"rows_last":500,"rows_between":2000,"halvings":0,"cell_chars":16384,"cell_head_chars":4096},"cells_cut":0,"cells_raw":0,"read":"whole","date_system":"1900"}

{"sheet":"Main","index":0,"n_rows":0,"n_cols":0,"rows_kept":0,"cut":false,"hidden":false,"merged":[]}

{"sheet":"InputSort","index":1,"n_rows":47,"n_cols":45,"rows_kept":47,"cut":false,"hidden":true,"merged":[]}
["{\"profileName\":\"7x012 vgt daily\"","vehicleName:\"V2 Dodge 1998-2002\"","settingsMap:{\"125\":\"84\"","133:\"114\"","128:\"94\"","127:\"90\"","111:\"50\"","139:\"25\"","19:\"0\"","116:\"68\"","17:\"2.9\"","118:\"71\"","112:\"10\"","22:\"40\"","131:\"106\"","61:\"1.5\"","115:\"67\"","62:\"30\"","129:\"98\"","126:\"86\"","114:\"66\"","136:\"120\"","121:\"76\"","140:\"27.9\"","130:\"102\"","119:\"72\"","85:\"1200\"","104:\"3500\"","60:\"50\"","138:\"20\"","113:\"66\"","124:\"82\"","122:\"78\"","135:\"120\"","132:\"110\"","59:\"4.9\"","15:\"8\"","134:\"118\"","110:\"0\"","120:\"74\"","137:\"17\"","123:\"80\"","18:\"100\"","141:\"29.9\"","117:\"70\"}}"]
[]
["{\"profileName\":\"7x012 vgt daily\"",{"$f":"IF(ISNUMBER(SEARCH(\"settingsMap\",$A$1)),1,0)","v":0}]
["vehicleName:\"V2 Dodge 1998-2002\""]
["settingsMap:{\"125\":\"84\""]
["133:\"114\""]
["128:\"94\""]
["127:\"90\""]
["111:\"50\""]
["139:\"25\""]
["19:\"0\""]
["116:\"68\""]
["17:\"2.9\""]
["118:\"71\""]
["112:\"10\""]
["22:\"40\""]
["131:\"106\""]
["61:\"1.5\""]
["115:\"67\""]
["62:\"30\""]
["129:\"98\""]
["126:\"86\""]
["114:\"66\""]
["136:\"120\""]
["121:\"76\""]
["140:\"27.9\""]
["130:\"102\""]
["119:\"72\""]
["85:\"1200\""]
["104:\"3500\""]
["60:\"50\""]
["138:\"20\""]
["113:\"66\""]
["124:\"82\""]
["122:\"78\""]
["135:\"120\""]
["132:\"110\""]
["59:\"4.9\""]
["15:\"8\""]
["134:\"118\""]
["110:\"0\""]
["120:\"74\""]
["137:\"17\""]
["123:\"80\""]
["18:\"100\""]
["141:\"29.9\""]
["117:\"70\"}}"]

{"sheet":"RawInput","index":2,"n_rows":200,"n_cols":26,"rows_kept":200,"cut":false,"hidden":true,"merged":[]}
[]
[null,null,null,null,null,{"$f":"IF(E3=\"{\"\"profileName\",1,0)","v":1}]
["{\"profileName\":\"7x012 vgt daily\"",{"$f":"RIGHT(A3,LEN(A3)-FIND(\":\",A3))","v":"\"7x012 vgt daily\""},{"$f":"IFERROR(MID(B3,SEARCH(\"\"\"\",B3)+1,SEARCH(\"^\",SUBSTITUTE(B3,\"\"\"\",\"^\",LEN(B3)-LEN(SUBSTITUTE(B3,\"\"\"\",\"\"))))-LEN(LEFT(B3,SEARCH(\"\"\"\",B3)+1))),\"\")","v":"7x012 vgt daily"},null,{"$f":"LEFT(A3,13)","v":"{\"profileName"},{"$f":"IF(ISNUMBER(SEARCH(\"profileName\",E3)),1,0)","v":1},null,null,{"$f":"V2_TuneBuilder!A1","v":"7x012 vgt daily"},null,null,{"$f":"V3_TuneBuilder!A1","v":"Daily"},null,null,{"$f":"'4KV2_TuneBuilder'!A1","v":"test4k"},null,null,{"$f":"'4KV3_TuneBuilder'!A1","v":"Daily"},null,{"$f":"IF(OR(F4=\"V2 Dodge 1998-2000\",F4=\"V2 Dodge 2001-2002\",F4=\"V2 Dodge 1998-2002\"),1,IF(OR(F4=\"V2 Quadzilla Only\",F4=\"V2 QUADZILLA-ONLY\"),2,IF(OR(F4=\"V2 Quadzilla Only 4k\",F4=\"V2 Dodge 1998-2002 4K\"),3,4)))","v":1},1,2,3,4,null,"\""]
["vehicleName:\"V2 Dodge 1998-2002\"",null,{"$f":"IFERROR(MID(A4,SEARCH(\"\"\"\",A4)+1,SEARCH(\"^\",SUBSTITUTE(A4,\"\"\"\",\"^\",LEN(A4)-LEN(SUBSTITUTE(A4,\"\"\"\",\"\"))))-LEN(LEFT(A4,SEARCH(\"\"\"\",A4)+1))),\"\")","v":"V2 Dodge 1998-2002"},null,null,"V2 Dodge 1998-2002",null,"Aid V2","V2","Combine","Aid V3","V3","Combine","Aid 4KV2","4KV2","Combine","Aid 4KV3","4KV3","Combine",null,"V2Build","V3Build","4KV2Build","4KV3Build",null,"\":\""]
["125:\"84\"",{"$f":" IFERROR(LEFT(A5,FIND(\":\",A5)-1),\"\")","v":"125"},"84",{"$f":"IFERROR(VALUE(B5),\"\")","v":125},{"$f":"IFERROR(VALUE(C5),\"\")","v":84},{"$f":"ISNUMBER(E5)","v":true},null,15,{"$f":"IF(V2_TuneBuilder!B2>15,15,IF(V2_TuneBuilder!B2<6,6,V2_TuneBuilder!B2))","v":12},{"$f":"$Z$3&H5&$Z$4&I5&$Z$3&$Z$5","v":"\"15\":\"12\","},15,{"$f":"IF(V3_TuneBuilder!B2>15,15,IF(V3_TuneBuilder!B2<6,6,V3_TuneBuilder!B2))","v":12},{"$f":"$Z$3&K5&$Z$4&L5&$Z$3&$Z$5","v":"\"15\":\"12\","},15,{"$f":"IF('4KV2_TuneBuilder'!B2>15,15,IF('4KV2_TuneBuilder'!B2<6,6,'4KV2_TuneBuilder'!B2))","v":12},{"$f":"$Z$3&N5&$Z$4&O5&$Z$3&$Z$5","v":"\"15\":\"12\","},15,{"$f":"IF('4KV3_TuneBuilder'!B2>15,15,IF('4KV3_TuneBuilder'!B2<6,6,'4KV3_TuneBuilder'!B2))","v":12},{"$f":"$Z$3&Q5&$Z$4&R5&$Z$3&$Z$5","v":"\"15\":\"12\","},null,{"$f":"$Z$6&I3&$Z$3&$Z$5&$Z$3&$Z$7&$Z$4&C4&$Z$3&$Z$8&J5&J6&J7&J8&J9&J10&J11&J12&J13&J14&J15&J16&J17&J18&J19&J20&J21&J22&J23&J24&J25&J26&J27&J28&J29&J30&J31&J32&J33&J34&J35&J36&J37&J38&J39&J40&J41&J42&J43&J44&J45&J46&J47&Z9","v":"{\"profileName\":\"7x012 vgt daily\",\"vehicleName\":\"V2 Dodge 1998-2002\",\"settingsMap\":{\"15\":\"12\",\"104\":\"3200\",\"111\":\"50\",\"85\":\"1800\",\"18\":\"100\",\"19\":\"10\",\"110\":\"10\",\"112\":\"5\",\"22\":\"38\",\"17\":\"2\",\"59\":\"2\",\"60\":\"100\",\"61\":\"2\",\"62\":\"30\",\"137\":\"15\",\"138\":\"18\",\"139\":\"21\",\"140\":\"23\",\"141\":\"26\",\"113\":\"101\",\"114\":\"103\",\"115\":\"105\",\"116\":\"107\",\"117\":\"110\",\"118\":\"113\",\"119\":\"116\",\"120\":\"119\",\"121\":\"122\",\"122\":\"125\",\"123\":\"128\",\"124\":\"131\",\"125\":\"134\",\"126\":\"137\",\"127\":\"140\",\"128\":\"143\",\"129\":\"146\",\"130\":\"149\",\"131\":\"150\",\"132\":\"150\",\"133\":\"150\",\"134\":\"150\",\"135\":\"150\",\"136\":\"150\"}}"},{"$f":"$Z$6&L3&$Z$3&$Z$5&$Z$3&$Z$7&$Z$4&$C$4&$Z$3&$Z$8&M5&M6&M7&M8&M9&M10&M11&M12&M13&M14&M15&M16&M17&M18&M19&M20&M21&M22&M23&M24&M25&M26&M27&M28&M29&M30&M31&M32&M33&M34&M35&M36&M37&M38&M39&M40&M41&M42&M43&M44&M45&M46&M47&M48&M49&M50&M51&M52&M53&M54&M55&M56&M57&M58&M59&M60&M61&M62&M63&M64&M65&M66&M67&M68&M69&M70&M71&M72&$Z$9","v":"{\"profileName\":\"Daily\",\"vehicleName\":\"V2 Dodge 1998-2002\",\"settingsMap\":{\"15\":\"12\",\"104\":\"3200\",\"111\":\"50\",\"85\":\"1800\",\"18\":\"100\",\"19\":\"10\",\"112\":\"5\",\"22\":\"38\",\"156\":\"4\",\"157\":\"8\",\"158\":\"12\",\"159\":\"16\",\"160\":\"20\",\"161\":\"24\",\"162\":\"28\",\"163\":\"32\",\"164\":\"36\",\"165\":\"40\",\"166\":\"44\",\"167\":\"48\",\"168\":\"52\",\"169\":\"56\",\"170\":\"60\",\"171\":\"64\",\"172\":\"68\",\"173\":\"72\",\"174\":\"76\",\"175\":\"80\",\"176\":\"84\",\"177\":\"88\",\"178\":\"92\",\"179\":\"96\",\"180\":\"100\",\"17\":\"2\",\"59\":\"2\",\"60\":\"100\",\"61\":\"2\",\"62\":\"5\",\"137\":\"15\",\"138\":\"18\",\"139\":\"21\",\"140\":\"23\",\"141\":\"26\",\"113\":\"101\",\"114\":\"103\",\"115\":\"105\",\"116\":\"107\",\"117\":\"110\",\"118\":\"113\",\"119\":\"116\",\"120\":\"119\",\"121\":\"122\",\"122\":\"125\",\"123\":\"128\",\"124\":\"131\",\"125\":\"134\",\"126\":\"137\",\"127\":\"140\",\"128\":\"143\",\"129\":\"146\",\"130\":\"149\",\"131\":\"150\",\"132\":\"150\",\"133\":\"150\",\"134\":\"150\",\"135\":\"150\",\"136\":\"150\"}}"},{"$f":"$Z$6&O3&$Z$3&$Z$5&$Z$3&$Z$7&$Z$4&$C$4&$Z$3&$Z$8&P5&P6&P7&P8&P9&P10&P11&P12&P13&P14&P15&P16&P17&P18&P19&P20&P21&P22&P23&P24&P25&P26&P27&P28&P29&P30&P31&P32&P33&P34&P35&P36&P37&P38&P39&P40&P41&P42&P43&P44&P45&P46&P47&P48&P49&P50&P51&P52&P53&P54&P55&P56&P57&P58&P59&P60&P61&P62&P63&P64&P65&P66&P67&P68&P69&P70&P71&P72&P73&P74&$Z$9","v":"{\"profileName\":\"test4k\",\"vehicleName\":\"V2 Dodge 1998-2002\",\"settingsMap\":{\"15\":\"12\",\"104\":\"4200\",\"111\":\"50\",\"85\":\"4400\",\"18\":\"100\",\"19\":\"10\",\"110\":\"10\",\"112\":\"5\",\"22\":\"38\",\"17\":\"2\",\"59\":\"2\",\"60\":\"100\",\"61\":\"2\",\"62\":\"30\",\"137\":\"15\",\"138\":\"18\",\"139\":\"21\",\"140\":\"23\",\"142\":\"24\",\"143\":\"25\",\"141\":\"26\",\"113\":\"101\",\"114\":\"103\",\"115\":\"105\",\"116\":\"107\",\"117\":\"110\",\"118\":\"113\",\"119\":\"116\",\"120\":\"119\",\"121\":\"122\",\"122\":\"125\",\"123\":\"128\",\"124\":\"131\",\"125\":\"134\",\"126\":\"137\",\"127\":\"140\",\"128\":\"143\",\"129\":\"146\",\"130\":\"149\",\"131\":\"150\",\"132\":\"150\",\"133\":\"150\",\"134\":\"150\",\"135\":\"150\",\"136\":\"150\",\"156\":\"0\",\"157\":\"0\",\"158\":\"0\",\"159\":\"0\",\"160\":\"0\",\"161\":\"0\",\"162\":\"0\",\"163\":\"0\",\"164\":\"0\",\"165\":\"0\",\"166\":\"0\",\"167\":\"0\",\"168\":\"0\",\"169\":\"0\",\"170\":\"0\",\"171\":\"0\",\"172\":\"0\",\"173\":\"0\",\"174\":\"0\",\"175\":\"0\",\"176\":\"0\",\"177\":\"0\",\"178\":\"0\",\"179\":\"0\",\"180\":\"0\"}}"},{"$f":"$Z$6&R3&$Z$3&$Z$5&$Z$3&$Z$7&$Z$4&$C$4&$Z$3&$Z$8&S5&S6&S7&S8&S9&S10&S11&S12&S13&S14&S15&S16&S17&S18&S19&S20&S21&S22&S23&S24&S25&S26&S27&S28&S29&S30&S31&S32&S33&S34&S35&S36&S37&S38&S39&S40&S41&S42&S43&S44&S45&S46&S47&S48&S49&S50&S51&S52&S53&S54&S55&S56&S57&S58&S59&S60&S61&S62&S63&S64&S65&S66&S67&S68&S69&S70&S71&S72&S73&S74&$Z$9","v":"{\"profileName\":\"Daily\",\"vehicleName\":\"V2 Dodge 1998-2002\",\"settingsMap\":{\"15\":\"12\",\"104\":\"4200\",\"111\":\"50\",\"85\":\"4400\",\"18\":\"100\",\"19\":\"10\",\"112\":\"5\",\"22\":\"38\",\"156\":\"4\",\"157\":\"8\",\"158\":\"12\",\"159\":\"16\",\"160\":\"20\",\"161\":\"24\",\"162\":\"28\",\"163\":\"32\",\"164\":\"36\",\"165\":\"40\",\"166\":\"44\",\"167\":\"48\",\"168\":\"52\",\"169\":\"56\",\"170\":\"60\",\"171\":\"64\",\"172\":\"68\",\"173\":\"72\",\"174\":\"76\",\"175\":\"80\",\"176\":\"84\",\"177\":\"88\",\"178\":\"92\",\"179\":\"96\",\"180\":\"100\",\"17\":\"2\",\"59\":\"2\",\"60\":\"100\",\"61\":\"2\",\"62\":\"5\",\"137\":\"15\",\"138\":\"18\",\"139\":\"21\",\"140\":\"23\",\"142\":\"24\",\"143\":\"25\",\"141\":\"50\",\"113\":\"101\",\"114\":\"103\",\"115\":\"105\",\"116\":\"107\",\"117\":\"110\",\"118\":\"113\",\"119\":\"116\",\"120\":\"119\",\"121\":\"122\",\"122\":\"125\",\"123\":\"128\",\"124\":\"131\",\"125\":\"134\",\"126\":\"137\",\"127\":\"140\",\"128\":\"143\",\"129\":\"146\",\"130\":\"149\",\"131\":\"150\",\"132\":\"150\",\"133\":\"150\",\"134\":\"150\",\"135\":\"150\",\"136\":\"150\",\"110\":\"0\"}}"}," ",","]
["133:\"114\"","133","114",{"$f":"IFERROR(VALUE(B6),\"\")","v":133},114,{"$f":"ISNUMBER(E6)","v":true},null,104,{"$f":"IF(V2_TuneBuilder!B3>3700,3700,IF(V2_TuneBuilder!B3<3200,3200,V2_TuneBuilder!B3))","v":3200},"\"104\":\"3200\",",104,{"$f":"IF(V3_TuneBuilder!B3>3700,3700,IF(V3_TuneBuilder!B3<3200,3200,V3_TuneBuilder!B3))","v":3200},"\"104\":\"3200\",",104,{"$f":"IF('4KV2_TuneBuilder'!B3>4400,4400,IF('4KV2_TuneBuilder'!B3<3400,3400,'4KV2_TuneBuilder'!B3))","v":4200},"\"104\":\"4200\",",104,{"$f":"IF('4KV3_TuneBuilder'!B3>4400,4400,IF('4KV3_TuneBuilder'!B3<3400,3400,'4KV3_TuneBuilder'!B3))","v":4200},"\"104\":\"4200\",",null," ",null,null,null,null,"{\"profileName\":\""]
["128:\"94\"","128","94",128,94,true,null,111,{"$f":"IF(V2_TuneBuilder!B5>100,100,IF(V2_TuneBuilder!B5<5,5,V2_TuneBuilder!B5))","v":50},"\"111\":\"50\",",111,{"$f":"IF(V3_TuneBuilder!B5>100,100,IF(V3_TuneBuilder!B5<5,5,V3_TuneBuilder!B5))","v":50},"\"111\":\"50\",",111,{"$f":"IF('4KV2_TuneBuilder'!B5>100,100,IF('4KV2_TuneBuilder'!B5<5,5,'4KV2_TuneBuilder'!B5))","v":50},"\"111\":\"50\",",111,{"$f":"IF('4KV3_TuneBuilder'!B5>100,100,IF('4KV3_TuneBuilder'!B5<5,5,'4KV3_TuneBuilder'!B5))","v":50},"\"111\":\"50\",",null,null,null,null,null,null,"vehicleName"]
["127:\"90\"","127","90",127,90,true,null,85,{"$f":"IF(V2_TuneBuilder!B7>2200,2200,IF(V2_TuneBuilder!B7<1200,1200,V2_TuneBuilder!B7))","v":1800},"\"85\":\"1800\",",85,{"$f":"IF(V3_TuneBuilder!B7>2200,2200,IF(V3_TuneBuilder!B7<1200,1200,V3_TuneBuilder!B7))","v":1800},"\"85\":\"1800\",",85,{"$f":"IF('4KV2_TuneBuilder'!B7>6000,6000,IF('4KV2_TuneBuilder'!B7<4000,4000,'4KV2_TuneBuilder'!B7))","v":4400},"\"85\":\"4400\",",85,{"$f":"IF('4KV3_TuneBuilder'!B7>6000,6000,IF('4KV3_TuneBuilder'!B7<4000,4000,'4KV3_TuneBuilder'!B7))","v":4400},"\"85\":\"4400\",",null,null,null,null,null,null,",\"settingsMap\":{"]
["111:\"50\"","111","50",111,50,true,null,18,{"$f":"IF(V2_TuneBuilder!B8>100,100,IF(V2_TuneBuilder!B8<0,0,V2_TuneBuilder!B8))","v":100},"\"18\":\"100\",",18,{"$f":"IF(V3_TuneBuilder!B8>100,100,IF(V3_TuneBuilder!B8<0,0,V3_TuneBuilder!B8))","v":100},"\"18\":\"100\",",18,{"$f":"IF('4KV2_TuneBuilder'!B8>100,100,IF('4KV2_TuneBuilder'!B8<0,0,'4KV2_TuneBuilder'!B8))","v":100},"\"18\":\"100\",",18,{"$f":"IF('4KV3_TuneBuilder'!B8>100,100,IF('4KV3_TuneBuilder'!B8<0,0,'4KV3_TuneBuilder'!B8))","v":100},"\"18\":\"100\",",null,null,null,null,null,null,"}}"]
["139:\"25\"","139","25",139,25,true,null,19,{"$f":"IF(V2_TuneBuilder!B9>100,100,IF(V2_TuneBuilder!B9<0,0,V2_TuneBuilder!B9))","v":10},"\"19\":\"10\",",19,{"$f":"IF(V3_TuneBuilder!B9>100,100,IF(V3_TuneBuilder!B9<0,0,V3_TuneBuilder!B9))","v":10},"\"19\":\"10\",",19,{"$f":"IF('4KV2_TuneBuilder'!B9>100,100,IF('4KV2_TuneBuilder'!B9<0,0,'4KV2_TuneBuilder'!B9))","v":10},"\"19\":\"10\",",19,{"$f":"IF('4KV3_TuneBuilder'!B9>100,100,IF('4KV3_TuneBuilder'!B9<0,0,'4KV3_TuneBuilder'!B9))","v":10},"\"19\":\"10\","]
["19:\"0\"","19","0",19,0,true,null,110,{"$f":"IF(V2_TuneBuilder!B10>50,50,IF(V2_TuneBuilder!B10<0,0,V2_TuneBuilder!B10))","v":10},"\"110\":\"10\",",112,{"$f":"IF(V3_TuneBuilder!B10>50,50,IF(V3_TuneBuilder!B10<0,0,V3_TuneBuilder!B10))","v":5},"\"112\":\"5\",",110,{"$f":"IF('4KV2_TuneBuilder'!B10>50,50,IF('4KV2_TuneBuilder'!B10<0,0,'4KV2_TuneBuilder'!B10))","v":10},"\"110\":\"10\",",112,{"$f":"IF('4KV3_TuneBuilder'!B10>25,25,IF('4KV3_TuneBuilder'!B10<0,0,'4KV3_TuneBuilder'!B10))","v":5},"\"112\":\"5\","]
["116:\"68\"","116","68",116,68,true,null,112,{"$f":"IF(V2_TuneBuilder!B11>25,25,IF(V2_TuneBuilder!B11<0,0,V2_TuneBuilder!B11))","v":5},"\"112\":\"5\",",22,{"$f":"IF(V3_TuneBuilder!B11>40,40,IF(V3_TuneBuilder!B11<20,20,V3_TuneBuilder!B11))","v":38},"\"22\":\"38\",",112,{"$f":"IF('4KV2_TuneBuilder'!B11>25,25,IF('4KV2_TuneBuilder'!B11<0,0,'4KV2_TuneBuilder'!B11))","v":5},"\"112\":\"5\",",22,{"$f":"IF('4KV3_TuneBuilder'!B11>40,40,IF('4KV3_TuneBuilder'!B11<0,0,'4KV3_TuneBuilder'!B11))","v":38},"\"22\":\"38\","]
["17:\"2.9\"","17","2.9",17,2.9,true,null,22,{"$f":"IF(V2_TuneBuilder!B12>40,40,IF(V2_TuneBuilder!B12<0,0,V2_TuneBuilder!B12))","v":38},"\"22\":\"38\",",156,{"$f":"IF(V3_TuneBuilder!B13>100,100,IF(V3_TuneBuilder!B13<0,0,V3_TuneBuilder!B13))","v":4},"\"156\":\"4\",",22,{"$f":"IF('4KV2_TuneBuilder'!B12>40,40,IF('4KV2_TuneBuilder'!B12<20,20,'4KV2_TuneBuilder'!B12))","v":38},"\"22\":\"38\",",156,{"$f":"IF('4KV3_TuneBuilder'!B13>100,100,IF('4KV3_TuneBuilder'!B13<0,0,'4KV3_TuneBuilder'!B13))","v":4},"\"156\":\"4\","]
["118:\"71\"","118","71",118,71,true,null,17,{"$f":"IF(V2_TuneBuilder!B14>3,3,IF(V2_TuneBuilder!B14<0,0,V2_TuneBuilder!B14))","v":2},"\"17\":\"2\",",157,{"$f":"IF(V3_TuneBuilder!B14>100,100,IF(V3_TuneBuilder!B14<0,0,V3_TuneBuilder!B14))","v":8},"\"157\":\"8\",",17,{"$f":"IF('4KV2_TuneBuilder'!B14>3,3,IF('4KV2_TuneBuilder'!B14<0,0,'4KV2_TuneBuilder'!B14))","v":2},"\"17\":\"2\",",157,{"$f":"IF('4KV3_TuneBuilder'!B14>100,100,IF('4KV3_TuneBuilder'!B14<0,0,'4KV3_TuneBuilder'!B14))","v":8},"\"157\":\"8\","]
["112:\"10\"","112","10",112,10,true,null,59,{"$f":"IF(V2_TuneBuilder!B15>5,5,IF(V2_TuneBuilder!B15<0,0,V2_TuneBuilder!B15))","v":2},"\"59\":\"2\",",158,{"$f":"IF(V3_TuneBuilder!B15>100,100,IF(V3_TuneBuilder!B15<0,0,V3_TuneBuilder!B15))","v":12},"\"158\":\"12\",",59,{"$f":"IF('4KV2_TuneBuilder'!B15>5,5,IF('4KV2_TuneBuilder'!B15<0,0,'4KV2_TuneBuilder'!B15))","v":2},"\"59\":\"2\",",158,{"$f":"IF('4KV3_TuneBuilder'!B15>100,100,IF('4KV3_TuneBuilder'!B15<0,0,'4KV3_TuneBuilder'!B15))","v":12},"\"158\":\"12\","]
["22:\"40\"","22","40",22,40,true,null,60,{"$f":"IF(V2_TuneBuilder!B16>100,100,IF(V2_TuneBuilder!B16<0,0,V2_TuneBuilder!B16))","v":100},"\"60\":\"100\",",159,{"$f":"IF(V3_TuneBuilder!B16>100,100,IF(V3_TuneBuilder!B16<0,0,V3_TuneBuilder!B16))","v":16},"\"159\":\"16\",",60,{"$f":"IF('4KV2_TuneBuilder'!B16>100,100,IF('4KV2_TuneBuilder'!B16<0,0,'4KV2_TuneBuilder'!B16))","v":100},"\"60\":\"100\",",159,{"$f":"IF('4KV3_TuneBuilder'!B16>100,100,IF('4KV3_TuneBuilder'!B16<0,0,'4KV3_TuneBuilder'!B16))","v":16},"\"159\":\"16\","]
["131:\"106\"","131","106",131,106,true,null,61,{"$f":"IF(V2_TuneBuilder!B17>8,8,IF(V2_TuneBuilder!B17<0,0,V2_TuneBuilder!B17))","v":2},"\"61\":\"2\",",160,{"$f":"IF(V3_TuneBuilder!B17>100,100,IF(V3_TuneBuilder!B17<0,0,V3_TuneBuilder!B17))","v":20},"\"160\":\"20\",",61,{"$f":"IF('4KV2_TuneBuilder'!B17>8,8,IF('4KV2_TuneBuilder'!B17<0,0,'4KV2_TuneBuilder'!B17))","v":2},"\"61\":\"2\",",160,{"$f":"IF('4KV3_TuneBuilder'!B17>100,100,IF('4KV3_TuneBuilder'!B17<0,0,'4KV3_TuneBuilder'!B17))","v":20},"\"160\":\"20\","]
["61:\"1.5\"","61","1.5",61,1.5,true,null,62,{"$f":"IF(V2_TuneBuilder!B18>40,40,IF(V2_TuneBuilder!B18<0,0,V2_TuneBuilder!B18))","v":30},"\"62\":\"30\",",161,{"$f":"IF(V3_TuneBuilder!B18>100,100,IF(V3_TuneBuilder!B18<0,0,V3_TuneBuilder!B18))","v":24},"\"161\":\"24\",",62,{"$f":"IF('4KV2_TuneBuilder'!B18>40,40,IF('4KV2_TuneBuilder'!B18<0,0,'4KV2_TuneBuilder'!B18))","v":30},"\"62\":\"30\",",161,{"$f":"IF('4KV3_TuneBuilder'!B18>100,100,IF('4KV3_TuneBuilder'!B18<0,0,'4KV3_TuneBuilder'!B18))","v":24},"\"161\":\"24\","]
["115:\"67\"","115","67",115,67,true,null,137,{"$f":"IF(V2_TuneBuilder!B20>30,30,IF(V2_TuneBuilder!B20<12,12,V2_TuneBuilder!B20))","v":15},"\"137\":\"15\",",162,{"$f":"IF(V3_TuneBuilder!B19>100,100,IF(V3_TuneBuilder!B19<0,0,V3_TuneBuilder!B19))","v":28},"\"162\":\"28\",",137,{"$f":"IF('4KV2_TuneBuilder'!B20>30,30,IF('4KV2_TuneBuilder'!B20<12,12,'4KV2_TuneBuilder'!B20))","v":15},"\"137\":\"15\",",162,{"$f":"IF('4KV3_TuneBuilder'!B19>100,100,IF('4KV3_TuneBuilder'!B19<0,0,'4KV3_TuneBuilder'!B19))","v":28},"\"162\":\"28\","]
["62:\"30\"","62","30",62,30,true,null,138,{"$f":"IF(V2_TuneBuilder!B21>30,30,IF(V2_TuneBuilder!B21<12,12,V2_TuneBuilder!B21))","v":18},"\"138\":\"18\",",163,{"$f":"IF(V3_TuneBuilder!B20>100,100,IF(V3_TuneBuilder!B20<0,0,V3_TuneBuilder!B20))","v":32},"\"163\":\"32\",",138,{"$f":"IF('4KV2_TuneBuilder'!B21>30,30,IF('4KV2_TuneBuilder'!B21<12,12,'4KV2_TuneBuilder'!B21))","v":18},"\"138\":\"18\",",163,{"$f":"IF('4KV3_TuneBuilder'!B20>100,100,IF('4KV3_TuneBuilder'!B20<0,0,'4KV3_TuneBuilder'!B20))","v":32},"\"163\":\"32\","]
["129:\"98\"","129","98",129,98,true,null,139,{"$f":"IF(V2_TuneBuilder!B22>30,30,IF(V2_TuneBuilder!B22<12,12,V2_TuneBuilder!B22))","v":21},"\"139\":\"21\",",164,{"$f":"IF(V3_TuneBuilder!B21>100,100,IF(V3_TuneBuilder!B21<0,0,V3_TuneBuilder!B21))","v":36},"\"164\":\"36\",",139,{"$f":"IF('4KV2_TuneBuilder'!B22>30,30,IF('4KV2_TuneBuilder'!B22<12,12,'4KV2_TuneBuilder'!B22))","v":21},"\"139\":\"21\",",164,{"$f":"IF('4KV3_TuneBuilder'!B21>100,100,IF('4KV3_TuneBuilder'!B21<0,0,'4KV3_TuneBuilder'!B21))","v":36},"\"164\":\"36\","]
["126:\"86\"","126","86",126,86,true,null,140,{"$f":"IF(V2_TuneBuilder!B23>30,30,IF(V2_TuneBuilder!B23<12,12,V2_TuneBuilder!B23))","v":23},"\"140\":\"23\",",165,{"$f":"IF(V3_TuneBuilder!B22>100,100,IF(V3_TuneBuilder!B22<0,0,V3_TuneBuilder!B22))","v":40},"\"165\":\"40\",",140,{"$f":"IF('4KV2_TuneBuilder'!B23>30,30,IF('4KV2_TuneBuilder'!B23<12,12,'4KV2_TuneBuilder'!B23))","v":23},"\"140\":\"23\",",165,{"$f":"IF('4KV3_TuneBuilder'!B22>100,100,IF('4KV3_TuneBuilder'!B22<0,0,'4KV3_TuneBuilder'!B22))","v":40},"\"165\":\"40\","]
["114:\"66\"","114","66",114,66,true,null,141,{"$f":"IF(V2_TuneBuilder!B24>30,30,IF(V2_TuneBuilder!B24<12,12,V2_TuneBuilder!B24))","v":26},"\"141\":\"26\",",166,{"$f":"IF(V3_TuneBuilder!B23>100,100,IF(V3_TuneBuilder!B23<0,0,V3_TuneBuilder!B23))","v":44},"\"166\":\"44\",",142,{"$f":"IF('4KV2_TuneBuilder'!B24>30,30,IF('4KV2_TuneBuilder'!B24<12,12,'4KV2_TuneBuilder'!B24))","v":24},"\"142\":\"24\",",166,{"$f":"IF('4KV3_TuneBuilder'!B23>100,100,IF('4KV3_TuneBuilder'!B23<0,0,'4KV3_TuneBuilder'!B23))","v":44},"\"166\":\"44\","]
["136:\"120\"","136","120",136,120,true,null,113,{"$f":"IF(V2_TuneBuilder!B26>150,150,IF(V2_TuneBuilder!B26<50,50,V2_TuneBuilder!B26))","v":101},"\"113\":\"101\",",167,{"$f":"IF(V3_TuneBuilder!B24>100,100,IF(V3_TuneBuilder!B24<0,0,V3_TuneBuilder!B24))","v":48},"\"167\":\"48\",",143,{"$f":"IF('4KV2_TuneBuilder'!B25>30,30,IF('4KV2_TuneBuilder'!B25<12,12,'4KV2_TuneBuilder'!B25))","v":25},"\"143\":\"25\",",167,{"$f":"IF('4KV3_TuneBuilder'!B24>100,100,IF('4KV3_TuneBuilder'!B24<0,0,'4KV3_TuneBuilder'!B24))","v":48},"\"167\":\"48\","]
["121:\"76\"","121","76",121,76,true,null,114,{"$f":"IF(V2_TuneBuilder!B27>150,150,IF(V2_TuneBuilder!B27<50,50,V2_TuneBuilder!B27))","v":103},"\"114\":\"103\",",168,{"$f":"IF(V3_TuneBuilder!B25>100,100,IF(V3_TuneBuilder!B25<0,0,V3_TuneBuilder!B25))","v":52},"\"168\":\"52\",",141,{"$f":"IF('4KV2_TuneBuilder'!B26>30,30,IF('4KV2_TuneBuilder'!B26<12,12,'4KV2_TuneBuilder'!B26))","v":26},"\"141\":\"26\",",168,{"$f":"IF('4KV3_TuneBuilder'!B25>100,100,IF('4KV3_TuneBuilder'!B25<0,0,'4KV3_TuneBuilder'!B25))","v":52},"\"168\":\"52\","]
["140:\"27.9\"","140","27.9",140,27.9,true,null,115,{"$f":"IF(V2_TuneBuilder!B28>150,150,IF(V2_TuneBuilder!B28<50,50,V2_TuneBuilder!B28))","v":105},"\"115\":\"105\",",169,{"$f":"IF(V3_TuneBuilder!B26>100,100,IF(V3_TuneBuilder!B26<0,0,V3_TuneBuilder!B26))","v":56},"\"169\":\"56\",",113,{"$f":"IF('4KV2_TuneBuilder'!B28>150,150,IF('4KV2_TuneBuilder'!B28<50,50,'4KV2_TuneBuilder'!B28))","v":101},"\"113\":\"101\",",169,{"$f":"IF('4KV3_TuneBuilder'!B26>100,100,IF('4KV3_TuneBuilder'!B26<0,0,'4KV3_TuneBuilder'!B26))","v":56},"\"169\":\"56\","]
["130:\"102\"","130","102",130,102,true,null,116,{"$f":"IF(V2_TuneBuilder!B29>150,150,IF(V2_TuneBuilder!B29<50,50,V2_TuneBuilder!B29))","v":107},"\"116\":\"107\",",170,{"$f":"IF(V3_TuneBuilder!B27>100,100,IF(V3_TuneBuilder!B27<0,0,V3_TuneBuilder!B27))","v":60},"\"170\":\"60\",",114,{"$f":"IF('4KV2_TuneBuilder'!B29>150,150,IF('4KV2_TuneBuilder'!B29<50,50,'4KV2_TuneBuilder'!B29))","v":103},"\"114\":\"103\",",170,{"$f":"IF('4KV3_TuneBuilder'!B27>100,100,IF('4KV3_TuneBuilder'!B27<0,0,'4KV3_TuneBuilder'!B27))","v":60},"\"170\":\"60\","]
["119:\"72\"","119","72",119,72,true,null,117,{"$f":"IF(V2_TuneBuilder!B30>150,150,IF(V2_TuneBuilder!B30<50,50,V2_TuneBuilder!B30))","v":110},"\"117\":\"110\",",171,{"$f":"IF(V3_TuneBuilder!B28>100,100,IF(V3_TuneBuilder!B28<0,0,V3_TuneBuilder!B28))","v":64},"\"171\":\"64\",",115,{"$f":"IF('4KV2_TuneBuilder'!B30>150,150,IF('4KV2_TuneBuilder'!B30<50,50,'4KV2_TuneBuilder'!B30))","v":105},"\"115\":\"105\",",171,{"$f":"IF('4KV3_TuneBuilder'!B28>100,100,IF('4KV3_TuneBuilder'!B28<0,0,'4KV3_TuneBuilder'!B28))","v":64},"\"171\":\"64\","]
["85:\"1200\"","85","1200",85,1200,true,null,118,{"$f":"IF(V2_TuneBuilder!B31>150,150,IF(V2_TuneBuilder!B31<50,50,V2_TuneBuilder!B31))","v":113},"\"118\":\"113\",",172,{"$f":"IF(V3_TuneBuilder!B29>100,100,IF(V3_TuneBuilder!B29<0,0,V3_TuneBuilder!B29))","v":68},"\"172\":\"68\",",116,{"$f":"IF('4KV2_TuneBuilder'!B31>150,150,IF('4KV2_TuneBuilder'!B31<50,50,'4KV2_TuneBuilder'!B31))","v":107},"\"116\":\"107\",",172,{"$f":"IF('4KV3_TuneBuilder'!B29>100,100,IF('4KV3_TuneBuilder'!B29<0,0,'4KV3_TuneBuilder'!B29))","v":68},"\"172\":\"68\","]
["104:\"3500\"","104","3500",104,3500,true,null,119,{"$f":"IF(V2_TuneBuilder!B32>150,150,IF(V2_TuneBuilder!B32<50,50,V2_TuneBuilder!B32))","v":116},"\"119\":\"116\",",173,{"$f":"IF(V3_TuneBuilder!B30>100,100,IF(V3_TuneBuilder!B30<0,0,V3_TuneBuilder!B30))","v":72},"\"173\":\"72\",",117,{"$f":"IF('4KV2_TuneBuilder'!B32>150,150,IF('4KV2_TuneBuilder'!B32<50,50,'4KV2_TuneBuilder'!B32))","v":110},"\"117\":\"110\",",173,{"$f":"IF('4KV3_TuneBuilder'!B30>100,100,IF('4KV3_TuneBuilder'!B30<0,0,'4KV3_TuneBuilder'!B30))","v":72},"\"173\":\"72\","]
["60:\"50\"","60","50",60,50,true,null,120,{"$f":"IF(V2_TuneBuilder!B33>150,150,IF(V2_TuneBuilder!B33<50,50,V2_TuneBuilder!B33))","v":119},"\"120\":\"119\",",174,{"$f":"IF(V3_TuneBuilder!B31>100,100,IF(V3_TuneBuilder!B31<0,0,V3_TuneBuilder!B31))","v":76},"\"174\":\"76\",",118,{"$f":"IF('4KV2_TuneBuilder'!B33>150,150,IF('4KV2_TuneBuilder'!B33<50,50,'4KV2_TuneBuilder'!B33))","v":113},"\"118\":\"113\",",174,{"$f":"IF('4KV3_TuneBuilder'!B31>100,100,IF('4KV3_TuneBuilder'!B31<0,0,'4KV3_TuneBuilder'!B31))","v":76},"\"174\":\"76\","]
["138:\"20\"","138","20",138,20,true,null,121,{"$f":"IF(V2_TuneBuilder!B34>150,150,IF(V2_TuneBuilder!B34<50,50,V2_TuneBuilder!B34))","v":122},"\"121\":\"122\",",175,{"$f":"IF(V3_TuneBuilder!B32>100,100,IF(V3_TuneBuilder!B32<0,0,V3_TuneBuilder!B32))","v":80},"\"175\":\"80\",",119,{"$f":"IF('4KV2_TuneBuilder'!B34>150,150,IF('4KV2_TuneBuilder'!B34<50,50,'4KV2_TuneBuilder'!B34))","v":116},"\"119\":\"116\",",175,{"$f":"IF('4KV3_TuneBuilder'!B32>100,100,IF('4KV3_TuneBuilder'!B32<0,0,'4KV3_TuneBuilder'!B32))","v":80},"\"175\":\"80\","]
["113:\"66\"","113","66",113,66,true,null,122,{"$f":"IF(V2_TuneBuilder!B35>150,150,IF(V2_TuneBuilder!B35<50,50,V2_TuneBuilder!B35))","v":125},"\"122\":\"125\",",176,{"$f":"IF(V3_TuneBuilder!B33>100,100,IF(V3_TuneBuilder!B33<0,0,V3_TuneBuilder!B33))","v":84},"\"176\":\"84\",",120,{"$f":"IF('4KV2_TuneBuilder'!B35>150,150,IF('4KV2_TuneBuilder'!B35<50,50,'4KV2_TuneBuilder'!B35))","v":119},"\"120\":\"119\",",176,{"$f":"IF('4KV3_TuneBuilder'!B33>100,100,IF('4KV3_TuneBuilder'!B33<0,0,'4KV3_TuneBuilder'!B33))","v":84},"\"176\":\"84\","]
["124:\"82\"","124","82",124,82,true,null,123,{"$f":"IF(V2_TuneBuilder!B36>150,150,IF(V2_TuneBuilder!B36<50,50,V2_TuneBuilder!B36))","v":128},"\"123\":\"128\",",177,{"$f":"IF(V3_TuneBuilder!B34>100,100,IF(V3_TuneBuilder!B34<0,0,V3_TuneBuilder!B34))","v":88},"\"177\":\"88\",",121,{"$f":"IF('4KV2_TuneBuilder'!B36>150,150,IF('4KV2_TuneBuilder'!B36<50,50,'4KV2_TuneBuilder'!B36))","v":122},"\"121\":\"122\",",177,{"$f":"IF('4KV3_TuneBuilder'!B34>100,100,IF('4KV3_TuneBuilder'!B34<0,0,'4KV3_TuneBuilder'!B34))","v":88},"\"177\":\"88\","]
["122:\"78\"","122","78",122,78,true,null,124,{"$f":"IF(V2_TuneBuilder!B37>150,150,IF(V2_TuneBuilder!B37<50,50,V2_TuneBuilder!B37))","v":131},"\"124\":\"131\",",178,{"$f":"IF(V3_TuneBuilder!B35>100,100,IF(V3_TuneBuilder!B35<0,0,V3_TuneBuilder!B35))","v":92},"\"178\":\"92\",",122,{"$f":"IF('4KV2_TuneBuilder'!B37>150,150,IF('4KV2_TuneBuilder'!B37<50,50,'4KV2_TuneBuilder'!B37))","v":125},"\"122\":\"125\",",178,{"$f":"IF('4KV3_TuneBuilder'!B35>100,100,IF('4KV3_TuneBuilder'!B35<0,0,'4KV3_TuneBuilder'!B35))","v":92},"\"178\":\"92\","]
["135:\"120\"","135",{"$f":"IFERROR(MID(A36,SEARCH(\"\"\"\",A36)+1,SEARCH(\"^\",SUBSTITUTE(A36,\"\"\"\",\"^\",LEN(A36)-LEN(SUBSTITUTE(A36,\"\"\"\",\"\"))))-LEN(LEFT(A36,SEARCH(\"\"\"\",A36)+1))),\"\")","v":"120"},135,120,true,null,125,{"$f":"IF(V2_TuneBuilder!B38>150,150,IF(V2_TuneBuilder!B38<50,50,V2_TuneBuilder!B38))","v":134},"\"125\":\"134\",",179,{"$f":"IF(V3_TuneBuilder!B36>100,100,IF(V3_TuneBuilder!B36<0,0,V3_TuneBuilder!B36))","v":96},"\"179\":\"96\",",123,{"$f":"IF('4KV2_TuneBuilder'!B38>150,150,IF('4KV2_TuneBuilder'!B38<50,50,'4KV2_TuneBuilder'!B38))","v":128},"\"123\":\"128\",",179,{"$f":"IF('4KV3_TuneBuilder'!B36>100,100,IF('4KV3_TuneBuilder'!B36<0,0,'4KV3_TuneBuilder'!B36))","v":96},"\"179\":\"96\","]
["132:\"110\"",{"$f":" IFERROR(LEFT(A37,FIND(\":\",A37)-1),\"\")","v":"132"},"110",132,110,true,null,126,{"$f":"IF(V2_TuneBuilder!B39>150,150,IF(V2_TuneBuilder!B39<50,50,V2_TuneBuilder!B39))","v":137},"\"126\":\"137\",",180,{"$f":"IF(V3_TuneBuilder!B37>100,100,IF(V3_TuneBuilder!B37<0,0,V3_TuneBuilder!B37))","v":100},"\"180\":\"100\",",124,{"$f":"IF('4KV2_TuneBuilder'!B39>150,150,IF('4KV2_TuneBuilder'!B39<50,50,'4KV2_TuneBuilder'!B39))","v":131},"\"124\":\"131\",",180,{"$f":"IF('4KV3_TuneBuilder'!B37>100,100,IF('4KV3_TuneBuilder'!B37<0,0,'4KV3_TuneBuilder'!B37))","v":100},"\"180\":\"100\","]
["59:\"4.9\"","59","4.9",59,4.9000000000000004,true,null,127,{"$f":"IF(V2_TuneBuilder!B40>150,150,IF(V2_TuneBuilder!B40<50,50,V2_TuneBuilder!B40))","v":140},"\"127\":\"140\",",17,{"$f":"IF(V3_TuneBuilder!B39>3,3,IF(V3_TuneBuilder!B39<0,0,V3_TuneBuilder!B39))","v":2},"\"17\":\"2\",",125,{"$f":"IF('4KV2_TuneBuilder'!B40>150,150,IF('4KV2_TuneBuilder'!B40<50,50,'4KV2_TuneBuilder'!B40))","v":134},"\"125\":\"134\",",17,{"$f":"IF('4KV3_TuneBuilder'!B39>3,3,IF('4KV3_TuneBuilder'!B39<0,0,'4KV3_TuneBuilder'!B39))","v":2},"\"17\":\"2\","]
["15:\"8\"","15","8",15,8,true,null,128,{"$f":"IF(V2_TuneBuilder!B41>150,150,IF(V2_TuneBuilder!B41<50,50,V2_TuneBuilder!B41))","v":143},"\"128\":\"143\",",59,{"$f":"IF(V3_TuneBuilder!B40>5,5,IF(V3_TuneBuilder!B40<0,0,V3_TuneBuilder!B40))","v":2},"\"59\":\"2\",",126,{"$f":"IF('4KV2_TuneBuilder'!B41>150,150,IF('4KV2_TuneBuilder'!B41<50,50,'4KV2_TuneBuilder'!B41))","v":137},"\"126\":\"137\",",59,{"$f":"IF('4KV3_TuneBuilder'!B40>5,5,IF('4KV3_TuneBuilder'!B40<0,0,'4KV3_TuneBuilder'!B40))","v":2},"\"59\":\"2\","]
["134:\"118\"","134","118",134,118,true,null,129,{"$f":"IF(V2_TuneBuilder!B42>150,150,IF(V2_TuneBuilder!B42<50,50,V2_TuneBuilder!B42))","v":146},"\"129\":\"146\",",60,{"$f":"IF(V3_TuneBuilder!B41>100,100,IF(V3_TuneBuilder!B41<0,0,V3_TuneBuilder!B41))","v":100},"\"60\":\"100\",",127,{"$f":"IF('4KV2_TuneBuilder'!B42>150,150,IF('4KV2_TuneBuilder'!B42<50,50,'4KV2_TuneBuilder'!B42))","v":140},"\"127\":\"140\",",60,{"$f":"IF('4KV3_TuneBuilder'!B41>100,100,IF('4KV3_TuneBuilder'!B41<0,0,'4KV3_TuneBuilder'!B41))","v":100},"\"60\":\"100\","]
["110:\"0\"","110","0",110,0,true,null,130,{"$f":"IF(V2_TuneBuilder!B43>150,150,IF(V2_TuneBuilder!B43<50,50,V2_TuneBuilder!B43))","v":149},"\"130\":\"149\",",61,{"$f":"IF(V3_TuneBuilder!B42>8,8,IF(V3_TuneBuilder!B42<0,0,V3_TuneBuilder!B42))","v":2},"\"61\":\"2\",",128,{"$f":"IF('4KV2_TuneBuilder'!B43>150,150,IF('4KV2_TuneBuilder'!B43<50,50,'4KV2_TuneBuilder'!B43))","v":143},"\"128\":\"143\",",61,{"$f":"IF('4KV3_TuneBuilder'!B42>8,8,IF('4KV3_TuneBuilder'!B42<0,0,'4KV3_TuneBuilder'!B42))","v":2},"\"61\":\"2\","]
["120:\"74\"","120","74",120,74,true,null,131,{"$f":"IF(V2_TuneBuilder!B44>150,150,IF(V2_TuneBuilder!B44<50,50,V2_TuneBuilder!B44))","v":150},"\"131\":\"150\",",62,{"$f":"IF(V3_TuneBuilder!B43>40,40,IF(V3_TuneBuilder!B43<0,0,V3_TuneBuilder!B43))","v":5},"\"62\":\"5\",",129,{"$f":"IF('4KV2_TuneBuilder'!B44>150,150,IF('4KV2_TuneBuilder'!B44<50,50,'4KV2_TuneBuilder'!B44))","v":146},"\"129\":\"146\",",62,{"$f":"IF('4KV3_TuneBuilder'!B43>40,40,IF('4KV3_TuneBuilder'!B43<0,0,'4KV3_TuneBuilder'!B43))","v":5},"\"62\":\"5\","]
["137:\"17\"","137","17",137,17,true,null,132,{"$f":"IF(V2_TuneBuilder!B45>150,150,IF(V2_TuneBuilder!B45<50,50,V2_TuneBuilder!B45))","v":150},"\"132\":\"150\",",137,{"$f":"IF(V3_TuneBuilder!B45>30,30,IF(V3_TuneBuilder!B45<12,12,V3_TuneBuilder!B45))","v":15},"\"137\":\"15\",",130,{"$f":"IF('4KV2_TuneBuilder'!B45>150,150,IF('4KV2_TuneBuilder'!B45<50,50,'4KV2_TuneBuilder'!B45))","v":149},"\"130\":\"149\",",137,{"$f":"IF('4KV3_TuneBuilder'!B45>30,30,IF('4KV3_TuneBuilder'!B45<12,12,'4KV3_TuneBuilder'!B45))","v":15},"\"137\":\"15\","]
["123:\"80\"","123","80",123,80,true,null,133,{"$f":"IF(V2_TuneBuilder!B46>150,150,IF(V2_TuneBuilder!B46<50,50,V2_TuneBuilder!B46))","v":150},"\"133\":\"150\",",138,{"$f":"IF(V3_TuneBuilder!B46>30,30,IF(V3_TuneBuilder!B46<12,12,V3_TuneBuilder!B46))","v":18},"\"138\":\"18\",",131,{"$f":"IF('4KV2_TuneBuilder'!B46>150,150,IF('4KV2_TuneBuilder'!B46<50,50,'4KV2_TuneBuilder'!B46))","v":150},"\"131\":\"150\",",138,{"$f":"IF('4KV3_TuneBuilder'!B46>30,30,IF('4KV3_TuneBuilder'!B46<12,12,'4KV3_TuneBuilder'!B46))","v":18},"\"138\":\"18\","]
["18:\"100\"","18","100",18,100,true,null,134,{"$f":"IF(V2_TuneBuilder!B47>150,150,IF(V2_TuneBuilder!B47<50,50,V2_TuneBuilder!B47))","v":150},"\"134\":\"150\",",139,{"$f":"IF(V3_TuneBuilder!B47>30,30,IF(V3_TuneBuilder!B47<12,12,V3_TuneBuilder!B47))","v":21},"\"139\":\"21\",",132,{"$f":"IF('4KV2_TuneBuilder'!B47>150,150,IF('4KV2_TuneBuilder'!B47<50,50,'4KV2_TuneBuilder'!B47))","v":150},"\"132\":\"150\",",139,{"$f":"IF('4KV3_TuneBuilder'!B47>30,30,IF('4KV3_TuneBuilder'!B47<12,12,'4KV3_TuneBuilder'!B47))","v":21},"\"139\":\"21\","]
["141:\"29.9\"","141","29.9",141,29.9,true,null,135,{"$f":"IF(V2_TuneBuilder!B48>150,150,IF(V2_TuneBuilder!B48<50,50,V2_TuneBuilder!B48))","v":150},"\"135\":\"150\",",140,{"$f":"IF(V3_TuneBuilder!B48>30,30,IF(V3_TuneBuilder!B48<12,12,V3_TuneBuilder!B48))","v":23},"\"140\":\"23\",",133,{"$f":"IF('4KV2_TuneBuilder'!B48>150,150,IF('4KV2_TuneBuilder'!B48<50,50,'4KV2_TuneBuilder'!B48))","v":150},"\"133\":\"150\",",140,{"$f":"IF('4KV3_TuneBuilder'!B48>30,30,IF('4KV3_TuneBuilder'!B48<12,12,'4KV3_TuneBuilder'!B48))","v":23},"\"140\":\"23\","]
["117:\"70\"}}","117","70",117,70,true,null,136,{"$f":"IF(V2_TuneBuilder!B49>150,150,IF(V2_TuneBuilder!B49<50,50,V2_TuneBuilder!B49))","v":150},{"$f":"$Z$3&H47&$Z$4&I47&$Z$3","v":"\"136\":\"150\""},141,{"$f":"IF(V3_TuneBuilder!B49>30,30,IF(V3_TuneBuilder!B49<12,12,V3_TuneBuilder!B49))","v":26},"\"141\":\"26\",",134,{"$f":"IF('4KV2_TuneBuilder'!B49>150,150,IF('4KV2_TuneBuilder'!B49<50,50,'4KV2_TuneBuilder'!B49))","v":150},"\"134\":\"150\",",142,{"$f":"IF('4KV3_TuneBuilder'!B49>30,30,IF('4KV3_TuneBuilder'!B49<12,12,'4KV3_TuneBuilder'!B49))","v":24},"\"142\":\"24\","]
[null,"","","","",false,null,null,null,null,113,{"$f":"IF(V3_TuneBuilder!B51>150,150,IF(V3_TuneBuilder!B51<50,50,V3_TuneBuilder!B51))","v":101},"\"113\":\"101\",",135,{"$f":"IF('4KV2_TuneBuilder'!B50>150,150,IF('4KV2_TuneBuilder'!B50<50,50,'4KV2_TuneBuilder'!B50))","v":150},"\"135\":\"150\",",143,{"$f":"IF('4KV3_TuneBuilder'!B50>30,30,IF('4KV3_TuneBuilder'!B50<12,12,'4KV3_TuneBuilder'!B50))","v":25},"\"143\":\"25\","]
[null,"","","","",false,null,null,null,null,114,{"$f":"IF(V3_TuneBuilder!B52>150,150,IF(V3_TuneBuilder!B52<50,50,V3_TuneBuilder!B52))","v":103},"\"114\":\"103\",",136,{"$f":"IF('4KV2_TuneBuilder'!B51>150,150,IF('4KV2_TuneBuilder'!B51<50,50,'4KV2_TuneBuilder'!B51))","v":150},"\"136\":\"150\",",141,{"$f":"IF('4KV3_TuneBuilder'!B52>150,150,IF('4KV3_TuneBuilder'!B52<50,50,'4KV3_TuneBuilder'!B52))","v":50},"\"141\":\"50\","]
[null,"","","","",false,null,null,null,null,115,{"$f":"IF(V3_TuneBuilder!B53>150,150,IF(V3_TuneBuilder!B53<50,50,V3_TuneBuilder!B53))","v":105},"\"115\":\"105\",",156,0,"\"156\":\"0\",",113,{"$f":"IF('4KV3_TuneBuilder'!B53>150,150,IF('4KV3_TuneBuilder'!B53<50,50,'4KV3_TuneBuilder'!B53))","v":101},"\"113\":\"101\","]
[null,"","","","",false,null,null,null,null,116,{"$f":"IF(V3_TuneBuilder!B54>150,150,IF(V3_TuneBuilder!B54<50,50,V3_TuneBuilder!B54))","v":107},"\"116\":\"107\",",157,0,"\"157\":\"0\",",114,{"$f":"IF('4KV3_TuneBuilder'!B54>150,150,IF('4KV3_TuneBuilder'!B54<50,50,'4KV3_TuneBuilder'!B54))","v":103},"\"114\":\"103\","]
[null,"","","","",false,null,null,null,null,117,{"$f":"IF(V3_TuneBuilder!B55>150,150,IF(V3_TuneBuilder!B55<50,50,V3_TuneBuilder!B55))","v":110},"\"117\":\"110\",",158,0,"\"158\":\"0\",",115,{"$f":"IF('4KV3_TuneBuilder'!B55>150,150,IF('4KV3_TuneBuilder'!B55<50,50,'4KV3_TuneBuilder'!B55))","v":105},"\"115\":\"105\","]
[null,"","","","",false,null,null,null,null,118,{"$f":"IF(V3_TuneBuilder!B56>150,150,IF(V3_TuneBuilder!B56<50,50,V3_TuneBuilder!B56))","v":113},"\"118\":\"113\",",159,0,"\"159\":\"0\",",116,{"$f":"IF('4KV3_TuneBuilder'!B56>150,150,IF('4KV3_TuneBuilder'!B56<50,50,'4KV3_TuneBuilder'!B56))","v":107},"\"116\":\"107\","]
[null,"","","","",false,null,null,null,null,119,{"$f":"IF(V3_TuneBuilder!B57>150,150,IF(V3_TuneBuilder!B57<50,50,V3_TuneBuilder!B57))","v":116},"\"119\":\"116\",",160,0,"\"160\":\"0\",",117,{"$f":"IF('4KV3_TuneBuilder'!B57>150,150,IF('4KV3_TuneBuilder'!B57<50,50,'4KV3_TuneBuilder'!B57))","v":110},"\"117\":\"110\","]
[null,"","","","",false,null,null,null,null,120,{"$f":"IF(V3_TuneBuilder!B58>150,150,IF(V3_TuneBuilder!B58<50,50,V3_TuneBuilder!B58))","v":119},"\"120\":\"119\",",161,0,"\"161\":\"0\",",118,{"$f":"IF('4KV3_TuneBuilder'!B58>150,150,IF('4KV3_TuneBuilder'!B58<50,50,'4KV3_TuneBuilder'!B58))","v":113},"\"118\":\"113\","]
[null,"","","","",false,null,null,null,null,121,{"$f":"IF(V3_TuneBuilder!B59>150,150,IF(V3_TuneBuilder!B59<50,50,V3_TuneBuilder!B59))","v":122},"\"121\":\"122\",",162,0,"\"162\":\"0\",",119,{"$f":"IF('4KV3_TuneBuilder'!B59>150,150,IF('4KV3_TuneBuilder'!B59<50,50,'4KV3_TuneBuilder'!B59))","v":116},"\"119\":\"116\","]
[null,"","","","",false,null,null,null,null,122,{"$f":"IF(V3_TuneBuilder!B60>150,150,IF(V3_TuneBuilder!B60<50,50,V3_TuneBuilder!B60))","v":125},"\"122\":\"125\",",163,0,"\"163\":\"0\",",120,{"$f":"IF('4KV3_TuneBuilder'!B60>150,150,IF('4KV3_TuneBuilder'!B60<50,50,'4KV3_TuneBuilder'!B60))","v":119},"\"120\":\"119\","]
[null,"","","","",false,null,null,null,null,123,{"$f":"IF(V3_TuneBuilder!B61>150,150,IF(V3_TuneBuilder!B61<50,50,V3_TuneBuilder!B61))","v":128},"\"123\":\"128\",",164,0,"\"164\":\"0\",",121,{"$f":"IF('4KV3_TuneBuilder'!B61>150,150,IF('4KV3_TuneBuilder'!B61<50,50,'4KV3_TuneBuilder'!B61))","v":122},"\"121\":\"122\","]
[null,"","","","",false,null,null,null,null,124,{"$f":"IF(V3_TuneBuilder!B62>150,150,IF(V3_TuneBuilder!B62<50,50,V3_TuneBuilder!B62))","v":131},"\"124\":\"131\",",165,0,"\"165\":\"0\",",122,{"$f":"IF('4KV3_TuneBuilder'!B62>150,150,IF('4KV3_TuneBuilder'!B62<50,50,'4KV3_TuneBuilder'!B62))","v":125},"\"122\":\"125\","]
[null,"","","","",false,null,null,null,null,125,{"$f":"IF(V3_TuneBuilder!B63>150,150,IF(V3_TuneBuilder!B63<50,50,V3_TuneBuilder!B63))","v":134},"\"125\":\"134\",",166,0,"\"166\":\"0\",",123,{"$f":"IF('4KV3_TuneBuilder'!B63>150,150,IF('4KV3_TuneBuilder'!B63<50,50,'4KV3_TuneBuilder'!B63))","v":128},"\"123\":\"128\","]
[null,"","","","",false,null,null,null,null,126,{"$f":"IF(V3_TuneBuilder!B64>150,150,IF(V3_TuneBuilder!B64<50,50,V3_TuneBuilder!B64))","v":137},"\"126\":\"137\",",167,0,"\"167\":\"0\",",124,{"$f":"IF('4KV3_TuneBuilder'!B64>150,150,IF('4KV3_TuneBuilder'!B64<50,50,'4KV3_TuneBuilder'!B64))","v":131},"\"124\":\"131\","]
[null,"","","","",false,null,null,null,null,127,{"$f":"IF(V3_TuneBuilder!B65>150,150,IF(V3_TuneBuilder!B65<50,50,V3_TuneBuilder!B65))","v":140},"\"127\":\"140\",",168,0,"\"168\":\"0\",",125,{"$f":"IF('4KV3_TuneBuilder'!B65>150,150,IF('4KV3_TuneBuilder'!B65<50,50,'4KV3_TuneBuilder'!B65))","v":134},"\"125\":\"134\","]
[null,"","","","",false,null,null,null,null,128,{"$f":"IF(V3_TuneBuilder!B66>150,150,IF(V3_TuneBuilder!B66<50,50,V3_TuneBuilder!B66))","v":143},"\"128\":\"143\",",169,0,"\"169\":\"0\",",126,{"$f":"IF('4KV3_TuneBuilder'!B66>150,150,IF('4KV3_TuneBuilder'!B66<50,50,'4KV3_TuneBuilder'!B66))","v":137},"\"126\":\"137\","]
[null,"","","","",false,null,null,null,null,129,{"$f":"IF(V3_TuneBuilder!B67>150,150,IF(V3_TuneBuilder!B67<50,50,V3_TuneBuilder!B67))","v":146},"\"129\":\"146\",",170,0,"\"170\":\"0\",",127,{"$f":"IF('4KV3_TuneBuilder'!B67>150,150,IF('4KV3_TuneBuilder'!B67<50,50,'4KV3_TuneBuilder'!B67))","v":140},"\"127\":\"140\","]
[null,"","","","",false,null,null,null,null,130,{"$f":"IF(V3_TuneBuilder!B68>150,150,IF(V3_TuneBuilder!B68<50,50,V3_TuneBuilder!B68))","v":149},"\"130\":\"149\",",171,0,"\"171\":\"0\",",128,{"$f":"IF('4KV3_TuneBuilder'!B68>150,150,IF('4KV3_TuneBuilder'!B68<50,50,'4KV3_TuneBuilder'!B68))","v":143},"\"128\":\"143\","]
[null,"","","","",false,null,null,null,null,131,{"$f":"IF(V3_TuneBuilder!B69>150,150,IF(V3_TuneBuilder!B69<50,50,V3_TuneBuilder!B69))","v":150},"\"131\":\"150\",",172,0,"\"172\":\"0\",",129,{"$f":"IF('4KV3_TuneBuilder'!B69>150,150,IF('4KV3_TuneBuilder'!B69<50,50,'4KV3_TuneBuilder'!B69))","v":146},"\"129\":\"146\","]
[null,"","","","",false,null,null,null,null,132,{"$f":"IF(V3_TuneBuilder!B70>150,150,IF(V3_TuneBuilder!B70<50,50,V3_TuneBuilder!B70))","v":150},"\"132\":\"150\",",173,0,"\"173\":\"0\",",130,{"$f":"IF('4KV3_TuneBuilder'!B70>150,150,IF('4KV3_TuneBuilder'!B70<50,50,'4KV3_TuneBuilder'!B70))","v":149},"\"130\":\"149\","]
[null,"",{"$f":"IFERROR(MID(A68,SEARCH(\"\"\"\",A68)+1,SEARCH(\"^\",SUBSTITUTE(A68,\"\"\"\",\"^\",LEN(A68)-LEN(SUBSTITUTE(A68,\"\"\"\",\"\"))))-LEN(LEFT(A68,SEARCH(\"\"\"\",A68)+1))),\"\")","v":""},"","",false,null,null,null,null,133,{"$f":"IF(V3_TuneBuilder!B71>150,150,IF(V3_TuneBuilder!B71<50,50,V3_TuneBuilder!B71))","v":150},"\"133\":\"150\",",174,0,"\"174\":\"0\",",131,{"$f":"IF('4KV3_TuneBuilder'!B71>150,150,IF('4KV3_TuneBuilder'!B71<50,50,'4KV3_TuneBuilder'!B71))","v":150},"\"131\":\"150\","]
[null,{"$f":" IFERROR(LEFT(A69,FIND(\":\",A69)-1),\"\")","v":""},"","","",false,null,null,null,null,134,{"$f":"IF(V3_TuneBuilder!B72>150,150,IF(V3_TuneBuilder!B72<50,50,V3_TuneBuilder!B72))","v":150},{"$f":"$Z$3&K69&$Z$4&L69&$Z$3&$Z$5","v":"\"134\":\"150\","},175,0,"\"175\":\"0\",",132,{"$f":"IF('4KV3_TuneBuilder'!B72>150,150,IF('4KV3_TuneBuilder'!B72<50,50,'4KV3_TuneBuilder'!B72))","v":150},{"$f":"$Z$3&Q69&$Z$4&R69&$Z$3&$Z$5","v":"\"132\":\"150\","}]
[null,"","",{"$f":"IFERROR(VALUE(B70),\"\")","v":""},"",{"$f":"ISNUMBER(E70)","v":false},null,null,null,null,135,{"$f":"IF(V3_TuneBuilder!B73>150,150,IF(V3_TuneBuilder!B73<50,50,V3_TuneBuilder!B73))","v":150},"\"135\":\"150\",",176,0,{"$f":"$Z$3&N70&$Z$4&O70&$Z$3&$Z$5","v":"\"176\":\"0\","},133,{"$f":"IF('4KV3_TuneBuilder'!B73>150,150,IF('4KV3_TuneBuilder'!B73<50,50,'4KV3_TuneBuilder'!B73))","v":150},"\"133\":\"150\","]
[null,"","","","",false,null,null,null,null,136,{"$f":"IF(V3_TuneBuilder!B74>150,150,IF(V3_TuneBuilder!B74<50,50,V3_TuneBuilder!B74))","v":150},{"$f":"$Z$3&K71&$Z$4&L71&$Z$3","v":"\"136\":\"150\""},177,0,"\"177\":\"0\",",134,{"$f":"IF('4KV3_TuneBuilder'!B74>150,150,IF('4KV3_TuneBuilder'!B74<50,50,'4KV3_TuneBuilder'!B74))","v":150},"\"134\":\"150\","]
[null,"","","","",false,null,null,null,null,null,null,null,178,0,"\"178\":\"0\",",135,{"$f":"IF('4KV3_TuneBuilder'!B75>150,150,IF('4KV3_TuneBuilder'!B75<50,50,'4KV3_TuneBuilder'!B75))","v":150},"\"135\":\"150\","]
[null,"","","","",false,null,null,null,null,null,null,null,179,0,"\"179\":\"0\",",136,{"$f":"IF('4KV3_TuneBuilder'!B76>150,150,IF('4KV3_TuneBuilder'!B76<50,50,'4KV3_TuneBuilder'!B76))","v":150},"\"136\":\"150\","]
[null,"","","","",false,null,null,null,null,null,null,null,180,0,{"$f":"$Z$3&N74&$Z$4&O74&$Z$3","v":"\"180\":\"0\""},110,0,{"$f":"$Z$3&Q74&$Z$4&R74&$Z$3","v":"\"110\":\"0\""}]
[null,"","","","",{"$f":"ISNUMBER(E75)","v":false}]
[null,"","","","",{"$f":"ISNUMBER(E76)","v":false},null,{"$f":"B75","v":""}]
[null,"","","","",false,null,""]
[null,"","","","",false,null,""]
[null,"","","","",false,null,""]
[null,"","","","",false,null,""]
[null,"","","","",false,null,""]
[null,"","","","",false,null,""]
[null,"","","","",false,null,""]
[null,"","","","",false,null,""]
[null,"","","","",false,null,""]
[null,"","","","",false,null,""]
[null,"","","","",false,null,""]
[null,"","","","",false,null,""]
[null,"","","","",false,null,""]
[null,"","","","",false,null,""]
[null,"","","","",false,null,""]
[null,"","","","",false,null,""]
[null,"","","","",false,null,""]
[null,"","","","",false,null,""]
[null,"","","","",false,null,""]
[null,"","","","",false,null,""]
[null,"","","","",false,null,""]
[null,"","","","",false,null,""]
[null,"","","","",false,null,""]
[null,"",{"$f":"IFERROR(MID(A100,SEARCH(\"\"\"\",A100)+1,SEARCH(\"^\",SUBSTITUTE(A100,\"\"\"\",\"^\",LEN(A100)-LEN(SUBSTITUTE(A100,\"\"\"\",\"\"))))-LEN(LEFT(A100,SEARCH(\"\"\"\",A100)+1))),\"\")","v":""},"","",false,null,""]
[null,{"$f":" IFERROR(LEFT(A101,FIND(\":\",A101)-1),\"\")","v":""},"","","",false,null,""]
[null,"","","","",false,null,""]
[null,"","","","",false,null,""]
[null,"","","","",false,null,""]
[null,"","","","",false,null,""]
[null,"","","","",false,null,""]
[null,"","","","",false,null,""]
[null,"","","","",false,null,""]
[null,"","","","",false,null,""]
[null,"","","","",false,null,""]
[null,"","","","",false,null,""]
[null,"","","","",false,null,""]
[null,"","","","",false,null,""]
[null,"","","","",false,null,""]
[null,"","","","",false,null,""]
[null,"","","","",false,null,""]
[null,"","","","",false,null,""]
[null,"","","","",false,null,""]
[null,"","","","",false,null,""]
[null,"","","","",false]
[null,"","","","",false]
[null,"","","","",false]
[null,"","","","",false]
[null,"","","","",false]
[null,"","","","",false]
[null,"","","","",false]
[null,"","","","",false]
[null,"","","","",false]
[null,"","","","",false]
[null,"","","","",false]
[null,"","","","",false]
[null,"",{"$f":"IFERROR(MID(A132,SEARCH(\"\"\"\",A132)+1,SEARCH(\"^\",SUBSTITUTE(A132,\"\"\"\",\"^\",LEN(A132)-LEN(SUBSTITUTE(A132,\"\"\"\",\"\"))))-LEN(LEFT(A132,SEARCH(\"\"\"\",A132)+1))),\"\")","v":""},"","",false]
[null,{"$f":" IFERROR(LEFT(A133,FIND(\":\",A133)-1),\"\")","v":""},"","","",false]
[null,"","",{"$f":"IFERROR(VALUE(B134),\"\")","v":""},"",false]
[null,"","","","",false]
[null,"","","","",false]
[null,"","","","",false]
[null,"","","","",false]
[null,"","","","",false]
[null,"","","","",{"$f":"ISNUMBER(E140)","v":false}]
[null,"","","","",false]
[null,"","","","",false]
[null,"","","","",false]
[null,"","","","",false]
[null,"","","","",false]
[null,"","","","",false]
[null,"","","","",false]
[null,"","","","",false]
[null,"","","","",false]
[null,"","","","",false]
[null,"","","","",false]
[null,"","","","",false]
[null,"","","","",false]
[null,"","","","",false]
[null,"","","","",false]
[null,"","","","",false]
[null,"","","","",false]
[null,"","","","",false]
[null,"","","","",false]
[null,"","","","",false]
[null,"","","","",false]
[null,"","","","",false]
[null,"","","","",false]
[null,"",{"$f":"IFERROR(MID(A164,SEARCH(\"\"\"\",A164)+1,SEARCH(\"^\",SUBSTITUTE(A164,\"\"\"\",\"^\",LEN(A164)-LEN(SUBSTITUTE(A164,\"\"\"\",\"\"))))-LEN(LEFT(A164,SEARCH(\"\"\"\",A164)+1))),\"\")","v":""},"","",false]
[null,{"$f":" IFERROR(LEFT(A165,FIND(\":\",A165)-1),\"\")","v":""},"","","",false]
[null,"","","","",false]
[null,"","","","",false]
[null,"","","","",false]
[null,"","","","",false]
[null,"","","","",false]
[null,"","","","",false]
[null,"","","","",false]
[null,"","","","",false]
[null,"","","","",false]
[null,"","","","",false]
[null,"","","","",false]
[null,"","","","",false]
[null,"","","","",false]
[null,"","","","",false]
[null,"","","","",false]
[null,"","","","",false]
[null,"","","","",false]
[null,"","","","",false]
[null,"","","","",false]
[null,"","","","",false]
[null,"","","","",false]
[null,"","","","",false]
[null,"","","","",false]
[null,"","","","",false]
[null,"","","","",false]
[null,"","","","",false]
[null,"","","","",false]
[null,"","","","",false]
[null,"","","","",false]
[null,"","","","",false]
[null,"","","","",false]
[null,{"$f":" IFERROR(LEFT(A197,FIND(\":\",A197)-1),\"\")","v":""},"","","",false]
[null,"","",{"$f":"IFERROR(VALUE(B198),\"\")","v":""},"",false]
[null,"","","","",false]
[null,"","","","",false]

{"sheet":"TuneLookup","index":3,"n_rows":77,"n_cols":17,"rows_kept":77,"cut":false,"hidden":true,"merged":[[52,15,52,16],[0,15,0,16],[3,15,3,16],[5,15,5,16],[12,15,12,16],[38,15,38,16],[44,15,44,16]]}
["Imported Tune Parameters",null,null,"V2 Tune Parameters",null,null,"V3 Tune Parameters",null,null,"4k V2 Tune Parameters",null,null,"4k V3 Tune Parameters",null,null,"Tune Parameters"]
["Number of Power Levels",{"$f":"IFERROR(VLOOKUP($Q$2,RawInput!$D$5:$E$200,2,FALSE),0)","v":8},null,"Number of Power Levels",12,null,"Number of Power Levels",12,null,"Number of Power Levels",12,null,"Number of Power Levels",12,null,"Number of Power Levels",15]
["RPM Limit",{"$f":"IFERROR(VLOOKUP($Q$3,RawInput!$D$5:$E$200,2,FALSE),0)","v":3500},null,"RPM Limit",3200,null,"RPM Limit",3200,null,"RPM Limit",4200,null,"RPM Limit",4200,null,"RPM Limit",104]
["Valet Mode",null,null,"Valet Mode",null,null,"Valet Mode",null,null,"Valet Mode",null,null,"Valet Mode",null,null,"Valet Mode"]
["Maximum Valet Mode Power",{"$f":"IFERROR(VLOOKUP($Q$5,RawInput!$D$5:$E$200,2,FALSE),0)","v":50},null,"Maximum Valet Mode Power",50,null,"Maximum Valet Mode Power",50,null,"Maximum Valet Mode Power",50,null,"Maximum Valet Mode Power",50,null,"Maximum Valet Mode Power",111]
["Pump Tap Parameters List",null,null,"Pump Tap Parameters List",null,null,"Pump Tap Parameters List",null,null,"Pump Tap Parameters List",null,null,"Pump Tap Parameters List",null,null,"Pump Tap Parameters List"]
["Maximum Fuel Stretch",{"$f":"IFERROR(VLOOKUP($Q$7,RawInput!$D$5:$E$200,2,FALSE),0)","v":1200},null,"Maximum Fuel Stretch",1800,null,"Maximum Fuel Stretch",1800,null,"Maximum Fuel Stretch",4400,null,"Maximum Fuel Stretch",4400,null,"Maximum Fuel Stretch",85]
["TPS Pump Maximum",{"$f":"IFERROR(VLOOKUP($Q$8,RawInput!$D$5:$E$200,2,FALSE),0)","v":100},null,"TPS Pump Maximum",100,null,"TPS Pump Maximum",100,null,"TPS Pump Maximum",100,null,"TPS Pump Maximum",100,null,"TPS Pump Maximum",18]
["TPS Pump Minimum",{"$f":"IFERROR(VLOOKUP($Q$9,RawInput!$D$5:$E$200,2,FALSE),0)","v":0},null,"TPS Pump Minimum",10,null,"TPS Pump Minimum",10,null,"TPS Pump Minimum",10,null,"TPS Pump Minimum",10,null,"TPS Pump Minimum",19]
["Min Pump Tap Fueling %",{"$f":"IFERROR(VLOOKUP($Q$10,RawInput!$D$5:$E$200,2,FALSE),0)","v":0},null,"Min Pump Tap Fueling %",10,null,"Pump Tap Min PSI",5,null,"Min Pump Tap Fueling %",10,null,"Pump Tap Min PSI",5,null,"Min Pump Tap Fueling %",110]
["Pump Tap Min PSI",{"$f":"IFERROR(VLOOKUP($Q$11,RawInput!$D$5:$E$200,2,FALSE),0)","v":10},null,"Pump Tap Min PSI",5,null,"Boost Scaling",38,null,"Pump Tap Min PSI",5,null,"Boost Scaling",38,null,"Pump Tap Min PSI",112]
["Boost Scaling",{"$f":"IFERROR(VLOOKUP($Q$12,RawInput!$D$5:$E$200,2,FALSE),0)","v":40},null,"Boost Scaling",38,null,"Wiretap PSI Equlizer",null,null,"Boost Scaling",38,null,"Wiretap PSI Equlizer",null,null,"Boost Scaling",22]
["Wiretap PSI Equlizer",null,null,"Timing Parameters",null,null,"1 PSI ",4,null,"Timing Parameters",null,null,"1 PSI ",4,null,"Wiretap PSI Equlizer"]
["1 PSI",{"$f":"IFERROR(VLOOKUP($Q$14,RawInput!$D$5:$E$200,2,FALSE),0)","v":0},null,"Fuel Load Timing",2,null,"2 PSI ",8,null,"Fuel Load Timing",2,null,"2 PSI ",8,null,"1 PSI ",156]
["2 PSI",{"$f":"IFERROR(VLOOKUP($Q$15,RawInput!$D$5:$E$200,2,FALSE),0)","v":0},null,"Low PSI Timing Reduct",2,null,"3 PSI ",12,null,"Low PSI Timing Reduct",2,null,"3 PSI ",12,null,"2 PSI ",157]
["3 PSI",{"$f":"IFERROR(VLOOKUP($Q$16,RawInput!$D$5:$E$200,2,FALSE),0)","v":0},null,"Timing Reduct Scaling",100,null,"4 PSI ",16,null,"Timing Reduct Scaling",100,null,"4 PSI ",16,null,"3 PSI ",158]
["4 PSI",{"$f":"IFERROR(VLOOKUP($Q$17,RawInput!$D$5:$E$200,2,FALSE),0)","v":0},null,"LightThrottle Timing Adv",2,null,"5 PSI ",20,null,"LightThrottle Timing Adv",2,null,"5 PSI ",20,null,"4 PSI ",159]
["5 PSI",{"$f":"IFERROR(VLOOKUP($Q$18,RawInput!$D$5:$E$200,2,FALSE),0)","v":0},null,"Light Throttle Limit",30,null,"6 PSI ",24,null,"Light Throttle Limit",30,null,"6 PSI ",24,null,"5 PSI ",160]
["6 PSI",{"$f":"IFERROR(VLOOKUP($Q$19,RawInput!$D$5:$E$200,2,FALSE),0)","v":0},null,"Timing Equilzer",null,null,"7 PSI ",28,null,"Timing Equilzer",null,null,"7 PSI ",28,null,"6 PSI ",161]
["7 PSI",{"$f":"IFERROR(VLOOKUP($Q$20,RawInput!$D$5:$E$200,2,FALSE),0)","v":0},null,"1500RPM",15,null,"8 PSI ",32,null,"1500RPM",15,null,"8 PSI ",32,null,"7 PSI ",162]
["8 PSI",{"$f":"IFERROR(VLOOKUP($Q$21,RawInput!$D$5:$E$200,2,FALSE),0)","v":0},null,"2000RPM",18,null,"9 PSI ",36,null,"2000RPM",18,null,"9 PSI ",36,null,"8 PSI ",163]
["9 PSI",{"$f":"IFERROR(VLOOKUP($Q$22,RawInput!$D$5:$E$200,2,FALSE),0)","v":0},null,"2500RPM",21,null,"10 PSI ",40,null,"2500RPM",21,null,"10 PSI ",40,null,"9 PSI ",164]
["10 PSI",{"$f":"IFERROR(VLOOKUP($Q$23,RawInput!$D$5:$E$200,2,FALSE),0)","v":0},null,"3000RPM",23,null,"12 PSI ",44,null,"3000RPM",23,null,"12 PSI ",44,null,"10 PSI ",165]
["12 PSI",{"$f":"IFERROR(VLOOKUP($Q$24,RawInput!$D$5:$E$200,2,FALSE),0)","v":0},null,"MAX",26,null,"14 PSI ",48,null,"3500RPM",24,null,"14 PSI ",48,null,"12 PSI ",166]
["14 PSI",{"$f":"IFERROR(VLOOKUP($Q$25,RawInput!$D$5:$E$200,2,FALSE),0)","v":0},null,"Boost Level Fueling - CAN Bus",null,null,"16 PSI ",52,null,"4000RPM",25,null,"16 PSI ",52,null,"14 PSI ",167]
["16 PSI",{"$f":"IFERROR(VLOOKUP($Q$26,RawInput!$D$5:$E$200,2,FALSE),0)","v":0},null,"0 PSI",101,null,"18 PSI ",56,null,"MAX",26,null,"18 PSI ",56,null,"16 PSI ",168]
["18 PSI",{"$f":"IFERROR(VLOOKUP($Q$27,RawInput!$D$5:$E$200,2,FALSE),0)","v":0},null,"1 PSI",103,null,"20 PSI ",60,null,"Boost Level Fueling - CAN Bus",null,null,"20 PSI ",60,null,"18 PSI ",169]
["20 PSI",{"$f":"IFERROR(VLOOKUP($Q$28,RawInput!$D$5:$E$200,2,FALSE),0)","v":0},null,"2 PSI",105,null,"22 PSI ",64,null,"0 PSI",101,null,"22 PSI ",64,null,"20 PSI ",170]
["22 PSI",{"$f":"IFERROR(VLOOKUP($Q$29,RawInput!$D$5:$E$200,2,FALSE),0)","v":0},null,"3 PSI",107,null,"24 PSI ",68,null,"1 PSI",103,null,"24 PSI ",68,null,"22 PSI ",171]
["24 PSI",{"$f":"IFERROR(VLOOKUP($Q$30,RawInput!$D$5:$E$200,2,FALSE),0)","v":0},null,"4 PSI",110,null,"26 PSI ",72,null,"2 PSI",105,null,"26 PSI ",72,null,"24 PSI ",172]
["26 PSI",{"$f":"IFERROR(VLOOKUP($Q$31,RawInput!$D$5:$E$200,2,FALSE),0)","v":0},null,"5 PSI",113,null,"28 PSI ",76,null,"3 PSI",107,null,"28 PSI ",76,null,"26 PSI ",173]
["28 PSI",{"$f":"IFERROR(VLOOKUP($Q$32,RawInput!$D$5:$E$200,2,FALSE),0)","v":0},null,"6 PSI",116,null,"30 PSI ",80,null,"4 PSI",110,null,"30 PSI ",80,null,"28 PSI ",174]
["30 PSI",{"$f":"IFERROR(VLOOKUP($Q$33,RawInput!$D$5:$E$200,2,FALSE),0)","v":0},null,"7 PSI",119,null,"32 PSI ",84,null,"5 PSI",113,null,"32 PSI ",84,null,"30 PSI ",175]
["32 PSI",{"$f":"IFERROR(VLOOKUP($Q$34,RawInput!$D$5:$E$200,2,FALSE),0)","v":0},null,"8 PSI",122,null,"34 PSI ",88,null,"6 PSI",116,null,"34 PSI ",88,null,"32 PSI ",176]
["34 PSI",{"$f":"IFERROR(VLOOKUP($Q$35,RawInput!$D$5:$E$200,2,FALSE),0)","v":0},null,"9 PSI",125,null,"36 PSI ",92,null,"7 PSI",119,null,"36 PSI ",92,null,"34 PSI ",177]
["36 PSI",{"$f":"IFERROR(VLOOKUP($Q$36,RawInput!$D$5:$E$200,2,FALSE),0)","v":0},null,"10 PSI",128,null,"38 PSI ",96,null,"8 PSI",122,null,"38 PSI ",96,null,"36 PSI ",178]
["38 PSI",{"$f":"IFERROR(VLOOKUP($Q$37,RawInput!$D$5:$E$200,2,FALSE),0)","v":0},null,"11 PSI",131,null,"40 PSI ",100,null,"9 PSI",125,null,"40 PSI ",100,null,"38 PSI ",179]
["40 PSI",{"$f":"IFERROR(VLOOKUP($Q$38,RawInput!$D$5:$E$200,2,FALSE),0)","v":0},null,"12 PSI",134,null,"Timing Parameters",null,null,"10 PSI",128,null,"Timing Parameters",null,null,"40 PSI ",180]
["Timing Parameters",null,null,"13 PSI",137,null,"Fuel Load Timing",2,null,"11 PSI",131,null,"Fuel Load Timing",2,null,"Timing Parameters"]
["Fuel Load Timing",{"$f":"IFERROR(VLOOKUP($Q$40,RawInput!$D$5:$E$200,2,FALSE),0)","v":2.9},null,"14 PSI",140,null,"Low PSI Timing Reduct",2,null,"12 PSI",134,null,"Low PSI Timing Reduct",2,null,"Fuel Load Timing",17]
["Low PSI Timing Reduct",{"$f":"IFERROR(VLOOKUP($Q$41,RawInput!$D$5:$E$200,2,FALSE),0)","v":4.9000000000000004},null,"15 PSI",143,null,"Timing Reduct Scaling",100,null,"13 PSI",137,null,"Timing Reduct Scaling",100,null,"Low PSI Timing Reduct",59]
["Timing Reduct Scaling",{"$f":"IFERROR(VLOOKUP($Q$42,RawInput!$D$5:$E$200,2,FALSE),0)","v":50},null,"16 PSI",146,null,"LightThrottle Timing Adv",2,null,"14 PSI",140,null,"LightThrottle Timing Adv",2,null,"Timing Reduct Scaling",60]
["LightThrottle Timing Adv",{"$f":"IFERROR(VLOOKUP($Q$43,RawInput!$D$5:$E$200,2,FALSE),0)","v":1.5},null,"18 PSI",149,null,"Light Throttle Limit",5,null,"15 PSI",143,null,"Light Throttle Limit",5,null,"LightThrottle Timing Adv",61]
["Light Throttle Limit",{"$f":"IFERROR(VLOOKUP($Q$44,RawInput!$D$5:$E$200,2,FALSE),0)","v":30},null,"20 PSI",150,null,"Timing Equilzer",null,null,"16 PSI",146,null,"Timing Equilzer",null,null,"Light Throttle Limit",62]
["Timing Equilzer",null,null,"22 PSI",150,null,"1500RPM",15,null,"18 PSI",149,null,"1500RPM",15,null,"Timing Equilzer"]
["1500RPM",{"$f":"IFERROR(VLOOKUP($Q$46,RawInput!$D$5:$E$200,2,FALSE),0)","v":17},null,"24 PSI",150,null,"2000RPM",18,null,"20 PSI",150,null,"2000RPM",18,null,"1500RPM",137]
["2000RPM",{"$f":"IFERROR(VLOOKUP($Q$47,RawInput!$D$5:$E$200,2,FALSE),0)","v":20},null,"26 PSI",150,null,"2500RPM",21,null,"22 PSI",150,null,"2500RPM",21,null,"2000RPM",138]
["2500RPM",{"$f":"IFERROR(VLOOKUP($Q$48,RawInput!$D$5:$E$200,2,FALSE),0)","v":25},null,"28 PSI",150,null,"3000RPM",23,null,"24 PSI",150,null,"3000RPM",23,null,"2500RPM",139]
["3000RPM",{"$f":"IFERROR(VLOOKUP($Q$49,RawInput!$D$5:$E$200,2,FALSE),0)","v":27.9},null,"30+ PSI",150,null,"MAX",26,null,"26 PSI",150,null,"3500RPM",24,null,"3000RPM",140]
["3500RPM",{"$f":"IFERROR(VLOOKUP($Q$50,RawInput!$D$5:$E$200,2,FALSE),0)","v":0},null,null,null,null,"Boost Level Fueling - CAN Bus",null,null,"28 PSI",150,null,"4000RPM",25,null,"3500RPM",142]
["4000RPM",{"$f":"IFERROR(VLOOKUP($Q$51,RawInput!$D$5:$E$200,2,FALSE),0)","v":0},null,null,null,null,"0 PSI",101,null,"30+ PSI",150,null,"MAX",26,null,"4000RPM",143]
["MAX",{"$f":"IFERROR(VLOOKUP($Q$52,RawInput!$D$5:$E$200,2,FALSE),0)","v":29.9},null,null,null,null,"1 PSI",103,null,null,null,null,"Boost Level Fueling - CAN Bus",null,null,"MAX",141]
["Boost Level Fueling - CAN Bus",null,null,null,null,null,"2 PSI",105,null,null,null,null,"0 PSI",101,null,"Boost Level Fueling - CAN Bus"]
["0 PSI",{"$f":"IFERROR(VLOOKUP($Q$54,RawInput!$D$5:$E$200,2,FALSE),0)","v":66},null,null,null,null,"3 PSI",107,null,null,null,null,"1 PSI",103,null,"0 PSI",113]
["1 PSI",{"$f":"IFERROR(VLOOKUP($Q$55,RawInput!$D$5:$E$200,2,FALSE),0)","v":66},null,null,null,null,"4 PSI",110,null,null,null,null,"2 PSI",105,null,"1 PSI",114]
["2 PSI",{"$f":"IFERROR(VLOOKUP($Q$56,RawInput!$D$5:$E$200,2,FALSE),0)","v":67},null,null,null,null,"5 PSI",113,null,null,null,null,"3 PSI",107,null,"2 PSI",115]
["3 PSI",{"$f":"IFERROR(VLOOKUP($Q$57,RawInput!$D$5:$E$200,2,FALSE),0)","v":68},null,null,null,null,"6 PSI",116,null,null,null,null,"4 PSI",110,null,"3 PSI",116]
["4 PSI",{"$f":"IFERROR(VLOOKUP($Q$58,RawInput!$D$5:$E$200,2,FALSE),0)","v":70},null,null,null,null,"7 PSI",119,null,null,null,null,"5 PSI",113,null,"4 PSI",117]
["5 PSI",{"$f":"IFERROR(VLOOKUP($Q$59,RawInput!$D$5:$E$200,2,FALSE),0)","v":71},null,null,null,null,"8 PSI",122,null,null,null,null,"6 PSI",116,null,"5 PSI",118]
["6 PSI",{"$f":"IFERROR(VLOOKUP($Q$60,RawInput!$D$5:$E$200,2,FALSE),0)","v":72},null,null,null,null,"9 PSI",125,null,null,null,null,"7 PSI",119,null,"6 PSI",119]
["7 PSI",{"$f":"IFERROR(VLOOKUP($Q$61,RawInput!$D$5:$E$200,2,FALSE),0)","v":74},null,null,null,null,"10 PSI",128,null,null,null,null,"8 PSI",122,null,"7 PSI",120]
["8 PSI",{"$f":"IFERROR(VLOOKUP($Q$62,RawInput!$D$5:$E$200,2,FALSE),0)","v":76},null,null,null,null,"11 PSI",131,null,null,null,null,"9 PSI",125,null,"8 PSI",121]
["9 PSI",{"$f":"IFERROR(VLOOKUP($Q$63,RawInput!$D$5:$E$200,2,FALSE),0)","v":78},null,null,null,null,"12 PSI",134,null,null,null,null,"10 PSI",128,null,"9 PSI",122]
["10 PSI",{"$f":"IFERROR(VLOOKUP($Q$64,RawInput!$D$5:$E$200,2,FALSE),0)","v":80},null,null,null,null,"13 PSI",137,null,null,null,null,"11 PSI",131,null,"10 PSI",123]
["11 PSI",{"$f":"IFERROR(VLOOKUP($Q$65,RawInput!$D$5:$E$200,2,FALSE),0)","v":82},null,null,null,null,"14 PSI",140,null,null,null,null,"12 PSI",134,null,"11 PSI",124]
["12 PSI",{"$f":"IFERROR(VLOOKUP($Q$66,RawInput!$D$5:$E$200,2,FALSE),0)","v":84},null,null,null,null,"15 PSI",143,null,null,null,null,"13 PSI",137,null,"12 PSI",125]
["13 PSI",{"$f":"IFERROR(VLOOKUP($Q$67,RawInput!$D$5:$E$200,2,FALSE),0)","v":86},null,null,null,null,"16 PSI",146,null,null,null,null,"14 PSI",140,null,"13 PSI",126]
["14 PSI",{"$f":"IFERROR(VLOOKUP($Q$68,RawInput!$D$5:$E$200,2,FALSE),0)","v":90},null,null,null,null,"18 PSI",149,null,null,null,null,"15 PSI",143,null,"14 PSI",127]
["15 PSI",{"$f":"IFERROR(VLOOKUP($Q$69,RawInput!$D$5:$E$200,2,FALSE),0)","v":94},null,null,null,null,"20 PSI",150,null,null,null,null,"16 PSI",146,null,"15 PSI",128]
["16 PSI",{"$f":"IFERROR(VLOOKUP($Q$70,RawInput!$D$5:$E$200,2,FALSE),0)","v":98},null,null,null,null,"22 PSI",150,null,null,null,null,"18 PSI",149,null,"16 PSI",129]
["18 PSI",{"$f":"IFERROR(VLOOKUP($Q$71,RawInput!$D$5:$E$200,2,FALSE),0)","v":102},null,null,null,null,"24 PSI",150,null,null,null,null,"20 PSI",150,null,"18 PSI",130]
["20 PSI",{"$f":"IFERROR(VLOOKUP($Q$72,RawInput!$D$5:$E$200,2,FALSE),0)","v":106},null,null,null,null,"26 PSI",150,null,null,null,null,"22 PSI",150,null,"20 PSI",131]
["22 PSI",{"$f":"IFERROR(VLOOKUP($Q$73,RawInput!$D$5:$E$200,2,FALSE),0)","v":110},null,null,null,null,"28 PSI",150,null,null,null,null,"24 PSI",150,null,"22 PSI",132]
["24 PSI",{"$f":"IFERROR(VLOOKUP($Q$74,RawInput!$D$5:$E$200,2,FALSE),0)","v":114},null,null,null,null,"30+ PSI",150,null,null,null,null,"26 PSI",150,null,"24 PSI",133]
["26 PSI",{"$f":"IFERROR(VLOOKUP($Q$75,RawInput!$D$5:$E$200,2,FALSE),0)","v":118},null,null,null,null,null,null,null,null,null,null,"28 PSI",150,null,"26 PSI",134]
["28 PSI",{"$f":"IFERROR(VLOOKUP($Q$76,RawInput!$D$5:$E$200,2,FALSE),0)","v":120},null,null,null,null,null,null,null,null,null,null,"30+ PSI",150,null,"28 PSI",135]
["30+ PSI",{"$f":"IFERROR(VLOOKUP($Q$77,RawInput!$D$5:$E$200,2,FALSE),0)","v":120},null,null,null,null,null,null,null,null,null,null,null,null,null,"30+ PSI",136]

{"sheet":"DefaultBuilder","index":4,"n_rows":51,"n_cols":52,"rows_kept":51,"cut":false,"hidden":true,"merged":[]}
[null,null,null,null,null,"All Inputs",null,"Testing",null,null,null,null,null,null,null,"Canbus Up or down",null,null,null,null,null,null,"Wire Tap Up Down",null,null,null,null,null,null,null,null,null,"Timing",null,null,null,null,null,null,"Timing Reduction",null,null,"Altitude","HorsePower","InjectorType","Low","Mid","High","Time","Scale","Reduce","Type"]
[null,null,null,null,null,"Inputs","Offset","Inputs","Offset","Inputs","Offset","Inputs","Offset","V2",null,"V3",null,"4KV2",null,"4KV3",null,"V3",null,"4KV3",null,"V2",null,"V3",null,"4KV2",null,"4KV3",null,"V2",null,"V3",null,"4KV2",null,"4KV3"]
[null,null,null,"TuneType",null,null,{"$f":"IF($D$4=\"Mild\",3,IF($D$4=\"Daily\",0,IF($D$4=\"Tow\",2,IF($D$4=\"Street\",-5,IF($D$4=\"Race\",-12,0)))))","v":0},null,{"$f":"IF($D$4=\"Mild\",3,IF($D$4=\"Daily\",0,IF($D$4=\"Tow\",2,IF($D$4=\"Street\",-5,IF($D$4=\"Race\",-12,0)))))","v":0},null,{"$f":"IF($D$4=\"Mild\",3,IF($D$4=\"Daily\",0,IF($D$4=\"Tow\",2,IF($D$4=\"Street\",-5,IF($D$4=\"Race\",-12,0)))))","v":0},null,{"$f":"IF($D$4=\"Mild\",3,IF($D$4=\"Daily\",0,IF($D$4=\"Tow\",2,IF($D$4=\"Street\",-5,IF($D$4=\"Race\",-12,0)))))","v":0},null,null,null,null,null,null,null,null,null,null,null,null,"1500RPM",2,"1500RPM",null,"1500RPM",null,"1500RPM",null,null,null,null,null,null,null,null,null,null,0,0,"SAC",-5,-5,-5,-2,10,0,"Mild"]
[null,null,null,"Daily","Altitude",4000,{"$f":"F4*0.0025","v":10},500,{"$f":"H4*0.0025","v":1.25},5000,{"$f":"J4*0.0025","v":12.5},600,{"$f":"L4*0.0025","v":1.5},"Low 1-9",null,"Low 0-7",0,"Low 0-7",null,"Low 0-7",null,"Low 0-7",null,"Low 1-9",null,"2000RPM",null,"2000RPM",null,"2000RPM",null,"2000RPM",null,"LPTR",2,"LPTR",2,"LPTR",null,"LPTR",null,null,250,25,"VCO",-4,-4,-4,-1,20,1,"Daily"]
[null,null,null,null,"Injector",175,{"$f":"IF(F5<151,F5*0.035,(IF(F5<226,F5*0.06,F5*0.09)))","v":10.5},75,{"$f":"IF(H5<151,H5*0.035,(IF(H5<226,H5*0.06,H5*0.09)))","v":2.6250000000000004},150,{"$f":"IF(J5<151,J5*0.035,(IF(J5<226,J5*0.06,J5*0.09)))","v":5.2500000000000009},0,{"$f":"IF(L5<151,L5*0.035,(IF(L5<226,L5*0.06,L5*0.09)))","v":0},"Mid 10-26",null,"Mid 8-15",null,"Mid 8-15",null,"Mid 8-15",null,"Mid 8-15",null,"Mid 10-26",null,"2500RPM",null,"2500RPM",null,"2500RPM",null,"2500RPM",null,"Scale",50,"Scale",100,"Scale",null,"Scale",null,null,500,50,null,-3,-3,-3,0,30,2,"Tow"]
[null,null,null,null,"Tip","VCO",{"$f":"IF(F6=\"VCO\",0,2)","v":0},"VCO",{"$f":"IF(H6=\"VCO\",0,2)","v":0},"SAC",{"$f":"IF(J6=\"VCO\",0,2)","v":2},"SAC",{"$f":"IF(L6=\"VCO\",0,2)","v":2},"High 26-40+",null,"High 16-30+",null,"High 16-30+",null,"High 16-30+",null,"High 16-30+",null,"High 26-40+",null,"3000RPM",null,"3000RPM",null,"3000RPM",null,"3000RPM",null,null,null,null,null,null,null,null,null,null,750,75,null,-2,-2,-2,1,40,3,"Street"]
[null,null,null,null,null,"Total ",{"$f":"SUM(G3:G6)","v":20.5},"Total ",{"$f":"SUM(I3:I6)","v":3.8750000000000004},"Total ",{"$f":"SUM(K3:K6)","v":19.75},"Total ",{"$f":"SUM(M3:M6)","v":3.5},"Value",null,"Value",null,"Value",null,"Value",null,"Value",0,"Value",null,"MAX",null,"MAX",null,"3500RPM",null,"3500RPM",null,null,null,null,null,null,null,null,null,null,1000,100,null,-1,-1,-1,2,50,4,"Race"]
[null,null,null,null,150,101,{"$f":"IF(ROUNDDOWN(F8-$G$7,0)>150,150,IF(ROUNDDOWN(F8-$G$7,0)<50,50,ROUNDDOWN(F8-$G$7,0)))","v":80},101,{"$f":"IF(ROUNDDOWN(H8-$I$7,0)>150,150,IF(ROUNDDOWN(H8-$I$7,0)<50,50,ROUNDDOWN(H8-$I$7,0)))","v":97},101,{"$f":"IF(ROUNDDOWN(J8-$K$7,0)>150,150,IF(ROUNDDOWN(J8-$K$7,0)<50,50,ROUNDDOWN(J8-$K$7,0)))","v":81},101,{"$f":"IF(ROUNDDOWN(L8-$M$7,0)>150,150,IF(ROUNDDOWN(L8-$M$7,0)<50,50,ROUNDDOWN(L8-$M$7,0)))","v":97},{"$f":"V2_TuneBuilder!B26","v":101},{"$f":"IF(SUM(N8,$O$4)>150,150,IF(SUM(N8,$O$4)<50,50,SUM(N8,$O$4)))","v":101},{"$f":"V3_TuneBuilder!B51","v":101},{"$f":"IF(SUM(P8,$Q$4)>150,150,IF(SUM(P8,$Q$4)<50,50,SUM(P8,$Q$4)))","v":101},{"$f":"'4KV2_TuneBuilder'!B28","v":101},{"$f":"IF(SUM(R8,$S$4)>150,150,IF(SUM(R8,$S$4)<50,50,SUM(R8,$S$4)))","v":101},{"$f":"'4KV3_TuneBuilder'!B53","v":101},{"$f":"IF(SUM(T8,$U$4)>150,150,IF(SUM(T8,$U$4)<50,50,SUM(T8,$U$4)))","v":101},{"$f":"V3_TuneBuilder!B13","v":4},{"$f":"IF(SUM(V8,$W$4)>100,100,IF(SUM(V8,$W$4)<0,0,SUM(V8,$W$4)))","v":4},{"$f":"'4KV3_TuneBuilder'!B13","v":4},{"$f":"IF(SUM(X8,$Y$4)>100,100,IF(SUM(X8,$Y$4)<0,0,SUM(X8,$Y$4)))","v":4},null,null,null,null,"4000RPM",null,"4000RPM",null,null,null,null,null,null,null,null,null,null,1250,125,null,0,0,0,null,60,5,"Extreme"]
[null,null,null,null,150,103,{"$f":"IF(ROUNDDOWN(F9-$G$7,0)>150,150,IF(ROUNDDOWN(F9-$G$7,0)<50,50,ROUNDDOWN(F9-$G$7,0)))","v":82},103,{"$f":"IF(ROUNDDOWN(H9-$I$7,0)>150,150,IF(ROUNDDOWN(H9-$I$7,0)<50,50,ROUNDDOWN(H9-$I$7,0)))","v":99},103,{"$f":"IF(ROUNDDOWN(J9-$K$7,0)>150,150,IF(ROUNDDOWN(J9-$K$7,0)<50,50,ROUNDDOWN(J9-$K$7,0)))","v":83},103,{"$f":"ROUNDDOWN(L9-$M$7,0)","v":99},{"$f":"V2_TuneBuilder!B27","v":103},{"$f":"IF(SUM(N9,$O$4)>150,150,IF(SUM(N9,$O$4)<50,50,SUM(N9,$O$4)))","v":103},{"$f":"V3_TuneBuilder!B52","v":103},{"$f":"IF(SUM(P9,$Q$4)>150,150,IF(SUM(P9,$Q$4)<50,50,SUM(P9,$Q$4)))","v":103},{"$f":"'4KV2_TuneBuilder'!B29","v":103},{"$f":"IF(SUM(R9,$S$4)>150,150,IF(SUM(R9,$S$4)<50,50,SUM(R9,$S$4)))","v":103},{"$f":"'4KV3_TuneBuilder'!B54","v":103},{"$f":"IF(SUM(T9,$U$4)>150,150,IF(SUM(T9,$U$4)<50,50,SUM(T9,$U$4)))","v":103},{"$f":"V3_TuneBuilder!B14","v":8},{"$f":"IF(SUM(V9,$W$4)>100,100,IF(SUM(V9,$W$4)<0,0,SUM(V9,$W$4)))","v":8},{"$f":"'4KV3_TuneBuilder'!B14","v":8},{"$f":"IF(SUM(X9,$Y$4)>100,100,IF(SUM(X9,$Y$4)<0,0,SUM(X9,$Y$4)))","v":8},null,null,null,null,"Max",0,"Max",null,null,null,null,null,null,null,null,null,null,1500,150,null,1,1,1,null,70]
[null,null,"Fuel Stretch",null,150,105,84,105,101,105,85,105,101,{"$f":"V2_TuneBuilder!B28","v":105},105,{"$f":"V3_TuneBuilder!B53","v":105},105,{"$f":"'4KV2_TuneBuilder'!B30","v":105},105,{"$f":"'4KV3_TuneBuilder'!B55","v":105},105,{"$f":"V3_TuneBuilder!B15","v":12},12,{"$f":"'4KV3_TuneBuilder'!B15","v":12},12,{"$f":"V2_TuneBuilder!B20","v":15},{"$f":"IF(SUM(Z10,AA3)>17,17,IF(SUM(Z10,AA3)<12,12,SUM(Z10,AA3)))","v":17},{"$f":"V3_TuneBuilder!B45","v":15},{"$f":"IF(SUM(AB10,AC3)>17,17,IF(SUM(AB10,AC3)<12,12,SUM(AB10,AC3)))","v":15},{"$f":"'4KV2_TuneBuilder'!B20","v":15},{"$f":"IF(SUM(AD10,AE3)>17,17,IF(SUM(AD10,AE3)<12,12,SUM(AD10,AE3)))","v":15},{"$f":"'4KV3_TuneBuilder'!B45","v":15},{"$f":"IF(SUM(AF10,AG3)>17,17,IF(SUM(AF10,AG3)<12,12,SUM(AF10,AG3)))","v":15},null,null,null,null,null,null,null,null,null,1750,175,null,2,2,2,null,80]
[null,null,"V2",{"$f":"IF(D4=\"Tow\",1200,IF(OR(F5<51,D4=\"Extreme\"),1800,IF(OR(F5<101,D4=\"Race\"),1700,IF(F5<151,1600,IF(OR(F5<201,D4=\"Daily\"),1500,IF(OR(F5<251,D4=\"Mild\"),1350,1200))))))","v":1500},150,107,86,107,103,107,87,107,103,{"$f":"V2_TuneBuilder!B29","v":107},107,{"$f":"V3_TuneBuilder!B54","v":107},107,{"$f":"'4KV2_TuneBuilder'!B31","v":107},107,{"$f":"'4KV3_TuneBuilder'!B56","v":107},107,{"$f":"V3_TuneBuilder!B16","v":16},16,{"$f":"'4KV3_TuneBuilder'!B16","v":16},16,{"$f":"V2_TuneBuilder!B21","v":18},{"$f":"IF(SUM(Z11,AA4)>22,22,IF(SUM(Z11,AA4)<13,13,SUM(Z11,AA4)))","v":18},{"$f":"V3_TuneBuilder!B46","v":18},{"$f":"IF(SUM(AB11,AC4)>22,22,IF(SUM(AB11,AC4)<13,13,SUM(AB11,AC4)))","v":18},{"$f":"'4KV2_TuneBuilder'!B21","v":18},{"$f":"IF(SUM(AD11,AE4)>22,30,IF(SUM(AD11,AE4)<13,13,SUM(AD11,AE4)))","v":18},{"$f":"'4KV3_TuneBuilder'!B46","v":18},{"$f":"IF(SUM(AF11,AG4)>22,22,IF(SUM(AF11,AG4)<13,13,SUM(AF11,AG4)))","v":18},null,null,null,null,null,null,null,null,null,2000,200,null,3,3,3,null,90]
[null,null,"V3",{"$f":"IF(D4=\"Tow\",1200,IF(OR(H5<51,D4=\"Extreme\"),1800,IF(OR(H5<101,D4=\"Race\"),1700,IF(H5<151,1600,IF(OR(H5<201,D4=\"Tow\",D4=\"Daily\"),1500,IF(OR(H5<251,\"Mild\"),1350,1200))))))","v":1700},150,110,89,110,106,110,90,110,106,{"$f":"V2_TuneBuilder!B30","v":110},110,{"$f":"V3_TuneBuilder!B55","v":110},110,{"$f":"'4KV2_TuneBuilder'!B32","v":110},110,{"$f":"'4KV3_TuneBuilder'!B57","v":110},110,{"$f":"V3_TuneBuilder!B17","v":20},20,{"$f":"'4KV3_TuneBuilder'!B17","v":20},20,{"$f":"V2_TuneBuilder!B22","v":21},{"$f":"IF(SUM(Z12,AA5)>25,25,IF(SUM(Z12,AA5)<18,18,SUM(Z12,AA5)))","v":21},{"$f":"V3_TuneBuilder!B47","v":21},{"$f":"IF(SUM(AB12,AC5)>25,25,IF(SUM(AB12,AC5)<18,18,SUM(AB12,AC5)))","v":21},{"$f":"'4KV2_TuneBuilder'!B22","v":21},{"$f":"IF(SUM(AD12,AE5)>25,25,IF(SUM(AD12,AE5)<18,18,SUM(AD12,AE5)))","v":21},{"$f":"'4KV3_TuneBuilder'!B47","v":21},{"$f":"IF(SUM(AF12,AG5)>25,25,IF(SUM(AF12,AG5)<18,18,SUM(AF12,AG5)))","v":21},null,null,null,null,null,null,null,null,null,2250,225,null,4,4,4,null,100]
[null,null,"V24K",{"$f":"IF(D4=\"Tow\",4000,IF(OR(J5<51,D4=\"Extreme\"),6000,IF(OR(J5<101,D4=\"Race\"),5600,IF(J5<151,5000,IF(OR(J5<201,D4=\"Tow\",D4=\"Daily\"),4800,IF(OR(J5<251,\"Mild\"),4500,4200))))))","v":5000},150,113,92,113,109,113,93,113,109,{"$f":"V2_TuneBuilder!B31","v":113},113,{"$f":"V3_TuneBuilder!B56","v":113},113,{"$f":"'4KV2_TuneBuilder'!B33","v":113},113,{"$f":"'4KV3_TuneBuilder'!B58","v":113},113,{"$f":"V3_TuneBuilder!B18","v":24},24,{"$f":"'4KV3_TuneBuilder'!B18","v":24},24,{"$f":"V2_TuneBuilder!B23","v":23},{"$f":"IF(SUM(Z13,AA6)>30,30,IF(SUM(Z13,AA6)<20,20,SUM(Z13,AA6)))","v":23},{"$f":"V3_TuneBuilder!B48","v":23},{"$f":"IF(SUM(AB13,AC6)>30,30,IF(SUM(AB13,AC6)<20,20,SUM(AB13,AC6)))","v":23},{"$f":"'4KV2_TuneBuilder'!B23","v":23},{"$f":"IF(SUM(AD13,AE6)>30,30,IF(SUM(AD13,AE6)<20,20,SUM(AD13,AE6)))","v":23},{"$f":"'4KV3_TuneBuilder'!B48","v":23},{"$f":"IF(SUM(AF13,AG6)>30,30,IF(SUM(AF13,AG6)<20,20,SUM(AF13,AG6)))","v":23},null,null,null,null,null,null,null,null,null,2500,250,null,5,5,5]
[null,null,"V34k",{"$f":"IF(D4=\"Tow\",4000,IF(OR(L5<51,D4=\"Extreme\"),6000,IF(OR(L5<101,D4=\"Race\"),5600,IF(L5<151,5000,IF(OR(L5<201,D4=\"Tow\",D4=\"Daily\"),4800,IF(OR(L5<251,\"Mild\"),4500,4200))))))","v":6000},150,116,95,116,112,116,96,116,112,{"$f":"V2_TuneBuilder!B32","v":116},116,{"$f":"V3_TuneBuilder!B57","v":116},116,{"$f":"'4KV2_TuneBuilder'!B34","v":116},116,{"$f":"'4KV3_TuneBuilder'!B59","v":116},116,{"$f":"V3_TuneBuilder!B19","v":28},28,{"$f":"'4KV3_TuneBuilder'!B19","v":28},28,{"$f":"V2_TuneBuilder!B24","v":26},{"$f":"IF(SUM(Z14,AA7)>30,30,IF(SUM(Z14,AA7)<23,23,SUM(Z14,AA7)))","v":26},{"$f":"V3_TuneBuilder!B49","v":26},{"$f":"IF(SUM(AB14,AC7)>30,30,IF(SUM(AB14,AC7)<23,0,SUM(AB14,AC7)))","v":26},{"$f":"'4KV2_TuneBuilder'!B24","v":24},{"$f":"IF(SUM(AD14,AE7)>30,30,IF(SUM(AD14,AE7)<23,23,SUM(AD14,AE7)))","v":24},{"$f":"'4KV3_TuneBuilder'!B49","v":24},{"$f":"IF(SUM(AF14,AG7)>30,30,IF(SUM(AF14,AG7)<23,23,SUM(AF14,AG7)))","v":24},null,null,null,null,null,null,null,null,null,2750,275]
[null,null,"Pump Tap",null,150,119,98,119,115,119,99,119,115,{"$f":"V2_TuneBuilder!B33","v":119},119,{"$f":"V3_TuneBuilder!B58","v":119},119,{"$f":"'4KV2_TuneBuilder'!B35","v":119},119,{"$f":"'4KV3_TuneBuilder'!B60","v":119},119,{"$f":"V3_TuneBuilder!B20","v":32},32,{"$f":"'4KV3_TuneBuilder'!B20","v":32},32,null,null,null,null,{"$f":"'4KV2_TuneBuilder'!B25","v":25},{"$f":"IF(SUM(AD15,AE8)>30,30,IF(SUM(AD15,AE8)<24,24,SUM(AD15,AE8)))","v":25},{"$f":"'4KV3_TuneBuilder'!B50","v":25},{"$f":"IF(SUM(AF15,AG8)>30,30,IF(SUM(AF15,AG8)<24,24,SUM(AF15,AG8)))","v":25},null,null,null,null,null,null,null,null,null,3000,300]
[null,null,"TPS Pump Maximum",{"$f":"IF(D4=\"Race\",80,IF(D4=\"Extreme\",70,100))","v":100},150,122,101,122,118,122,102,122,118,{"$f":"V2_TuneBuilder!B34","v":122},{"$f":"IF(SUM(N16,$O$5)>150,150,IF(SUM(N16,$O$5)<50,50,SUM(N16,$O$5)))","v":122},{"$f":"V3_TuneBuilder!B59","v":122},{"$f":"IF(SUM(P16,$Q$5)>150,150,IF(SUM(P16,$Q$5)<50,50,SUM(P16,$Q$5)))","v":122},{"$f":"'4KV2_TuneBuilder'!B36","v":122},{"$f":"IF(SUM(R16,$S$5)>150,150,IF(SUM(R16,$S$5)<50,50,SUM(R16,$S$5)))","v":122},{"$f":"'4KV3_TuneBuilder'!B61","v":122},{"$f":"IF(SUM(T16,$U$5)>150,150,IF(SUM(T16,$U$5)<50,50,SUM(T16,$U$5)))","v":122},{"$f":"V3_TuneBuilder!B21","v":36},{"$f":"IF(SUM(V16,$W$4)>100,100,IF(SUM(V16,$W$4)<0,0,SUM(V16,$W$4)))","v":36},{"$f":"'4KV3_TuneBuilder'!B21","v":36},36,null,null,null,null,{"$f":"'4KV2_TuneBuilder'!B26","v":26},{"$f":"IF(SUM(AD16,AE9)>30,30,IF(SUM(AD16,AE9)<25,25,SUM(AD16,AE9)))","v":26},{"$f":"'4KV3_TuneBuilder'!B51","v":26},{"$f":"IF(SUM(AF16,AG9)>30,30,IF(SUM(AF16,AG9)<25,25,SUM(AF16,AG9)))","v":26},null,null,null,null,null,null,null,null,null,3250]
[null,null,"TPS Pump Minimum",0,150,125,104,125,121,125,105,125,121,{"$f":"V2_TuneBuilder!B35","v":125},{"$f":"IF(SUM(N17,$O$5)>150,150,IF(SUM(N17,$O$5)<50,50,SUM(N17,$O$5)))","v":125},{"$f":"V3_TuneBuilder!B60","v":125},{"$f":"IF(SUM(P17,$Q$5)>150,150,IF(SUM(P17,$Q$5)<50,50,SUM(P17,$Q$5)))","v":125},{"$f":"'4KV2_TuneBuilder'!B37","v":125},{"$f":"IF(SUM(R17,$S$5)>150,150,IF(SUM(R17,$S$5)<50,50,SUM(R17,$S$5)))","v":125},{"$f":"'4KV3_TuneBuilder'!B62","v":125},{"$f":"IF(SUM(T17,$U$5)>150,150,IF(SUM(T17,$U$5)<50,50,SUM(T17,$U$5)))","v":125},{"$f":"V3_TuneBuilder!B22","v":40},{"$f":"IF(SUM(V17,$W$5)>100,100,IF(SUM(V17,$W$5)<0,0,SUM(V17,$W$5)))","v":40},{"$f":"'4KV3_TuneBuilder'!B22","v":40},{"$f":"IF(SUM(X17,$Y$5)>100,100,IF(SUM(X17,$Y$5)<0,0,SUM(X17,$Y$5)))","v":40},null,null,null,null,null,null,null,null,null,null,null,null,null,null,null,null,null,3500]
[null,null,"Min Pump Tap Fueling %",{"$f":"IF(OR(D4=\"Mild\",D4=\"Tow\"),0,IF(D4=\"Daily\",5,IF(D4=\"Street\",10,IF(D4=\"Race\",15,IF(D4=\"Extreme\",25,0)))))","v":5},150,128,107,128,124,128,108,128,124,{"$f":"V2_TuneBuilder!B36","v":128},{"$f":"IF(SUM(N18,$O$5)>150,150,IF(SUM(N18,$O$5)<50,50,SUM(N18,$O$5)))","v":128},{"$f":"V3_TuneBuilder!B61","v":128},128,{"$f":"'4KV2_TuneBuilder'!B38","v":128},128,{"$f":"'4KV3_TuneBuilder'!B63","v":128},128,{"$f":"V3_TuneBuilder!B23","v":44},{"$f":"IF(SUM(V18,$W$5)>100,100,IF(SUM(V18,$W$5)<0,0,SUM(V18,$W$5)))","v":44},{"$f":"'4KV3_TuneBuilder'!B23","v":44},{"$f":"IF(SUM(X18,$Y$5)>100,100,IF(SUM(X18,$Y$5)<0,0,SUM(X18,$Y$5)))","v":44},null,null,null,null,null,null,null,null,null,null,null,null,null,null,null,null,null,3750]
[null,null,"Pump Tap Min PSI",{"$f":"IF(D4=\"Mild\",12,IF(D4=\"Daily\",10,IF(D4=\"Tow\",15,IF(D4=\"Street\",8,IF(D4=\"Race\",5,IF(D4=\"Extreme\",0,10))))))","v":10},150,131,110,131,127,131,111,131,127,{"$f":"V2_TuneBuilder!B37","v":131},131,{"$f":"V3_TuneBuilder!B62","v":131},131,{"$f":"'4KV2_TuneBuilder'!B39","v":131},131,{"$f":"'4KV3_TuneBuilder'!B64","v":131},131,{"$f":"V3_TuneBuilder!B24","v":48},48,{"$f":"'4KV3_TuneBuilder'!B24","v":48},48,null,null,null,null,null,null,null,null,null,null,null,null,null,null,null,null,null,4000]
[null,null,"Boost Scaling",40,150,134,113,134,130,134,114,134,130,{"$f":"V2_TuneBuilder!B38","v":134},134,{"$f":"V3_TuneBuilder!B63","v":134},134,{"$f":"'4KV2_TuneBuilder'!B40","v":134},134,{"$f":"'4KV3_TuneBuilder'!B65","v":134},134,{"$f":"V3_TuneBuilder!B25","v":52},52,{"$f":"'4KV3_TuneBuilder'!B25","v":52},52,null,null,null,null,null,null,null,null,null,null,null,null,null,null,null,null,null,4250]
[null,null,null,null,150,137,116,137,133,137,117,137,133,{"$f":"V2_TuneBuilder!B39","v":137},137,{"$f":"V3_TuneBuilder!B64","v":137},137,{"$f":"'4KV2_TuneBuilder'!B41","v":137},137,{"$f":"'4KV3_TuneBuilder'!B66","v":137},137,{"$f":"V3_TuneBuilder!B26","v":56},56,{"$f":"'4KV3_TuneBuilder'!B26","v":56},56,null,null,null,null,null,null,null,null,null,null,null,null,null,null,null,null,null,4500]
[null,null,null,null,150,140,119,140,136,140,120,140,136,{"$f":"V2_TuneBuilder!B40","v":140},140,{"$f":"V3_TuneBuilder!B65","v":140},140,{"$f":"'4KV2_TuneBuilder'!B42","v":140},140,{"$f":"'4KV3_TuneBuilder'!B67","v":140},140,{"$f":"V3_TuneBuilder!B27","v":60},60,{"$f":"'4KV3_TuneBuilder'!B27","v":60},60,null,null,null,null,null,null,null,null,null,null,null,null,null,null,null,null,null,4750]
[null,null,null,null,150,143,122,143,139,143,123,143,139,{"$f":"V2_TuneBuilder!B41","v":143},143,{"$f":"V3_TuneBuilder!B66","v":143},143,{"$f":"'4KV2_TuneBuilder'!B43","v":143},143,{"$f":"'4KV3_TuneBuilder'!B68","v":143},143,{"$f":"V3_TuneBuilder!B28","v":64},64,{"$f":"'4KV3_TuneBuilder'!B28","v":64},64,null,null,null,null,null,null,null,null,null,null,null,null,null,null,null,null,null,5000]
[null,null,null,null,150,146,125,146,142,146,126,146,142,{"$f":"V2_TuneBuilder!B42","v":146},{"$f":"IF(SUM(N24,$O$6)>150,150,IF(SUM(N24,$O$6)<50,50,SUM(N24,$O$6)))","v":146},{"$f":"V3_TuneBuilder!B67","v":146},{"$f":"IF(SUM(P24,$Q$6)>150,150,IF(SUM(P24,$Q$6)<50,50,SUM(P24,$Q$6)))","v":146},{"$f":"'4KV2_TuneBuilder'!B44","v":146},{"$f":"IF(SUM(R24,$S$6)>150,150,IF(SUM(R24,$S$6)<50,50,SUM(R24,$S$6)))","v":146},{"$f":"'4KV3_TuneBuilder'!B69","v":146},{"$f":"IF(SUM(T24,$U$6)>150,150,IF(SUM(T24,$U$6)<50,50,SUM(T24,$U$6)))","v":146},{"$f":"V3_TuneBuilder!B29","v":68},68,{"$f":"'4KV3_TuneBuilder'!B29","v":68},68,null,null,null,null,null,null,null,null,null,null,null,null,null,null,null,null,null,5250]
[null,null,null,null,150,149,128,149,145,149,129,149,145,{"$f":"V2_TuneBuilder!B43","v":149},{"$f":"IF(SUM(N25,$O$6)>150,150,IF(SUM(N25,$O$6)<50,50,SUM(N25,$O$6)))","v":149},{"$f":"V3_TuneBuilder!B68","v":149},{"$f":"IF(SUM(P25,$Q$6)>150,150,IF(SUM(P25,$Q$6)<50,50,SUM(P25,$Q$6)))","v":149},{"$f":"'4KV2_TuneBuilder'!B45","v":149},{"$f":"IF(SUM(R25,$S$6)>150,150,IF(SUM(R25,$S$6)<50,50,SUM(R25,$S$6)))","v":149},{"$f":"'4KV3_TuneBuilder'!B70","v":149},{"$f":"IF(SUM(T25,$U$6)>150,150,IF(SUM(T25,$U$6)<50,50,SUM(T25,$U$6)))","v":149},{"$f":"V3_TuneBuilder!B30","v":72},{"$f":"IF(SUM(V25,$W$6)>100,100,IF(SUM(V25,$W$6)<0,0,SUM(V25,$W$6)))","v":72},{"$f":"'4KV3_TuneBuilder'!B30","v":72},{"$f":"IF(SUM(X25,$Y$6)>100,100,IF(SUM(X25,$Y$6)<0,0,SUM(X25,$Y$6)))","v":72},null,null,null,null,null,null,null,null,null,null,null,null,null,null,null,null,null,5500]
[null,null,null,null,150,150,129,150,146,150,130,150,146,{"$f":"V2_TuneBuilder!B44","v":150},{"$f":"IF(SUM(N26,$O$6)>150,150,IF(SUM(N26,$O$6)<50,50,SUM(N26,$O$6)))","v":150},{"$f":"V3_TuneBuilder!B69","v":150},150,{"$f":"'4KV2_TuneBuilder'!B46","v":150},150,{"$f":"'4KV3_TuneBuilder'!B71","v":150},150,{"$f":"V3_TuneBuilder!B31","v":76},{"$f":"IF(SUM(V26,$W$6)>100,100,IF(SUM(V26,$W$6)<0,0,SUM(V26,$W$6)))","v":76},{"$f":"'4KV3_TuneBuilder'!B31","v":76},{"$f":"IF(SUM(X26,$Y$6)>100,100,IF(SUM(X26,$Y$6)<0,0,SUM(X26,$Y$6)))","v":76},null,null,null,null,null,null,null,null,null,null,null,null,null,null,null,null,null,5750]
[null,null,null,null,150,150,129,150,146,150,130,150,146,{"$f":"V2_TuneBuilder!B45","v":150},150,{"$f":"V3_TuneBuilder!B70","v":150},150,{"$f":"'4KV2_TuneBuilder'!B47","v":150},150,{"$f":"'4KV3_TuneBuilder'!B72","v":150},150,{"$f":"V3_TuneBuilder!B32","v":80},80,{"$f":"'4KV3_TuneBuilder'!B32","v":80},80,null,null,null,null,null,null,null,null,null,null,null,null,null,null,null,null,null,6000]
[null,null,null,null,150,150,129,150,146,150,130,150,146,{"$f":"V2_TuneBuilder!B46","v":150},150,{"$f":"V3_TuneBuilder!B71","v":150},150,{"$f":"'4KV2_TuneBuilder'!B48","v":150},150,{"$f":"'4KV3_TuneBuilder'!B73","v":150},150,{"$f":"V3_TuneBuilder!B33","v":84},84,{"$f":"'4KV3_TuneBuilder'!B33","v":84},84,null,null,null,null,null,null,null,null,null,null,null,null,null,null,null,null,null,6250]
[null,null,null,null,150,150,129,150,146,150,130,150,146,{"$f":"V2_TuneBuilder!B47","v":150},150,{"$f":"V3_TuneBuilder!B72","v":150},150,{"$f":"'4KV2_TuneBuilder'!B49","v":150},150,{"$f":"'4KV3_TuneBuilder'!B74","v":150},150,{"$f":"V3_TuneBuilder!B34","v":88},88,{"$f":"'4KV3_TuneBuilder'!B34","v":88},88,null,null,null,null,null,null,null,null,null,null,null,null,null,null,null,null,null,6500]
[null,null,null,null,150,150,129,150,146,150,130,150,146,{"$f":"V2_TuneBuilder!B48","v":150},150,{"$f":"V3_TuneBuilder!B73","v":150},150,{"$f":"'4KV2_TuneBuilder'!B50","v":150},150,{"$f":"'4KV3_TuneBuilder'!B75","v":150},150,{"$f":"V3_TuneBuilder!B35","v":92},92,{"$f":"'4KV3_TuneBuilder'!B35","v":92},92,null,null,null,null,null,null,null,null,null,null,null,null,null,null,null,null,null,6750]
[null,null,null,null,150,150,129,150,146,150,130,150,146,{"$f":"V2_TuneBuilder!B49","v":150},150,{"$f":"V3_TuneBuilder!B74","v":150},150,{"$f":"'4KV2_TuneBuilder'!B51","v":150},150,{"$f":"'4KV3_TuneBuilder'!B76","v":150},150,{"$f":"V3_TuneBuilder!B36","v":96},96,{"$f":"'4KV3_TuneBuilder'!B36","v":96},96,null,null,null,null,null,null,null,null,null,null,null,null,null,null,null,null,null,7000]
[null,null,null,null,null,null,null,null,null,null,null,null,null,null,null,null,null,null,null,null,null,{"$f":"V3_TuneBuilder!B37","v":100},100,{"$f":"'4KV3_TuneBuilder'!B37","v":100},100,null,null,null,null,null,null,null,null,null,null,null,null,null,null,null,null,null,7250]
[null,null,null,null,null,null,null,null,null,null,null,null,null,null,null,null,null,null,null,null,null,null,null,null,null,null,null,null,null,null,null,null,null,null,null,null,null,null,null,null,null,null,7500]
[null,null,null,null,null,null,null,null,null,null,null,null,null,null,null,null,null,null,null,null,null,null,null,null,null,null,null,null,null,null,null,null,null,null,null,null,null,null,null,null,null,null,7750]
[null,null,null,null,null,null,null,null,null,null,null,null,null,null,null,null,null,null,null,null,null,null,null,null,null,null,null,null,null,null,null,null,null,null,null,null,null,null,null,null,null,null,8000]
[null,null,null,null,null,null,null,null,null,null,null,null,null,null,null,null,null,null,null,null,null,null,null,null,null,null,null,null,null,null,null,null,null,null,null,null,null,null,null,null,null,null,8250]
[null,null,null,null,null,null,null,null,null,null,null,null,null,null,null,null,null,null,null,null,null,null,null,null,null,null,null,null,null,null,null,null,null,null,null,null,null,null,null,null,null,null,8500]
[null,null,null,null,null,null,null,null,null,null,null,null,null,null,null,null,null,null,null,null,null,null,null,null,null,null,null,null,null,null,null,null,null,null,null,null,null,null,null,null,null,null,8750]
[null,null,null,null,null,null,null,null,null,null,null,null,null,null,null,null,null,null,null,null,null,null,null,null,null,null,null,null,null,null,null,null,null,null,null,null,null,null,null,null,null,null,9000]
[null,null,null,null,null,null,null,null,null,null,null,null,null,null,null,null,null,null,null,null,null,null,null,null,null,null,null,null,null,null,null,null,null,null,null,null,null,null,null,null,null,null,9250]
[null,null,null,null,null,null,null,null,null,null,null,null,null,null,null,null,null,null,null,null,null,null,null,null,null,null,null,null,null,null,null,null,null,null,null,null,null,null,null,null,null,null,9500]
[null,null,null,null,null,null,null,null,null,null,null,null,null,null,null,null,null,null,null,null,null,null,null,null,null,null,null,null,null,null,null,null,null,null,null,null,null,null,null,null,null,null,9750]
[null,null,null,null,null,null,null,null,null,null,null,null,null,null,null,null,null,null,null,null,null,null,null,null,null,null,null,null,null,null,null,null,null,null,null,null,null,null,null,null,null,null,10000]
[null,null,null,null,null,null,null,null,null,null,null,null,null,null,null,null,null,null,null,null,null,null,null,null,null,null,null,null,null,null,null,null,null,null,null,null,null,null,null,null,null,null,10250]
[null,null,null,null,null,null,null,null,null,null,null,null,null,null,null,null,null,null,null,null,null,null,null,null,null,null,null,null,null,null,null,null,null,null,null,null,null,null,null,null,null,null,10500]
[null,null,null,null,null,null,null,null,null,null,null,null,null,null,null,null,null,null,null,null,null,null,null,null,null,null,null,null,null,null,null,null,null,null,null,null,null,null,null,null,null,null,10750]
[null,null,null,null,null,null,null,null,null,null,null,null,null,null,null,null,null,null,null,null,null,null,null,null,null,null,null,null,null,null,null,null,null,null,null,null,null,null,null,null,null,null,11000]
[null,null,null,null,null,null,null,null,null,null,null,null,null,null,null,null,null,null,null,null,null,null,null,null,null,null,null,null,null,null,null,null,null,null,null,null,null,null,null,null,null,null,11250]
[null,null,null,null,null,null,null,null,null,null,null,null,null,null,null,null,null,null,null,null,null,null,null,null,null,null,null,null,null,null,null,null,null,null,null,null,null,null,null,null,null,null,11500]
[null,null,null,null,null,null,null,null,null,null,null,null,null,null,null,null,null,null,null,null,null,null,null,null,null,null,null,null,null,null,null,null,null,null,null,null,null,null,null,null,null,null,11750]
[null,null,null,null,null,null,null,null,null,null,null,null,null,null,null,null,null,null,null,null,null,null,null,null,null,null,null,null,null,null,null,null,null,null,null,null,null,null,null,null,null,null,12000]

{"sheet":"GraphBuild","index":5,"n_rows":216,"n_cols":28,"rows_kept":216,"cut":false,"hidden":true,"merged":[]}
["V2"]
["TPS %",0.04,0.08,0.12,0.16,0.2,0.24,0.28000000000000003,0.32,0.36,0.4,0.44,0.48,0.52,0.56000000000000005,0.6,0.64,0.68,0.72,0.76,0.8,0.84,0.88,0.92,0.96,1]
[1,{"$f":"B$2*V3_TuneBuilder!$B13","v":0.16},{"$f":"C$2*V3_TuneBuilder!$B13","v":0.32},{"$f":"D$2*V3_TuneBuilder!$B13","v":0.48},{"$f":"E$2*V3_TuneBuilder!$B13","v":0.64},{"$f":"F$2*V3_TuneBuilder!$B13","v":0.8},{"$f":"G$2*V3_TuneBuilder!$B13","v":0.96},{"$f":"H$2*V3_TuneBuilder!$B13","v":1.1200000000000001},{"$f":"I$2*V3_TuneBuilder!$B13","v":1.28},{"$f":"J$2*V3_TuneBuilder!$B13","v":1.44},{"$f":"K$2*V3_TuneBuilder!$B13","v":1.6},{"$f":"L$2*V3_TuneBuilder!$B13","v":1.76},{"$f":"M$2*V3_TuneBuilder!$B13","v":1.92},{"$f":"N$2*V3_TuneBuilder!$B13","v":2.08},{"$f":"O$2*V3_TuneBuilder!$B13","v":2.2400000000000002},{"$f":"P$2*V3_TuneBuilder!$B13","v":2.4},{"$f":"Q$2*V3_TuneBuilder!$B13","v":2.56},{"$f":"R$2*V3_TuneBuilder!$B13","v":2.72},{"$f":"S$2*V3_TuneBuilder!$B13","v":2.88},{"$f":"T$2*V3_TuneBuilder!$B13","v":3.04},{"$f":"U$2*V3_TuneBuilder!$B13","v":3.2},{"$f":"V$2*V3_TuneBuilder!$B13","v":3.36},{"$f":"W$2*V3_TuneBuilder!$B13","v":3.52},{"$f":"X$2*V3_TuneBuilder!$B13","v":3.68},{"$f":"Y$2*V3_TuneBuilder!$B13","v":3.84},{"$f":"Z$2*V3_TuneBuilder!$B13","v":4}]
[2,{"$f":"B$2*V3_TuneBuilder!$B14","v":0.32},{"$f":"C$2*V3_TuneBuilder!$B14","v":0.64},{"$f":"D$2*V3_TuneBuilder!$B14","v":0.96},{"$f":"E$2*V3_TuneBuilder!$B14","v":1.28},{"$f":"F$2*V3_TuneBuilder!$B14","v":1.6},{"$f":"G$2*V3_TuneBuilder!$B14","v":1.92},{"$f":"H$2*V3_TuneBuilder!$B14","v":2.2400000000000002},{"$f":"I$2*V3_TuneBuilder!$B14","v":2.56},{"$f":"J$2*V3_TuneBuilder!$B14","v":2.88},{"$f":"K$2*V3_TuneBuilder!$B14","v":3.2},{"$f":"L$2*V3_TuneBuilder!$B14","v":3.52},{"$f":"M$2*V3_TuneBuilder!$B14","v":3.84},{"$f":"N$2*V3_TuneBuilder!$B14","v":4.16},{"$f":"O$2*V3_TuneBuilder!$B14","v":4.4800000000000004},{"$f":"P$2*V3_TuneBuilder!$B14","v":4.8},{"$f":"Q$2*V3_TuneBuilder!$B14","v":5.12},{"$f":"R$2*V3_TuneBuilder!$B14","v":5.44},{"$f":"S$2*V3_TuneBuilder!$B14","v":5.76},{"$f":"T$2*V3_TuneBuilder!$B14","v":6.08},{"$f":"U$2*V3_TuneBuilder!$B14","v":6.4},{"$f":"V$2*V3_TuneBuilder!$B14","v":6.72},{"$f":"W$2*V3_TuneBuilder!$B14","v":7.04},{"$f":"X$2*V3_TuneBuilder!$B14","v":7.36},{"$f":"Y$2*V3_TuneBuilder!$B14","v":7.68},{"$f":"Z$2*V3_TuneBuilder!$B14","v":8}]
[3,{"$f":"B$2*V3_TuneBuilder!$B15","v":0.48},{"$f":"C$2*V3_TuneBuilder!$B15","v":0.96},{"$f":"D$2*V3_TuneBuilder!$B15","v":1.44},{"$f":"E$2*V3_TuneBuilder!$B15","v":1.92},{"$f":"F$2*V3_TuneBuilder!$B15","v":2.4000000000000004},{"$f":"G$2*V3_TuneBuilder!$B15","v":2.88},{"$f":"H$2*V3_TuneBuilder!$B15","v":3.3600000000000003},{"$f":"I$2*V3_TuneBuilder!$B15","v":3.84},{"$f":"J$2*V3_TuneBuilder!$B15","v":4.32},{"$f":"K$2*V3_TuneBuilder!$B15","v":4.8000000000000007},{"$f":"L$2*V3_TuneBuilder!$B15","v":5.28},{"$f":"M$2*V3_TuneBuilder!$B15","v":5.76},{"$f":"N$2*V3_TuneBuilder!$B15","v":6.24},{"$f":"O$2*V3_TuneBuilder!$B15","v":6.7200000000000006},{"$f":"P$2*V3_TuneBuilder!$B15","v":7.1999999999999993},{"$f":"Q$2*V3_TuneBuilder!$B15","v":7.68},{"$f":"R$2*V3_TuneBuilder!$B15","v":8.16},{"$f":"S$2*V3_TuneBuilder!$B15","v":8.64},{"$f":"T$2*V3_TuneBuilder!$B15","v":9.120000000000001},{"$f":"U$2*V3_TuneBuilder!$B15","v":9.6000000000000014},{"$f":"V$2*V3_TuneBuilder!$B15","v":10.08},{"$f":"W$2*V3_TuneBuilder!$B15","v":10.56},{"$f":"X$2*V3_TuneBuilder!$B15","v":11.040000000000001},{"$f":"Y$2*V3_TuneBuilder!$B15","v":11.52},{"$f":"Z$2*V3_TuneBuilder!$B15","v":12}]
[4,{"$f":"B$2*V3_TuneBuilder!$B16","v":0.64},{"$f":"C$2*V3_TuneBuilder!$B16","v":1.28},{"$f":"D$2*V3_TuneBuilder!$B16","v":1.92},{"$f":"E$2*V3_TuneBuilder!$B16","v":2.56},{"$f":"F$2*V3_TuneBuilder!$B16","v":3.2},{"$f":"G$2*V3_TuneBuilder!$B16","v":3.84},{"$f":"H$2*V3_TuneBuilder!$B16","v":4.4800000000000004},{"$f":"I$2*V3_TuneBuilder!$B16","v":5.12},{"$f":"J$2*V3_TuneBuilder!$B16","v":5.76},{"$f":"K$2*V3_TuneBuilder!$B16","v":6.4},{"$f":"L$2*V3_TuneBuilder!$B16","v":7.04},{"$f":"M$2*V3_TuneBuilder!$B16","v":7.68},{"$f":"N$2*V3_TuneBuilder!$B16","v":8.32},{"$f":"O$2*V3_TuneBuilder!$B16","v":8.9600000000000009},{"$f":"P$2*V3_TuneBuilder!$B16","v":9.6},{"$f":"Q$2*V3_TuneBuilder!$B16","v":10.24},{"$f":"R$2*V3_TuneBuilder!$B16","v":10.88},{"$f":"S$2*V3_TuneBuilder!$B16","v":11.52},{"$f":"T$2*V3_TuneBuilder!$B16","v":12.16},{"$f":"U$2*V3_TuneBuilder!$B16","v":12.8},{"$f":"V$2*V3_TuneBuilder!$B16","v":13.44},{"$f":"W$2*V3_TuneBuilder!$B16","v":14.08},{"$f":"X$2*V3_TuneBuilder!$B16","v":14.72},{"$f":"Y$2*V3_TuneBuilder!$B16","v":15.36},{"$f":"Z$2*V3_TuneBuilder!$B16","v":16}]
[5,{"$f":"B$2*V3_TuneBuilder!$B17","v":0.8},{"$f":"C$2*V3_TuneBuilder!$B17","v":1.6},{"$f":"D$2*V3_TuneBuilder!$B17","v":2.4},{"$f":"E$2*V3_TuneBuilder!$B17","v":3.2},{"$f":"F$2*V3_TuneBuilder!$B17","v":4},{"$f":"G$2*V3_TuneBuilder!$B17","v":4.8},{"$f":"H$2*V3_TuneBuilder!$B17","v":5.6000000000000005},{"$f":"I$2*V3_TuneBuilder!$B17","v":6.4},{"$f":"J$2*V3_TuneBuilder!$B17","v":7.1999999999999993},{"$f":"K$2*V3_TuneBuilder!$B17","v":8},{"$f":"L$2*V3_TuneBuilder!$B17","v":8.8000000000000007},{"$f":"M$2*V3_TuneBuilder!$B17","v":9.6},{"$f":"N$2*V3_TuneBuilder!$B17","v":10.4},{"$f":"O$2*V3_TuneBuilder!$B17","v":11.200000000000001},{"$f":"P$2*V3_TuneBuilder!$B17","v":12},{"$f":"Q$2*V3_TuneBuilder!$B17","v":12.8},{"$f":"R$2*V3_TuneBuilder!$B17","v":13.600000000000001},{"$f":"S$2*V3_TuneBuilder!$B17","v":14.399999999999999},{"$f":"T$2*V3_TuneBuilder!$B17","v":15.2},{"$f":"U$2*V3_TuneBuilder!$B17","v":16},{"$f":"V$2*V3_TuneBuilder!$B17","v":16.8},{"$f":"W$2*V3_TuneBuilder!$B17","v":17.600000000000001},{"$f":"X$2*V3_TuneBuilder!$B17","v":18.400000000000002},{"$f":"Y$2*V3_TuneBuilder!$B17","v":19.2},{"$f":"Z$2*V3_TuneBuilder!$B17","v":20}]
[6,{"$f":"B$2*V3_TuneBuilder!$B18","v":0.96},{"$f":"C$2*V3_TuneBuilder!$B18","v":1.92},{"$f":"D$2*V3_TuneBuilder!$B18","v":2.88},{"$f":"E$2*V3_TuneBuilder!$B18","v":3.84},{"$f":"F$2*V3_TuneBuilder!$B18","v":4.8000000000000007},{"$f":"G$2*V3_TuneBuilder!$B18","v":5.76},{"$f":"H$2*V3_TuneBuilder!$B18","v":6.7200000000000006},{"$f":"I$2*V3_TuneBuilder!$B18","v":7.68},{"$f":"J$2*V3_TuneBuilder!$B18","v":8.64},{"$f":"K$2*V3_TuneBuilder!$B18","v":9.6000000000000014},{"$f":"L$2*V3_TuneBuilder!$B18","v":10.56},{"$f":"M$2*V3_TuneBuilder!$B18","v":11.52},{"$f":"N$2*V3_TuneBuilder!$B18","v":12.48},{"$f":"O$2*V3_TuneBuilder!$B18","v":13.440000000000001},{"$f":"P$2*V3_TuneBuilder!$B18","v":14.399999999999999},{"$f":"Q$2*V3_TuneBuilder!$B18","v":15.36},{"$f":"R$2*V3_TuneBuilder!$B18","v":16.32},{"$f":"S$2*V3_TuneBuilder!$B18","v":17.28},{"$f":"T$2*V3_TuneBuilder!$B18","v":18.240000000000002},{"$f":"U$2*V3_TuneBuilder!$B18","v":19.200000000000003},{"$f":"V$2*V3_TuneBuilder!$B18","v":20.16},{"$f":"W$2*V3_TuneBuilder!$B18","v":21.12},{"$f":"X$2*V3_TuneBuilder!$B18","v":22.080000000000002},{"$f":"Y$2*V3_TuneBuilder!$B18","v":23.04},{"$f":"Z$2*V3_TuneBuilder!$B18","v":24}]
[7,{"$f":"B$2*V3_TuneBuilder!$B19","v":1.1200000000000001},{"$f":"C$2*V3_TuneBuilder!$B19","v":2.2400000000000002},{"$f":"D$2*V3_TuneBuilder!$B19","v":3.36},{"$f":"E$2*V3_TuneBuilder!$B19","v":4.4800000000000004},{"$f":"F$2*V3_TuneBuilder!$B19","v":5.6000000000000005},{"$f":"G$2*V3_TuneBuilder!$B19","v":6.72},{"$f":"H$2*V3_TuneBuilder!$B19","v":7.8400000000000007},{"$f":"I$2*V3_TuneBuilder!$B19","v":8.9600000000000009},{"$f":"J$2*V3_TuneBuilder!$B19","v":10.08},{"$f":"K$2*V3_TuneBuilder!$B19","v":11.200000000000001},{"$f":"L$2*V3_TuneBuilder!$B19","v":12.32},{"$f":"M$2*V3_TuneBuilder!$B19","v":13.44},{"$f":"N$2*V3_TuneBuilder!$B19","v":14.56},{"$f":"O$2*V3_TuneBuilder!$B19","v":15.680000000000001},{"$f":"P$2*V3_TuneBuilder!$B19","v":16.8},{"$f":"Q$2*V3_TuneBuilder!$B19","v":17.920000000000002},{"$f":"R$2*V3_TuneBuilder!$B19","v":19.040000000000003},{"$f":"S$2*V3_TuneBuilder!$B19","v":20.16},{"$f":"T$2*V3_TuneBuilder!$B19","v":21.28},{"$f":"U$2*V3_TuneBuilder!$B19","v":22.400000000000002},{"$f":"V$2*V3_TuneBuilder!$B19","v":23.52},{"$f":"W$2*V3_TuneBuilder!$B19","v":24.64},{"$f":"X$2*V3_TuneBuilder!$B19","v":25.76},{"$f":"Y$2*V3_TuneBuilder!$B19","v":26.88},{"$f":"Z$2*V3_TuneBuilder!$B19","v":28}]
[8,{"$f":"B$2*V3_TuneBuilder!$B20","v":1.28},{"$f":"C$2*V3_TuneBuilder!$B20","v":2.56},{"$f":"D$2*V3_TuneBuilder!$B20","v":3.84},{"$f":"E$2*V3_TuneBuilder!$B20","v":5.12},{"$f":"F$2*V3_TuneBuilder!$B20","v":6.4},{"$f":"G$2*V3_TuneBuilder!$B20","v":7.68},{"$f":"H$2*V3_TuneBuilder!$B20","v":8.9600000000000009},{"$f":"I$2*V3_TuneBuilder!$B20","v":10.24},{"$f":"J$2*V3_TuneBuilder!$B20","v":11.52},{"$f":"K$2*V3_TuneBuilder!$B20","v":12.8},{"$f":"L$2*V3_TuneBuilder!$B20","v":14.08},{"$f":"M$2*V3_TuneBuilder!$B20","v":15.36},{"$f":"N$2*V3_TuneBuilder!$B20","v":16.64},{"$f":"O$2*V3_TuneBuilder!$B20","v":17.920000000000002},{"$f":"P$2*V3_TuneBuilder!$B20","v":19.2},{"$f":"Q$2*V3_TuneBuilder!$B20","v":20.48},{"$f":"R$2*V3_TuneBuilder!$B20","v":21.76},{"$f":"S$2*V3_TuneBuilder!$B20","v":23.04},{"$f":"T$2*V3_TuneBuilder!$B20","v":24.32},{"$f":"U$2*V3_TuneBuilder!$B20","v":25.6},{"$f":"V$2*V3_TuneBuilder!$B20","v":26.88},{"$f":"W$2*V3_TuneBuilder!$B20","v":28.16},{"$f":"X$2*V3_TuneBuilder!$B20","v":29.44},{"$f":"Y$2*V3_TuneBuilder!$B20","v":30.72},{"$f":"Z$2*V3_TuneBuilder!$B20","v":32}]
[9,{"$f":"B$2*V3_TuneBuilder!$B21","v":1.44},{"$f":"C$2*V3_TuneBuilder!$B21","v":2.88},{"$f":"D$2*V3_TuneBuilder!$B21","v":4.32},{"$f":"E$2*V3_TuneBuilder!$B21","v":5.76},{"$f":"F$2*V3_TuneBuilder!$B21","v":7.2},{"$f":"G$2*V3_TuneBuilder!$B21","v":8.64},{"$f":"H$2*V3_TuneBuilder!$B21","v":10.080000000000002},{"$f":"I$2*V3_TuneBuilder!$B21","v":11.52},{"$f":"J$2*V3_TuneBuilder!$B21","v":12.959999999999999},{"$f":"K$2*V3_TuneBuilder!$B21","v":14.4},{"$f":"L$2*V3_TuneBuilder!$B21","v":15.84},{"$f":"M$2*V3_TuneBuilder!$B21","v":17.28},{"$f":"N$2*V3_TuneBuilder!$B21","v":18.72},{"$f":"O$2*V3_TuneBuilder!$B21","v":20.160000000000004},{"$f":"P$2*V3_TuneBuilder!$B21","v":21.599999999999998},{"$f":"Q$2*V3_TuneBuilder!$B21","v":23.04},{"$f":"R$2*V3_TuneBuilder!$B21","v":24.48},{"$f":"S$2*V3_TuneBuilder!$B21","v":25.919999999999998},{"$f":"T$2*V3_TuneBuilder!$B21","v":27.36},{"$f":"U$2*V3_TuneBuilder!$B21","v":28.8},{"$f":"V$2*V3_TuneBuilder!$B21","v":30.24},{"$f":"W$2*V3_TuneBuilder!$B21","v":31.68},{"$f":"X$2*V3_TuneBuilder!$B21","v":33.120000000000005},{"$f":"Y$2*V3_TuneBuilder!$B21","v":34.56},{"$f":"Z$2*V3_TuneBuilder!$B21","v":36}]
[10,{"$f":"B$2*V3_TuneBuilder!$B22","v":1.6},{"$f":"C$2*V3_TuneBuilder!$B22","v":3.2},{"$f":"D$2*V3_TuneBuilder!$B22","v":4.8},{"$f":"E$2*V3_TuneBuilder!$B22","v":6.4},{"$f":"F$2*V3_TuneBuilder!$B22","v":8},{"$f":"G$2*V3_TuneBuilder!$B22","v":9.6},{"$f":"H$2*V3_TuneBuilder!$B22","v":11.200000000000001},{"$f":"I$2*V3_TuneBuilder!$B22","v":12.8},{"$f":"J$2*V3_TuneBuilder!$B22","v":14.399999999999999},{"$f":"K$2*V3_TuneBuilder!$B22","v":16},{"$f":"L$2*V3_TuneBuilder!$B22","v":17.600000000000001},{"$f":"M$2*V3_TuneBuilder!$B22","v":19.2},{"$f":"N$2*V3_TuneBuilder!$B22","v":20.8},{"$f":"O$2*V3_TuneBuilder!$B22","v":22.400000000000002},{"$f":"P$2*V3_TuneBuilder!$B22","v":24},{"$f":"Q$2*V3_TuneBuilder!$B22","v":25.6},{"$f":"R$2*V3_TuneBuilder!$B22","v":27.200000000000003},{"$f":"S$2*V3_TuneBuilder!$B22","v":28.799999999999997},{"$f":"T$2*V3_TuneBuilder!$B22","v":30.4},{"$f":"U$2*V3_TuneBuilder!$B22","v":32},{"$f":"V$2*V3_TuneBuilder!$B22","v":33.6},{"$f":"W$2*V3_TuneBuilder!$B22","v":35.200000000000003},{"$f":"X$2*V3_TuneBuilder!$B22","v":36.800000000000004},{"$f":"Y$2*V3_TuneBuilder!$B22","v":38.4},{"$f":"Z$2*V3_TuneBuilder!$B22","v":40}]
[12,{"$f":"B$2*V3_TuneBuilder!$B23","v":1.76},{"$f":"C$2*V3_TuneBuilder!$B23","v":3.52},{"$f":"D$2*V3_TuneBuilder!$B23","v":5.2799999999999994},{"$f":"E$2*V3_TuneBuilder!$B23","v":7.04},{"$f":"F$2*V3_TuneBuilder!$B23","v":8.8000000000000007},{"$f":"G$2*V3_TuneBuilder!$B23","v":10.559999999999999},{"$f":"H$2*V3_TuneBuilder!$B23","v":12.32},{"$f":"I$2*V3_TuneBuilder!$B23","v":14.08},{"$f":"J$2*V3_TuneBuilder!$B23","v":15.84},{"$f":"K$2*V3_TuneBuilder!$B23","v":17.600000000000001},{"$f":"L$2*V3_TuneBuilder!$B23","v":19.36},{"$f":"M$2*V3_TuneBuilder!$B23","v":21.119999999999997},{"$f":"N$2*V3_TuneBuilder!$B23","v":22.880000000000003},{"$f":"O$2*V3_TuneBuilder!$B23","v":24.64},{"$f":"P$2*V3_TuneBuilder!$B23","v":26.4},{"$f":"Q$2*V3_TuneBuilder!$B23","v":28.16},{"$f":"R$2*V3_TuneBuilder!$B23","v":29.92},{"$f":"S$2*V3_TuneBuilder!$B23","v":31.68},{"$f":"T$2*V3_TuneBuilder!$B23","v":33.44},{"$f":"U$2*V3_TuneBuilder!$B23","v":35.200000000000003},{"$f":"V$2*V3_TuneBuilder!$B23","v":36.96},{"$f":"W$2*V3_TuneBuilder!$B23","v":38.72},{"$f":"X$2*V3_TuneBuilder!$B23","v":40.480000000000004},{"$f":"Y$2*V3_TuneBuilder!$B23","v":42.239999999999995},{"$f":"Z$2*V3_TuneBuilder!$B23","v":44}]
[14,{"$f":"B$2*V3_TuneBuilder!$B24","v":1.92},{"$f":"C$2*V3_TuneBuilder!$B24","v":3.84},{"$f":"D$2*V3_TuneBuilder!$B24","v":5.76},{"$f":"E$2*V3_TuneBuilder!$B24","v":7.68},{"$f":"F$2*V3_TuneBuilder!$B24","v":9.6000000000000014},{"$f":"G$2*V3_TuneBuilder!$B24","v":11.52},{"$f":"H$2*V3_TuneBuilder!$B24","v":13.440000000000001},{"$f":"I$2*V3_TuneBuilder!$B24","v":15.36},{"$f":"J$2*V3_TuneBuilder!$B24","v":17.28},{"$f":"K$2*V3_TuneBuilder!$B24","v":19.200000000000003},{"$f":"L$2*V3_TuneBuilder!$B24","v":21.12},{"$f":"M$2*V3_TuneBuilder!$B24","v":23.04},{"$f":"N$2*V3_TuneBuilder!$B24","v":24.96},{"$f":"O$2*V3_TuneBuilder!$B24","v":26.880000000000003},{"$f":"P$2*V3_TuneBuilder!$B24","v":28.799999999999997},{"$f":"Q$2*V3_TuneBuilder!$B24","v":30.72},{"$f":"R$2*V3_TuneBuilder!$B24","v":32.64},{"$f":"S$2*V3_TuneBuilder!$B24","v":34.56},{"$f":"T$2*V3_TuneBuilder!$B24","v":36.480000000000004},{"$f":"U$2*V3_TuneBuilder!$B24","v":38.400000000000006},{"$f":"V$2*V3_TuneBuilder!$B24","v":40.32},{"$f":"W$2*V3_TuneBuilder!$B24","v":42.24},{"$f":"X$2*V3_TuneBuilder!$B24","v":44.160000000000004},{"$f":"Y$2*V3_TuneBuilder!$B24","v":46.08},{"$f":"Z$2*V3_TuneBuilder!$B24","v":48}]
[16,{"$f":"B$2*V3_TuneBuilder!$B25","v":2.08},{"$f":"C$2*V3_TuneBuilder!$B25","v":4.16},{"$f":"D$2*V3_TuneBuilder!$B25","v":6.24},{"$f":"E$2*V3_TuneBuilder!$B25","v":8.32},{"$f":"F$2*V3_TuneBuilder!$B25","v":10.4},{"$f":"G$2*V3_TuneBuilder!$B25","v":12.48},{"$f":"H$2*V3_TuneBuilder!$B25","v":14.560000000000002},{"$f":"I$2*V3_TuneBuilder!$B25","v":16.64},{"$f":"J$2*V3_TuneBuilder!$B25","v":18.72},{"$f":"K$2*V3_TuneBuilder!$B25","v":20.8},{"$f":"L$2*V3_TuneBuilder!$B25","v":22.88},{"$f":"M$2*V3_TuneBuilder!$B25","v":24.96},{"$f":"N$2*V3_TuneBuilder!$B25","v":27.04},{"$f":"O$2*V3_TuneBuilder!$B25","v":29.120000000000005},{"$f":"P$2*V3_TuneBuilder!$B25","v":31.2},{"$f":"Q$2*V3_TuneBuilder!$B25","v":33.28},{"$f":"R$2*V3_TuneBuilder!$B25","v":35.36},{"$f":"S$2*V3_TuneBuilder!$B25","v":37.44},{"$f":"T$2*V3_TuneBuilder!$B25","v":39.520000000000003},{"$f":"U$2*V3_TuneBuilder!$B25","v":41.6},{"$f":"V$2*V3_TuneBuilder!$B25","v":43.68},{"$f":"W$2*V3_TuneBuilder!$B25","v":45.76},{"$f":"X$2*V3_TuneBuilder!$B25","v":47.84},{"$f":"Y$2*V3_TuneBuilder!$B25","v":49.92},{"$f":"Z$2*V3_TuneBuilder!$B25","v":52}]
[18,{"$f":"B$2*V3_TuneBuilder!$B26","v":2.2400000000000002},{"$f":"C$2*V3_TuneBuilder!$B26","v":4.4800000000000004},{"$f":"D$2*V3_TuneBuilder!$B26","v":6.72},{"$f":"E$2*V3_TuneBuilder!$B26","v":8.9600000000000009},{"$f":"F$2*V3_TuneBuilder!$B26","v":11.200000000000001},{"$f":"G$2*V3_TuneBuilder!$B26","v":13.44},{"$f":"H$2*V3_TuneBuilder!$B26","v":15.680000000000001},{"$f":"I$2*V3_TuneBuilder!$B26","v":17.920000000000002},{"$f":"J$2*V3_TuneBuilder!$B26","v":20.16},{"$f":"K$2*V3_TuneBuilder!$B26","v":22.400000000000002},{"$f":"L$2*V3_TuneBuilder!$B26","v":24.64},{"$f":"M$2*V3_TuneBuilder!$B26","v":26.88},{"$f":"N$2*V3_TuneBuilder!$B26","v":29.12},{"$f":"O$2*V3_TuneBuilder!$B26","v":31.360000000000003},{"$f":"P$2*V3_TuneBuilder!$B26","v":33.6},{"$f":"Q$2*V3_TuneBuilder!$B26","v":35.840000000000003},{"$f":"R$2*V3_TuneBuilder!$B26","v":38.080000000000005},{"$f":"S$2*V3_TuneBuilder!$B26","v":40.32},{"$f":"T$2*V3_TuneBuilder!$B26","v":42.56},{"$f":"U$2*V3_TuneBuilder!$B26","v":44.800000000000004},{"$f":"V$2*V3_TuneBuilder!$B26","v":47.04},{"$f":"W$2*V3_TuneBuilder!$B26","v":49.28},{"$f":"X$2*V3_TuneBuilder!$B26","v":51.52},{"$f":"Y$2*V3_TuneBuilder!$B26","v":53.76},{"$f":"Z$2*V3_TuneBuilder!$B26","v":56}]
[20,{"$f":"B$2*V3_TuneBuilder!$B27","v":2.4},{"$f":"C$2*V3_TuneBuilder!$B27","v":4.8},{"$f":"D$2*V3_TuneBuilder!$B27","v":7.1999999999999993},{"$f":"E$2*V3_TuneBuilder!$B27","v":9.6},{"$f":"F$2*V3_TuneBuilder!$B27","v":12},{"$f":"G$2*V3_TuneBuilder!$B27","v":14.399999999999999},{"$f":"H$2*V3_TuneBuilder!$B27","v":16.8},{"$f":"I$2*V3_TuneBuilder!$B27","v":19.2},{"$f":"J$2*V3_TuneBuilder!$B27","v":21.599999999999998},{"$f":"K$2*V3_TuneBuilder!$B27","v":24},{"$f":"L$2*V3_TuneBuilder!$B27","v":26.4},{"$f":"M$2*V3_TuneBuilder!$B27","v":28.799999999999997},{"$f":"N$2*V3_TuneBuilder!$B27","v":31.200000000000003},{"$f":"O$2*V3_TuneBuilder!$B27","v":33.6},{"$f":"P$2*V3_TuneBuilder!$B27","v":36},{"$f":"Q$2*V3_TuneBuilder!$B27","v":38.4},{"$f":"R$2*V3_TuneBuilder!$B27","v":40.800000000000004},{"$f":"S$2*V3_TuneBuilder!$B27","v":43.199999999999996},{"$f":"T$2*V3_TuneBuilder!$B27","v":45.6},{"$f":"U$2*V3_TuneBuilder!$B27","v":48},{"$f":"V$2*V3_TuneBuilder!$B27","v":50.4},{"$f":"W$2*V3_TuneBuilder!$B27","v":52.8},{"$f":"X$2*V3_TuneBuilder!$B27","v":55.2},{"$f":"Y$2*V3_TuneBuilder!$B27","v":57.599999999999994},{"$f":"Z$2*V3_TuneBuilder!$B27","v":60}]
[22,{"$f":"B$2*V3_TuneBuilder!$B28","v":2.56},{"$f":"C$2*V3_TuneBuilder!$B28","v":5.12},{"$f":"D$2*V3_TuneBuilder!$B28","v":7.68},{"$f":"E$2*V3_TuneBuilder!$B28","v":10.24},{"$f":"F$2*V3_TuneBuilder!$B28","v":12.8},{"$f":"G$2*V3_TuneBuilder!$B28","v":15.36},{"$f":"H$2*V3_TuneBuilder!$B28","v":17.920000000000002},{"$f":"I$2*V3_TuneBuilder!$B28","v":20.48},{"$f":"J$2*V3_TuneBuilder!$B28","v":23.04},{"$f":"K$2*V3_TuneBuilder!$B28","v":25.6},{"$f":"L$2*V3_TuneBuilder!$B28","v":28.16},{"$f":"M$2*V3_TuneBuilder!$B28","v":30.72},{"$f":"N$2*V3_TuneBuilder!$B28","v":33.28},{"$f":"O$2*V3_TuneBuilder!$B28","v":35.840000000000003},{"$f":"P$2*V3_TuneBuilder!$B28","v":38.4},{"$f":"Q$2*V3_TuneBuilder!$B28","v":40.96},{"$f":"R$2*V3_TuneBuilder!$B28","v":43.52},{"$f":"S$2*V3_TuneBuilder!$B28","v":46.08},{"$f":"T$2*V3_TuneBuilder!$B28","v":48.64},{"$f":"U$2*V3_TuneBuilder!$B28","v":51.2},{"$f":"V$2*V3_TuneBuilder!$B28","v":53.76},{"$f":"W$2*V3_TuneBuilder!$B28","v":56.32},{"$f":"X$2*V3_TuneBuilder!$B28","v":58.88},{"$f":"Y$2*V3_TuneBuilder!$B28","v":61.44},{"$f":"Z$2*V3_TuneBuilder!$B28","v":64}]
[24,{"$f":"B$2*V3_TuneBuilder!$B29","v":2.72},{"$f":"C$2*V3_TuneBuilder!$B29","v":5.44},{"$f":"D$2*V3_TuneBuilder!$B29","v":8.16},{"$f":"E$2*V3_TuneBuilder!$B29","v":10.88},{"$f":"F$2*V3_TuneBuilder!$B29","v":13.600000000000001},{"$f":"G$2*V3_TuneBuilder!$B29","v":16.32},{"$f":"H$2*V3_TuneBuilder!$B29","v":19.040000000000003},{"$f":"I$2*V3_TuneBuilder!$B29","v":21.76},{"$f":"J$2*V3_TuneBuilder!$B29","v":24.48},{"$f":"K$2*V3_TuneBuilder!$B29","v":27.200000000000003},{"$f":"L$2*V3_TuneBuilder!$B29","v":29.92},{"$f":"M$2*V3_TuneBuilder!$B29","v":32.64},{"$f":"N$2*V3_TuneBuilder!$B29","v":35.36},{"$f":"O$2*V3_TuneBuilder!$B29","v":38.080000000000005},{"$f":"P$2*V3_TuneBuilder!$B29","v":40.799999999999997},{"$f":"Q$2*V3_TuneBuilder!$B29","v":43.52},{"$f":"R$2*V3_TuneBuilder!$B29","v":46.24},{"$f":"S$2*V3_TuneBuilder!$B29","v":48.96},{"$f":"T$2*V3_TuneBuilder!$B29","v":51.68},{"$f":"U$2*V3_TuneBuilder!$B29","v":54.400000000000006},{"$f":"V$2*V3_TuneBuilder!$B29","v":57.12},{"$f":"W$2*V3_TuneBuilder!$B29","v":59.84},{"$f":"X$2*V3_TuneBuilder!$B29","v":62.56},{"$f":"Y$2*V3_TuneBuilder!$B29","v":65.28},{"$f":"Z$2*V3_TuneBuilder!$B29","v":68}]
[26,{"$f":"B$2*V3_TuneBuilder!$B30","v":2.88},{"$f":"C$2*V3_TuneBuilder!$B30","v":5.76},{"$f":"D$2*V3_TuneBuilder!$B30","v":8.64},{"$f":"E$2*V3_TuneBuilder!$B30","v":11.52},{"$f":"F$2*V3_TuneBuilder!$B30","v":14.4},{"$f":"G$2*V3_TuneBuilder!$B30","v":17.28},{"$f":"H$2*V3_TuneBuilder!$B30","v":20.160000000000004},{"$f":"I$2*V3_TuneBuilder!$B30","v":23.04},{"$f":"J$2*V3_TuneBuilder!$B30","v":25.919999999999998},{"$f":"K$2*V3_TuneBuilder!$B30","v":28.8},{"$f":"L$2*V3_TuneBuilder!$B30","v":31.68},{"$f":"M$2*V3_TuneBuilder!$B30","v":34.56},{"$f":"N$2*V3_TuneBuilder!$B30","v":37.44},{"$f":"O$2*V3_TuneBuilder!$B30","v":40.320000000000007},{"$f":"P$2*V3_TuneBuilder!$B30","v":43.199999999999996},{"$f":"Q$2*V3_TuneBuilder!$B30","v":46.08},{"$f":"R$2*V3_TuneBuilder!$B30","v":48.96},{"$f":"S$2*V3_TuneBuilder!$B30","v":51.839999999999996},{"$f":"T$2*V3_TuneBuilder!$B30","v":54.72},{"$f":"U$2*V3_TuneBuilder!$B30","v":57.6},{"$f":"V$2*V3_TuneBuilder!$B30","v":60.48},{"$f":"W$2*V3_TuneBuilder!$B30","v":63.36},{"$f":"X$2*V3_TuneBuilder!$B30","v":66.240000000000009},{"$f":"Y$2*V3_TuneBuilder!$B30","v":69.12},{"$f":"Z$2*V3_TuneBuilder!$B30","v":72}]
[28,{"$f":"B$2*V3_TuneBuilder!$B31","v":3.04},{"$f":"C$2*V3_TuneBuilder!$B31","v":6.08},{"$f":"D$2*V3_TuneBuilder!$B31","v":9.1199999999999992},{"$f":"E$2*V3_TuneBuilder!$B31","v":12.16},{"$f":"F$2*V3_TuneBuilder!$B31","v":15.200000000000001},{"$f":"G$2*V3_TuneBuilder!$B31","v":18.239999999999998},{"$f":"H$2*V3_TuneBuilder!$B31","v":21.28},{"$f":"I$2*V3_TuneBuilder!$B31","v":24.32},{"$f":"J$2*V3_TuneBuilder!$B31","v":27.36},{"$f":"K$2*V3_TuneBuilder!$B31","v":30.400000000000002},{"$f":"L$2*V3_TuneBuilder!$B31","v":33.44},{"$f":"M$2*V3_TuneBuilder!$B31","v":36.479999999999997},{"$f":"N$2*V3_TuneBuilder!$B31","v":39.520000000000003},{"$f":"O$2*V3_TuneBuilder!$B31","v":42.56},{"$f":"P$2*V3_TuneBuilder!$B31","v":45.6},{"$f":"Q$2*V3_TuneBuilder!$B31","v":48.64},{"$f":"R$2*V3_TuneBuilder!$B31","v":51.680000000000007},{"$f":"S$2*V3_TuneBuilder!$B31","v":54.72},{"$f":"T$2*V3_TuneBuilder!$B31","v":57.76},{"$f":"U$2*V3_TuneBuilder!$B31","v":60.800000000000004},{"$f":"V$2*V3_TuneBuilder!$B31","v":63.839999999999996},{"$f":"W$2*V3_TuneBuilder!$B31","v":66.88},{"$f":"X$2*V3_TuneBuilder!$B31","v":69.92},{"$f":"Y$2*V3_TuneBuilder!$B31","v":72.959999999999994},{"$f":"Z$2*V3_TuneBuilder!$B31","v":76}]
[30,{"$f":"B$2*V3_TuneBuilder!$B32","v":3.2},{"$f":"C$2*V3_TuneBuilder!$B32","v":6.4},{"$f":"D$2*V3_TuneBuilder!$B32","v":9.6},{"$f":"E$2*V3_TuneBuilder!$B32","v":12.8},{"$f":"F$2*V3_TuneBuilder!$B32","v":16},{"$f":"G$2*V3_TuneBuilder!$B32","v":19.2},{"$f":"H$2*V3_TuneBuilder!$B32","v":22.400000000000002},{"$f":"I$2*V3_TuneBuilder!$B32","v":25.6},{"$f":"J$2*V3_TuneBuilder!$B32","v":28.799999999999997},{"$f":"K$2*V3_TuneBuilder!$B32","v":32},{"$f":"L$2*V3_TuneBuilder!$B32","v":35.200000000000003},{"$f":"M$2*V3_TuneBuilder!$B32","v":38.4},{"$f":"N$2*V3_TuneBuilder!$B32","v":41.6},{"$f":"O$2*V3_TuneBuilder!$B32","v":44.800000000000004},{"$f":"P$2*V3_TuneBuilder!$B32","v":48},{"$f":"Q$2*V3_TuneBuilder!$B32","v":51.2},{"$f":"R$2*V3_TuneBuilder!$B32","v":54.400000000000006},{"$f":"S$2*V3_TuneBuilder!$B32","v":57.599999999999994},{"$f":"T$2*V3_TuneBuilder!$B32","v":60.8},{"$f":"U$2*V3_TuneBuilder!$B32","v":64},{"$f":"V$2*V3_TuneBuilder!$B32","v":67.2},{"$f":"W$2*V3_TuneBuilder!$B32","v":70.400000000000006},{"$f":"X$2*V3_TuneBuilder!$B32","v":73.600000000000009},{"$f":"Y$2*V3_TuneBuilder!$B32","v":76.8},{"$f":"Z$2*V3_TuneBuilder!$B32","v":80}]
[32,{"$f":"B$2*V3_TuneBuilder!$B33","v":3.36},{"$f":"C$2*V3_TuneBuilder!$B33","v":6.72},{"$f":"D$2*V3_TuneBuilder!$B33","v":10.08},{"$f":"E$2*V3_TuneBuilder!$B33","v":13.44},{"$f":"F$2*V3_TuneBuilder!$B33","v":16.8},{"$f":"G$2*V3_TuneBuilder!$B33","v":20.16},{"$f":"H$2*V3_TuneBuilder!$B33","v":23.520000000000003},{"$f":"I$2*V3_TuneBuilder!$B33","v":26.88},{"$f":"J$2*V3_TuneBuilder!$B33","v":30.24},{"$f":"K$2*V3_TuneBuilder!$B33","v":33.6},{"$f":"L$2*V3_TuneBuilder!$B33","v":36.96},{"$f":"M$2*V3_TuneBuilder!$B33","v":40.32},{"$f":"N$2*V3_TuneBuilder!$B33","v":43.68},{"$f":"O$2*V3_TuneBuilder!$B33","v":47.040000000000006},{"$f":"P$2*V3_TuneBuilder!$B33","v":50.4},{"$f":"Q$2*V3_TuneBuilder!$B33","v":53.76},{"$f":"R$2*V3_TuneBuilder!$B33","v":57.120000000000005},{"$f":"S$2*V3_TuneBuilder!$B33","v":60.48},{"$f":"T$2*V3_TuneBuilder!$B33","v":63.84},{"$f":"U$2*V3_TuneBuilder!$B33","v":67.2},{"$f":"V$2*V3_TuneBuilder!$B33","v":70.56},{"$f":"W$2*V3_TuneBuilder!$B33","v":73.92},{"$f":"X$2*V3_TuneBuilder!$B33","v":77.28},{"$f":"Y$2*V3_TuneBuilder!$B33","v":80.64},{"$f":"Z$2*V3_TuneBuilder!$B33","v":84}]
[34,{"$f":"B$2*V3_TuneBuilder!$B34","v":3.52},{"$f":"C$2*V3_TuneBuilder!$B34","v":7.04},{"$f":"D$2*V3_TuneBuilder!$B34","v":10.559999999999999},{"$f":"E$2*V3_TuneBuilder!$B34","v":14.08},{"$f":"F$2*V3_TuneBuilder!$B34","v":17.600000000000001},{"$f":"G$2*V3_TuneBuilder!$B34","v":21.119999999999997},{"$f":"H$2*V3_TuneBuilder!$B34","v":24.64},{"$f":"I$2*V3_TuneBuilder!$B34","v":28.16},{"$f":"J$2*V3_TuneBuilder!$B34","v":31.68},{"$f":"K$2*V3_TuneBuilder!$B34","v":35.200000000000003},{"$f":"L$2*V3_TuneBuilder!$B34","v":38.72},{"$f":"M$2*V3_TuneBuilder!$B34","v":42.239999999999995},{"$f":"N$2*V3_TuneBuilder!$B34","v":45.760000000000005},{"$f":"O$2*V3_TuneBuilder!$B34","v":49.28},{"$f":"P$2*V3_TuneBuilder!$B34","v":52.8},{"$f":"Q$2*V3_TuneBuilder!$B34","v":56.32},{"$f":"R$2*V3_TuneBuilder!$B34","v":59.84},{"$f":"S$2*V3_TuneBuilder!$B34","v":63.36},{"$f":"T$2*V3_TuneBuilder!$B34","v":66.88},{"$f":"U$2*V3_TuneBuilder!$B34","v":70.400000000000006},{"$f":"V$2*V3_TuneBuilder!$B34","v":73.92},{"$f":"W$2*V3_TuneBuilder!$B34","v":77.44},{"$f":"X$2*V3_TuneBuilder!$B34","v":80.960000000000008},{"$f":"Y$2*V3_TuneBuilder!$B34","v":84.47999999999999},{"$f":"Z$2*V3_TuneBuilder!$B34","v":88}]
[36,{"$f":"B$2*V3_TuneBuilder!$B35","v":3.68},{"$f":"C$2*V3_TuneBuilder!$B35","v":7.36},{"$f":"D$2*V3_TuneBuilder!$B35","v":11.04},{"$f":"E$2*V3_TuneBuilder!$B35","v":14.72},{"$f":"F$2*V3_TuneBuilder!$B35","v":18.400000000000002},{"$f":"G$2*V3_TuneBuilder!$B35","v":22.08},{"$f":"H$2*V3_TuneBuilder!$B35","v":25.76},{"$f":"I$2*V3_TuneBuilder!$B35","v":29.44},{"$f":"J$2*V3_TuneBuilder!$B35","v":33.119999999999997},{"$f":"K$2*V3_TuneBuilder!$B35","v":36.800000000000004},{"$f":"L$2*V3_TuneBuilder!$B35","v":40.479999999999997},{"$f":"M$2*V3_TuneBuilder!$B35","v":44.16},{"$f":"N$2*V3_TuneBuilder!$B35","v":47.84},{"$f":"O$2*V3_TuneBuilder!$B35","v":51.52},{"$f":"P$2*V3_TuneBuilder!$B35","v":55.199999999999996},{"$f":"Q$2*V3_TuneBuilder!$B35","v":58.88},{"$f":"R$2*V3_TuneBuilder!$B35","v":62.56},{"$f":"S$2*V3_TuneBuilder!$B35","v":66.239999999999995},{"$f":"T$2*V3_TuneBuilder!$B35","v":69.92},{"$f":"U$2*V3_TuneBuilder!$B35","v":73.600000000000009},{"$f":"V$2*V3_TuneBuilder!$B35","v":77.28},{"$f":"W$2*V3_TuneBuilder!$B35","v":80.959999999999994},{"$f":"X$2*V3_TuneBuilder!$B35","v":84.64},{"$f":"Y$2*V3_TuneBuilder!$B35","v":88.32},{"$f":"Z$2*V3_TuneBuilder!$B35","v":92}]
[38,{"$f":"B$2*V3_TuneBuilder!$B36","v":3.84},{"$f":"C$2*V3_TuneBuilder!$B36","v":7.68},{"$f":"D$2*V3_TuneBuilder!$B36","v":11.52},{"$f":"E$2*V3_TuneBuilder!$B36","v":15.36},{"$f":"F$2*V3_TuneBuilder!$B36","v":19.200000000000003},{"$f":"G$2*V3_TuneBuilder!$B36","v":23.04},{"$f":"H$2*V3_TuneBuilder!$B36","v":26.880000000000003},{"$f":"I$2*V3_TuneBuilder!$B36","v":30.72},{"$f":"J$2*V3_TuneBuilder!$B36","v":34.56},{"$f":"K$2*V3_TuneBuilder!$B36","v":38.400000000000006},{"$f":"L$2*V3_TuneBuilder!$B36","v":42.24},{"$f":"M$2*V3_TuneBuilder!$B36","v":46.08},{"$f":"N$2*V3_TuneBuilder!$B36","v":49.92},{"$f":"O$2*V3_TuneBuilder!$B36","v":53.760000000000005},{"$f":"P$2*V3_TuneBuilder!$B36","v":57.599999999999994},{"$f":"Q$2*V3_TuneBuilder!$B36","v":61.44},{"$f":"R$2*V3_TuneBuilder!$B36","v":65.28},{"$f":"S$2*V3_TuneBuilder!$B36","v":69.12},{"$f":"T$2*V3_TuneBuilder!$B36","v":72.960000000000008},{"$f":"U$2*V3_TuneBuilder!$B36","v":76.800000000000011},{"$f":"V$2*V3_TuneBuilder!$B36","v":80.64},{"$f":"W$2*V3_TuneBuilder!$B36","v":84.48},{"$f":"X$2*V3_TuneBuilder!$B36","v":88.320000000000007},{"$f":"Y$2*V3_TuneBuilder!$B36","v":92.16},{"$f":"Z$2*V3_TuneBuilder!$B36","v":96}]
[40,{"$f":"B$2*V3_TuneBuilder!$B37","v":4},{"$f":"C$2*V3_TuneBuilder!$B37","v":8},{"$f":"D$2*V3_TuneBuilder!$B37","v":12},{"$f":"E$2*V3_TuneBuilder!$B37","v":16},{"$f":"F$2*V3_TuneBuilder!$B37","v":20},{"$f":"G$2*V3_TuneBuilder!$B37","v":24},{"$f":"H$2*V3_TuneBuilder!$B37","v":28.000000000000004},{"$f":"I$2*V3_TuneBuilder!$B37","v":32},{"$f":"J$2*V3_TuneBuilder!$B37","v":36},{"$f":"K$2*V3_TuneBuilder!$B37","v":40},{"$f":"L$2*V3_TuneBuilder!$B37","v":44},{"$f":"M$2*V3_TuneBuilder!$B37","v":48},{"$f":"N$2*V3_TuneBuilder!$B37","v":52},{"$f":"O$2*V3_TuneBuilder!$B37","v":56.000000000000007},{"$f":"P$2*V3_TuneBuilder!$B37","v":60},{"$f":"Q$2*V3_TuneBuilder!$B37","v":64},{"$f":"R$2*V3_TuneBuilder!$B37","v":68},{"$f":"S$2*V3_TuneBuilder!$B37","v":72},{"$f":"T$2*V3_TuneBuilder!$B37","v":76},{"$f":"U$2*V3_TuneBuilder!$B37","v":80},{"$f":"V$2*V3_TuneBuilder!$B37","v":84},{"$f":"W$2*V3_TuneBuilder!$B37","v":88},{"$f":"X$2*V3_TuneBuilder!$B37","v":92},{"$f":"Y$2*V3_TuneBuilder!$B37","v":96},{"$f":"Z$2*V3_TuneBuilder!$B37","v":100}]
["4KV2"]
["TPS %",0.04,0.08,0.12,0.16,0.2,0.24,0.28000000000000003,0.32,0.36,0.4,0.44,0.48,0.52,0.56000000000000005,0.6,0.64,0.68,0.72,0.76,0.8,0.84,0.88,0.92,0.96,1]
[1,{"$f":"B$29*'4KV3_TuneBuilder'!$B13","v":0.16},{"$f":"C$29*'4KV3_TuneBuilder'!$B13","v":0.32},{"$f":"D$29*'4KV3_TuneBuilder'!$B13","v":0.48},{"$f":"E$29*'4KV3_TuneBuilder'!$B13","v":0.64},{"$f":"F$29*'4KV3_TuneBuilder'!$B13","v":0.8},{"$f":"G$29*'4KV3_TuneBuilder'!$B13","v":0.96},{"$f":"H$29*'4KV3_TuneBuilder'!$B13","v":1.1200000000000001},{"$f":"I$29*'4KV3_TuneBuilder'!$B13","v":1.28},{"$f":"J$29*'4KV3_TuneBuilder'!$B13","v":1.44},{"$f":"K$29*'4KV3_TuneBuilder'!$B13","v":1.6},{"$f":"L$29*'4KV3_TuneBuilder'!$B13","v":1.76},{"$f":"M$29*'4KV3_TuneBuilder'!$B13","v":1.92},{"$f":"N$29*'4KV3_TuneBuilder'!$B13","v":2.08},{"$f":"O$29*'4KV3_TuneBuilder'!$B13","v":2.2400000000000002},{"$f":"P$29*'4KV3_TuneBuilder'!$B13","v":2.4},{"$f":"Q$29*'4KV3_TuneBuilder'!$B13","v":2.56},{"$f":"R$29*'4KV3_TuneBuilder'!$B13","v":2.72},{"$f":"S$29*'4KV3_TuneBuilder'!$B13","v":2.88},{"$f":"T$29*'4KV3_TuneBuilder'!$B13","v":3.04},{"$f":"U$29*'4KV3_TuneBuilder'!$B13","v":3.2},{"$f":"V$29*'4KV3_TuneBuilder'!$B13","v":3.36},{"$f":"W$29*'4KV3_TuneBuilder'!$B13","v":3.52},{"$f":"X$29*'4KV3_TuneBuilder'!$B13","v":3.68},{"$f":"Y$29*'4KV3_TuneBuilder'!$B13","v":3.84},{"$f":"Z$29*'4KV3_TuneBuilder'!$B13","v":4}]
[2,{"$f":"B$29*'4KV3_TuneBuilder'!$B14","v":0.32},{"$f":"C$29*'4KV3_TuneBuilder'!$B14","v":0.64},{"$f":"D$29*'4KV3_TuneBuilder'!$B14","v":0.96},{"$f":"E$29*'4KV3_TuneBuilder'!$B14","v":1.28},{"$f":"F$29*'4KV3_TuneBuilder'!$B14","v":1.6},{"$f":"G$29*'4KV3_TuneBuilder'!$B14","v":1.92},{"$f":"H$29*'4KV3_TuneBuilder'!$B14","v":2.2400000000000002},{"$f":"I$29*'4KV3_TuneBuilder'!$B14","v":2.56},{"$f":"J$29*'4KV3_TuneBuilder'!$B14","v":2.88},{"$f":"K$29*'4KV3_TuneBuilder'!$B14","v":3.2},{"$f":"L$29*'4KV3_TuneBuilder'!$B14","v":3.52},{"$f":"M$29*'4KV3_TuneBuilder'!$B14","v":3.84},{"$f":"N$29*'4KV3_TuneBuilder'!$B14","v":4.16},{"$f":"O$29*'4KV3_TuneBuilder'!$B14","v":4.4800000000000004},{"$f":"P$29*'4KV3_TuneBuilder'!$B14","v":4.8},{"$f":"Q$29*'4KV3_TuneBuilder'!$B14","v":5.12},{"$f":"R$29*'4KV3_TuneBuilder'!$B14","v":5.44},{"$f":"S$29*'4KV3_TuneBuilder'!$B14","v":5.76},{"$f":"T$29*'4KV3_TuneBuilder'!$B14","v":6.08},{"$f":"U$29*'4KV3_TuneBuilder'!$B14","v":6.4},{"$f":"V$29*'4KV3_TuneBuilder'!$B14","v":6.72},{"$f":"W$29*'4KV3_TuneBuilder'!$B14","v":7.04},{"$f":"X$29*'4KV3_TuneBuilder'!$B14","v":7.36},{"$f":"Y$29*'4KV3_TuneBuilder'!$B14","v":7.68},{"$f":"Z$29*'4KV3_TuneBuilder'!$B14","v":8}]
[3,{"$f":"B$29*'4KV3_TuneBuilder'!$B15","v":0.48},{"$f":"C$29*'4KV3_TuneBuilder'!$B15","v":0.96},{"$f":"D$29*'4KV3_TuneBuilder'!$B15","v":1.44},{"$f":"E$29*'4KV3_TuneBuilder'!$B15","v":1.92},{"$f":"F$29*'4KV3_TuneBuilder'!$B15","v":2.4000000000000004},{"$f":"G$29*'4KV3_TuneBuilder'!$B15","v":2.88},{"$f":"H$29*'4KV3_TuneBuilder'!$B15","v":3.3600000000000003},{"$f":"I$29*'4KV3_TuneBuilder'!$B15","v":3.84},{"$f":"J$29*'4KV3_TuneBuilder'!$B15","v":4.32},{"$f":"K$29*'4KV3_TuneBuilder'!$B15","v":4.8000000000000007},{"$f":"L$29*'4KV3_TuneBuilder'!$B15","v":5.28},{"$f":"M$29*'4KV3_TuneBuilder'!$B15","v":5.76},{"$f":"N$29*'4KV3_TuneBuilder'!$B15","v":6.24},{"$f":"O$29*'4KV3_TuneBuilder'!$B15","v":6.7200000000000006},{"$f":"P$29*'4KV3_TuneBuilder'!$B15","v":7.1999999999999993},{"$f":"Q$29*'4KV3_TuneBuilder'!$B15","v":7.68},{"$f":"R$29*'4KV3_TuneBuilder'!$B15","v":8.16},{"$f":"S$29*'4KV3_TuneBuilder'!$B15","v":8.64},{"$f":"T$29*'4KV3_TuneBuilder'!$B15","v":9.120000000000001},{"$f":"U$29*'4KV3_TuneBuilder'!$B15","v":9.6000000000000014},{"$f":"V$29*'4KV3_TuneBuilder'!$B15","v":10.08},{"$f":"W$29*'4KV3_TuneBuilder'!$B15","v":10.56},{"$f":"X$29*'4KV3_TuneBuilder'!$B15","v":11.040000000000001},{"$f":"Y$29*'4KV3_TuneBuilder'!$B15","v":11.52},{"$f":"Z$29*'4KV3_TuneBuilder'!$B15","v":12}]
[4,{"$f":"B$29*'4KV3_TuneBuilder'!$B16","v":0.64},{"$f":"C$29*'4KV3_TuneBuilder'!$B16","v":1.28},{"$f":"D$29*'4KV3_TuneBuilder'!$B16","v":1.92},{"$f":"E$29*'4KV3_TuneBuilder'!$B16","v":2.56},{"$f":"F$29*'4KV3_TuneBuilder'!$B16","v":3.2},{"$f":"G$29*'4KV3_TuneBuilder'!$B16","v":3.84},{"$f":"H$29*'4KV3_TuneBuilder'!$B16","v":4.4800000000000004},{"$f":"I$29*'4KV3_TuneBuilder'!$B16","v":5.12},{"$f":"J$29*'4KV3_TuneBuilder'!$B16","v":5.76},{"$f":"K$29*'4KV3_TuneBuilder'!$B16","v":6.4},{"$f":"L$29*'4KV3_TuneBuilder'!$B16","v":7.04},{"$f":"M$29*'4KV3_TuneBuilder'!$B16","v":7.68},{"$f":"N$29*'4KV3_TuneBuilder'!$B16","v":8.32},{"$f":"O$29*'4KV3_TuneBuilder'!$B16","v":8.9600000000000009},{"$f":"P$29*'4KV3_TuneBuilder'!$B16","v":9.6},{"$f":"Q$29*'4KV3_TuneBuilder'!$B16","v":10.24},{"$f":"R$29*'4KV3_TuneBuilder'!$B16","v":10.88},{"$f":"S$29*'4KV3_TuneBuilder'!$B16","v":11.52},{"$f":"T$29*'4KV3_TuneBuilder'!$B16","v":12.16},{"$f":"U$29*'4KV3_TuneBuilder'!$B16","v":12.8},{"$f":"V$29*'4KV3_TuneBuilder'!$B16","v":13.44},{"$f":"W$29*'4KV3_TuneBuilder'!$B16","v":14.08},{"$f":"X$29*'4KV3_TuneBuilder'!$B16","v":14.72},{"$f":"Y$29*'4KV3_TuneBuilder'!$B16","v":15.36},{"$f":"Z$29*'4KV3_TuneBuilder'!$B16","v":16}]
[5,{"$f":"B$29*'4KV3_TuneBuilder'!$B17","v":0.8},{"$f":"C$29*'4KV3_TuneBuilder'!$B17","v":1.6},{"$f":"D$29*'4KV3_TuneBuilder'!$B17","v":2.4},{"$f":"E$29*'4KV3_TuneBuilder'!$B17","v":3.2},{"$f":"F$29*'4KV3_TuneBuilder'!$B17","v":4},{"$f":"G$29*'4KV3_TuneBuilder'!$B17","v":4.8},{"$f":"H$29*'4KV3_TuneBuilder'!$B17","v":5.6000000000000005},{"$f":"I$29*'4KV3_TuneBuilder'!$B17","v":6.4},{"$f":"J$29*'4KV3_TuneBuilder'!$B17","v":7.1999999999999993},{"$f":"K$29*'4KV3_TuneBuilder'!$B17","v":8},{"$f":"L$29*'4KV3_TuneBuilder'!$B17","v":8.8000000000000007},{"$f":"M$29*'4KV3_TuneBuilder'!$B17","v":9.6},{"$f":"N$29*'4KV3_TuneBuilder'!$B17","v":10.4},{"$f":"O$29*'4KV3_TuneBuilder'!$B17","v":11.200000000000001},{"$f":"P$29*'4KV3_TuneBuilder'!$B17","v":12},{"$f":"Q$29*'4KV3_TuneBuilder'!$B17","v":12.8},{"$f":"R$29*'4KV3_TuneBuilder'!$B17","v":13.600000000000001},{"$f":"S$29*'4KV3_TuneBuilder'!$B17","v":14.399999999999999},{"$f":"T$29*'4KV3_TuneBuilder'!$B17","v":15.2},{"$f":"U$29*'4KV3_TuneBuilder'!$B17","v":16},{"$f":"V$29*'4KV3_TuneBuilder'!$B17","v":16.8},{"$f":"W$29*'4KV3_TuneBuilder'!$B17","v":17.600000000000001},{"$f":"X$29*'4KV3_TuneBuilder'!$B17","v":18.400000000000002},{"$f":"Y$29*'4KV3_TuneBuilder'!$B17","v":19.2},{"$f":"Z$29*'4KV3_TuneBuilder'!$B17","v":20}]
[6,{"$f":"B$29*'4KV3_TuneBuilder'!$B18","v":0.96},{"$f":"C$29*'4KV3_TuneBuilder'!$B18","v":1.92},{"$f":"D$29*'4KV3_TuneBuilder'!$B18","v":2.88},{"$f":"E$29*'4KV3_TuneBuilder'!$B18","v":3.84},{"$f":"F$29*'4KV3_TuneBuilder'!$B18","v":4.8000000000000007},{"$f":"G$29*'4KV3_TuneBuilder'!$B18","v":5.76},{"$f":"H$29*'4KV3_TuneBuilder'!$B18","v":6.7200000000000006},{"$f":"I$29*'4KV3_TuneBuilder'!$B18","v":7.68},{"$f":"J$29*'4KV3_TuneBuilder'!$B18","v":8.64},{"$f":"K$29*'4KV3_TuneBuilder'!$B18","v":9.6000000000000014},{"$f":"L$29*'4KV3_TuneBuilder'!$B18","v":10.56},{"$f":"M$29*'4KV3_TuneBuilder'!$B18","v":11.52},{"$f":"N$29*'4KV3_TuneBuilder'!$B18","v":12.48},{"$f":"O$29*'4KV3_TuneBuilder'!$B18","v":13.440000000000001},{"$f":"P$29*'4KV3_TuneBuilder'!$B18","v":14.399999999999999},{"$f":"Q$29*'4KV3_TuneBuilder'!$B18","v":15.36},{"$f":"R$29*'4KV3_TuneBuilder'!$B18","v":16.32},{"$f":"S$29*'4KV3_TuneBuilder'!$B18","v":17.28},{"$f":"T$29*'4KV3_TuneBuilder'!$B18","v":18.240000000000002},{"$f":"U$29*'4KV3_TuneBuilder'!$B18","v":19.200000000000003},{"$f":"V$29*'4KV3_TuneBuilder'!$B18","v":20.16},{"$f":"W$29*'4KV3_TuneBuilder'!$B18","v":21.12},{"$f":"X$29*'4KV3_TuneBuilder'!$B18","v":22.080000000000002},{"$f":"Y$29*'4KV3_TuneBuilder'!$B18","v":23.04},{"$f":"Z$29*'4KV3_TuneBuilder'!$B18","v":24}]
[7,{"$f":"B$29*'4KV3_TuneBuilder'!$B19","v":1.1200000000000001},{"$f":"C$29*'4KV3_TuneBuilder'!$B19","v":2.2400000000000002},{"$f":"D$29*'4KV3_TuneBuilder'!$B19","v":3.36},{"$f":"E$29*'4KV3_TuneBuilder'!$B19","v":4.4800000000000004},{"$f":"F$29*'4KV3_TuneBuilder'!$B19","v":5.6000000000000005},{"$f":"G$29*'4KV3_TuneBuilder'!$B19","v":6.72},{"$f":"H$29*'4KV3_TuneBuilder'!$B19","v":7.8400000000000007},{"$f":"I$29*'4KV3_TuneBuilder'!$B19","v":8.9600000000000009},{"$f":"J$29*'4KV3_TuneBuilder'!$B19","v":10.08},{"$f":"K$29*'4KV3_TuneBuilder'!$B19","v":11.200000000000001},{"$f":"L$29*'4KV3_TuneBuilder'!$B19","v":12.32},{"$f":"M$29*'4KV3_TuneBuilder'!$B19","v":13.44},{"$f":"N$29*'4KV3_TuneBuilder'!$B19","v":14.56},{"$f":"O$29*'4KV3_TuneBuilder'!$B19","v":15.680000000000001},{"$f":"P$29*'4KV3_TuneBuilder'!$B19","v":16.8},{"$f":"Q$29*'4KV3_TuneBuilder'!$B19","v":17.920000000000002},{"$f":"R$29*'4KV3_TuneBuilder'!$B19","v":19.040000000000003},{"$f":"S$29*'4KV3_TuneBuilder'!$B19","v":20.16},{"$f":"T$29*'4KV3_TuneBuilder'!$B19","v":21.28},{"$f":"U$29*'4KV3_TuneBuilder'!$B19","v":22.400000000000002},{"$f":"V$29*'4KV3_TuneBuilder'!$B19","v":23.52},{"$f":"W$29*'4KV3_TuneBuilder'!$B19","v":24.64},{"$f":"X$29*'4KV3_TuneBuilder'!$B19","v":25.76},{"$f":"Y$29*'4KV3_TuneBuilder'!$B19","v":26.88},{"$f":"Z$29*'4KV3_TuneBuilder'!$B19","v":28}]
[8,{"$f":"B$29*'4KV3_TuneBuilder'!$B20","v":1.28},{"$f":"C$29*'4KV3_TuneBuilder'!$B20","v":2.56},{"$f":"D$29*'4KV3_TuneBuilder'!$B20","v":3.84},{"$f":"E$29*'4KV3_TuneBuilder'!$B20","v":5.12},{"$f":"F$29*'4KV3_TuneBuilder'!$B20","v":6.4},{"$f":"G$29*'4KV3_TuneBuilder'!$B20","v":7.68},{"$f":"H$29*'4KV3_TuneBuilder'!$B20","v":8.9600000000000009},{"$f":"I$29*'4KV3_TuneBuilder'!$B20","v":10.24},{"$f":"J$29*'4KV3_TuneBuilder'!$B20","v":11.52},{"$f":"K$29*'4KV3_TuneBuilder'!$B20","v":12.8},{"$f":"L$29*'4KV3_TuneBuilder'!$B20","v":14.08},{"$f":"M$29*'4KV3_TuneBuilder'!$B20","v":15.36},{"$f":"N$29*'4KV3_TuneBuilder'!$B20","v":16.64},{"$f":"O$29*'4KV3_TuneBuilder'!$B20","v":17.920000000000002},{"$f":"P$29*'4KV3_TuneBuilder'!$B20","v":19.2},{"$f":"Q$29*'4KV3_TuneBuilder'!$B20","v":20.48},{"$f":"R$29*'4KV3_TuneBuilder'!$B20","v":21.76},{"$f":"S$29*'4KV3_TuneBuilder'!$B20","v":23.04},{"$f":"T$29*'4KV3_TuneBuilder'!$B20","v":24.32},{"$f":"U$29*'4KV3_TuneBuilder'!$B20","v":25.6},{"$f":"V$29*'4KV3_TuneBuilder'!$B20","v":26.88},{"$f":"W$29*'4KV3_TuneBuilder'!$B20","v":28.16},{"$f":"X$29*'4KV3_TuneBuilder'!$B20","v":29.44},{"$f":"Y$29*'4KV3_TuneBuilder'!$B20","v":30.72},{"$f":"Z$29*'4KV3_TuneBuilder'!$B20","v":32}]
[9,{"$f":"B$29*'4KV3_TuneBuilder'!$B21","v":1.44},{"$f":"C$29*'4KV3_TuneBuilder'!$B21","v":2.88},{"$f":"D$29*'4KV3_TuneBuilder'!$B21","v":4.32},{"$f":"E$29*'4KV3_TuneBuilder'!$B21","v":5.76},{"$f":"F$29*'4KV3_TuneBuilder'!$B21","v":7.2},{"$f":"G$29*'4KV3_TuneBuilder'!$B21","v":8.64},{"$f":"H$29*'4KV3_TuneBuilder'!$B21","v":10.080000000000002},{"$f":"I$29*'4KV3_TuneBuilder'!$B21","v":11.52},{"$f":"J$29*'4KV3_TuneBuilder'!$B21","v":12.959999999999999},{"$f":"K$29*'4KV3_TuneBuilder'!$B21","v":14.4},{"$f":"L$29*'4KV3_TuneBuilder'!$B21","v":15.84},{"$f":"M$29*'4KV3_TuneBuilder'!$B21","v":17.28},{"$f":"N$29*'4KV3_TuneBuilder'!$B21","v":18.72},{"$f":"O$29*'4KV3_TuneBuilder'!$B21","v":20.160000000000004},{"$f":"P$29*'4KV3_TuneBuilder'!$B21","v":21.599999999999998},{"$f":"Q$29*'4KV3_TuneBuilder'!$B21","v":23.04},{"$f":"R$29*'4KV3_TuneBuilder'!$B21","v":24.48},{"$f":"S$29*'4KV3_TuneBuilder'!$B21","v":25.919999999999998},{"$f":"T$29*'4KV3_TuneBuilder'!$B21","v":27.36},{"$f":"U$29*'4KV3_TuneBuilder'!$B21","v":28.8},{"$f":"V$29*'4KV3_TuneBuilder'!$B21","v":30.24},{"$f":"W$29*'4KV3_TuneBuilder'!$B21","v":31.68},{"$f":"X$29*'4KV3_TuneBuilder'!$B21","v":33.120000000000005},{"$f":"Y$29*'4KV3_TuneBuilder'!$B21","v":34.56},{"$f":"Z$29*'4KV3_TuneBuilder'!$B21","v":36}]
[10,{"$f":"B$29*'4KV3_TuneBuilder'!$B22","v":1.6},{"$f":"C$29*'4KV3_TuneBuilder'!$B22","v":3.2},{"$f":"D$29*'4KV3_TuneBuilder'!$B22","v":4.8},{"$f":"E$29*'4KV3_TuneBuilder'!$B22","v":6.4},{"$f":"F$29*'4KV3_TuneBuilder'!$B22","v":8},{"$f":"G$29*'4KV3_TuneBuilder'!$B22","v":9.6},{"$f":"H$29*'4KV3_TuneBuilder'!$B22","v":11.200000000000001},{"$f":"I$29*'4KV3_TuneBuilder'!$B22","v":12.8},{"$f":"J$29*'4KV3_TuneBuilder'!$B22","v":14.399999999999999},{"$f":"K$29*'4KV3_TuneBuilder'!$B22","v":16},{"$f":"L$29*'4KV3_TuneBuilder'!$B22","v":17.600000000000001},{"$f":"M$29*'4KV3_TuneBuilder'!$B22","v":19.2},{"$f":"N$29*'4KV3_TuneBuilder'!$B22","v":20.8},{"$f":"O$29*'4KV3_TuneBuilder'!$B22","v":22.400000000000002},{"$f":"P$29*'4KV3_TuneBuilder'!$B22","v":24},{"$f":"Q$29*'4KV3_TuneBuilder'!$B22","v":25.6},{"$f":"R$29*'4KV3_TuneBuilder'!$B22","v":27.200000000000003},{"$f":"S$29*'4KV3_TuneBuilder'!$B22","v":28.799999999999997},{"$f":"T$29*'4KV3_TuneBuilder'!$B22","v":30.4},{"$f":"U$29*'4KV3_TuneBuilder'!$B22","v":32},{"$f":"V$29*'4KV3_TuneBuilder'!$B22","v":33.6},{"$f":"W$29*'4KV3_TuneBuilder'!$B22","v":35.200000000000003},{"$f":"X$29*'4KV3_TuneBuilder'!$B22","v":36.800000000000004},{"$f":"Y$29*'4KV3_TuneBuilder'!$B22","v":38.4},{"$f":"Z$29*'4KV3_TuneBuilder'!$B22","v":40}]
[12,{"$f":"B$29*'4KV3_TuneBuilder'!$B23","v":1.76},{"$f":"C$29*'4KV3_TuneBuilder'!$B23","v":3.52},{"$f":"D$29*'4KV3_TuneBuilder'!$B23","v":5.2799999999999994},{"$f":"E$29*'4KV3_TuneBuilder'!$B23","v":7.04},{"$f":"F$29*'4KV3_TuneBuilder'!$B23","v":8.8000000000000007},{"$f":"G$29*'4KV3_TuneBuilder'!$B23","v":10.559999999999999},{"$f":"H$29*'4KV3_TuneBuilder'!$B23","v":12.32},{"$f":"I$29*'4KV3_TuneBuilder'!$B23","v":14.08},{"$f":"J$29*'4KV3_TuneBuilder'!$B23","v":15.84},{"$f":"K$29*'4KV3_TuneBuilder'!$B23","v":17.600000000000001},{"$f":"L$29*'4KV3_TuneBuilder'!$B23","v":19.36},{"$f":"M$29*'4KV3_TuneBuilder'!$B23","v":21.119999999999997},{"$f":"N$29*'4KV3_TuneBuilder'!$B23","v":22.880000000000003},{"$f":"O$29*'4KV3_TuneBuilder'!$B23","v":24.64},{"$f":"P$29*'4KV3_TuneBuilder'!$B23","v":26.4},{"$f":"Q$29*'4KV3_TuneBuilder'!$B23","v":28.16},{"$f":"R$29*'4KV3_TuneBuilder'!$B23","v":29.92},{"$f":"S$29*'4KV3_TuneBuilder'!$B23","v":31.68},{"$f":"T$29*'4KV3_TuneBuilder'!$B23","v":33.44},{"$f":"U$29*'4KV3_TuneBuilder'!$B23","v":35.200000000000003},{"$f":"V$29*'4KV3_TuneBuilder'!$B23","v":36.96},{"$f":"W$29*'4KV3_TuneBuilder'!$B23","v":38.72},{"$f":"X$29*'4KV3_TuneBuilder'!$B23","v":40.480000000000004},{"$f":"Y$29*'4KV3_TuneBuilder'!$B23","v":42.239999999999995},{"$f":"Z$29*'4KV3_TuneBuilder'!$B23","v":44}]
[14,{"$f":"B$29*'4KV3_TuneBuilder'!$B24","v":1.92},{"$f":"C$29*'4KV3_TuneBuilder'!$B24","v":3.84},{"$f":"D$29*'4KV3_TuneBuilder'!$B24","v":5.76},{"$f":"E$29*'4KV3_TuneBuilder'!$B24","v":7.68},{"$f":"F$29*'4KV3_TuneBuilder'!$B24","v":9.6000000000000014},{"$f":"G$29*'4KV3_TuneBuilder'!$B24","v":11.52},{"$f":"H$29*'4KV3_TuneBuilder'!$B24","v":13.440000000000001},{"$f":"I$29*'4KV3_TuneBuilder'!$B24","v":15.36},{"$f":"J$29*'4KV3_TuneBuilder'!$B24","v":17.28},{"$f":"K$29*'4KV3_TuneBuilder'!$B24","v":19.200000000000003},{"$f":"L$29*'4KV3_TuneBuilder'!$B24","v":21.12},{"$f":"M$29*'4KV3_TuneBuilder'!$B24","v":23.04},{"$f":"N$29*'4KV3_TuneBuilder'!$B24","v":24.96},{"$f":"O$29*'4KV3_TuneBuilder'!$B24","v":26.880000000000003},{"$f":"P$29*'4KV3_TuneBuilder'!$B24","v":28.799999999999997},{"$f":"Q$29*'4KV3_TuneBuilder'!$B24","v":30.72},{"$f":"R$29*'4KV3_TuneBuilder'!$B24","v":32.64},{"$f":"S$29*'4KV3_TuneBuilder'!$B24","v":34.56},{"$f":"T$29*'4KV3_TuneBuilder'!$B24","v":36.480000000000004},{"$f":"U$29*'4KV3_TuneBuilder'!$B24","v":38.400000000000006},{"$f":"V$29*'4KV3_TuneBuilder'!$B24","v":40.32},{"$f":"W$29*'4KV3_TuneBuilder'!$B24","v":42.24},{"$f":"X$29*'4KV3_TuneBuilder'!$B24","v":44.160000000000004},{"$f":"Y$29*'4KV3_TuneBuilder'!$B24","v":46.08},{"$f":"Z$29*'4KV3_TuneBuilder'!$B24","v":48}]
[16,{"$f":"B$29*'4KV3_TuneBuilder'!$B25","v":2.08},{"$f":"C$29*'4KV3_TuneBuilder'!$B25","v":4.16},{"$f":"D$29*'4KV3_TuneBuilder'!$B25","v":6.24},{"$f":"E$29*'4KV3_TuneBuilder'!$B25","v":8.32},{"$f":"F$29*'4KV3_TuneBuilder'!$B25","v":10.4},{"$f":"G$29*'4KV3_TuneBuilder'!$B25","v":12.48},{"$f":"H$29*'4KV3_TuneBuilder'!$B25","v":14.560000000000002},{"$f":"I$29*'4KV3_TuneBuilder'!$B25","v":16.64},{"$f":"J$29*'4KV3_TuneBuilder'!$B25","v":18.72},{"$f":"K$29*'4KV3_TuneBuilder'!$B25","v":20.8},{"$f":"L$29*'4KV3_TuneBuilder'!$B25","v":22.88},{"$f":"M$29*'4KV3_TuneBuilder'!$B25","v":24.96},{"$f":"N$29*'4KV3_TuneBuilder'!$B25","v":27.04},{"$f":"O$29*'4KV3_TuneBuilder'!$B25","v":29.120000000000005},{"$f":"P$29*'4KV3_TuneBuilder'!$B25","v":31.2},{"$f":"Q$29*'4KV3_TuneBuilder'!$B25","v":33.28},{"$f":"R$29*'4KV3_TuneBuilder'!$B25","v":35.36},{"$f":"S$29*'4KV3_TuneBuilder'!$B25","v":37.44},{"$f":"T$29*'4KV3_TuneBuilder'!$B25","v":39.520000000000003},{"$f":"U$29*'4KV3_TuneBuilder'!$B25","v":41.6},{"$f":"V$29*'4KV3_TuneBuilder'!$B25","v":43.68},{"$f":"W$29*'4KV3_TuneBuilder'!$B25","v":45.76},{"$f":"X$29*'4KV3_TuneBuilder'!$B25","v":47.84},{"$f":"Y$29*'4KV3_TuneBuilder'!$B25","v":49.92},{"$f":"Z$29*'4KV3_TuneBuilder'!$B25","v":52}]
[18,{"$f":"B$29*'4KV3_TuneBuilder'!$B26","v":2.2400000000000002},{"$f":"C$29*'4KV3_TuneBuilder'!$B26","v":4.4800000000000004},{"$f":"D$29*'4KV3_TuneBuilder'!$B26","v":6.72},{"$f":"E$29*'4KV3_TuneBuilder'!$B26","v":8.9600000000000009},{"$f":"F$29*'4KV3_TuneBuilder'!$B26","v":11.200000000000001},{"$f":"G$29*'4KV3_TuneBuilder'!$B26","v":13.44},{"$f":"H$29*'4KV3_TuneBuilder'!$B26","v":15.680000000000001},{"$f":"I$29*'4KV3_TuneBuilder'!$B26","v":17.920000000000002},{"$f":"J$29*'4KV3_TuneBuilder'!$B26","v":20.16},{"$f":"K$29*'4KV3_TuneBuilder'!$B26","v":22.400000000000002},{"$f":"L$29*'4KV3_TuneBuilder'!$B26","v":24.64},{"$f":"M$29*'4KV3_TuneBuilder'!$B26","v":26.88},{"$f":"N$29*'4KV3_TuneBuilder'!$B26","v":29.12},{"$f":"O$29*'4KV3_TuneBuilder'!$B26","v":31.360000000000003},{"$f":"P$29*'4KV3_TuneBuilder'!$B26","v":33.6},{"$f":"Q$29*'4KV3_TuneBuilder'!$B26","v":35.840000000000003},{"$f":"R$29*'4KV3_TuneBuilder'!$B26","v":38.080000000000005},{"$f":"S$29*'4KV3_TuneBuilder'!$B26","v":40.32},{"$f":"T$29*'4KV3_TuneBuilder'!$B26","v":42.56},{"$f":"U$29*'4KV3_TuneBuilder'!$B26","v":44.800000000000004},{"$f":"V$29*'4KV3_TuneBuilder'!$B26","v":47.04},{"$f":"W$29*'4KV3_TuneBuilder'!$B26","v":49.28},{"$f":"X$29*'4KV3_TuneBuilder'!$B26","v":51.52},{"$f":"Y$29*'4KV3_TuneBuilder'!$B26","v":53.76},{"$f":"Z$29*'4KV3_TuneBuilder'!$B26","v":56}]
[20,{"$f":"B$29*'4KV3_TuneBuilder'!$B27","v":2.4},{"$f":"C$29*'4KV3_TuneBuilder'!$B27","v":4.8},{"$f":"D$29*'4KV3_TuneBuilder'!$B27","v":7.1999999999999993},{"$f":"E$29*'4KV3_TuneBuilder'!$B27","v":9.6},{"$f":"F$29*'4KV3_TuneBuilder'!$B27","v":12},{"$f":"G$29*'4KV3_TuneBuilder'!$B27","v":14.399999999999999},{"$f":"H$29*'4KV3_TuneBuilder'!$B27","v":16.8},{"$f":"I$29*'4KV3_TuneBuilder'!$B27","v":19.2},{"$f":"J$29*'4KV3_TuneBuilder'!$B27","v":21.599999999999998},{"$f":"K$29*'4KV3_TuneBuilder'!$B27","v":24},{"$f":"L$29*'4KV3_TuneBuilder'!$B27","v":26.4},{"$f":"M$29*'4KV3_TuneBuilder'!$B27","v":28.799999999999997},{"$f":"N$29*'4KV3_TuneBuilder'!$B27","v":31.200000000000003},{"$f":"O$29*'4KV3_TuneBuilder'!$B27","v":33.6},{"$f":"P$29*'4KV3_TuneBuilder'!$B27","v":36},{"$f":"Q$29*'4KV3_TuneBuilder'!$B27","v":38.4},{"$f":"R$29*'4KV3_TuneBuilder'!$B27","v":40.800000000000004},{"$f":"S$29*'4KV3_TuneBuilder'!$B27","v":43.199999999999996},{"$f":"T$29*'4KV3_TuneBuilder'!$B27","v":45.6},{"$f":"U$29*'4KV3_TuneBuilder'!$B27","v":48},{"$f":"V$29*'4KV3_TuneBuilder'!$B27","v":50.4},{"$f":"W$29*'4KV3_TuneBuilder'!$B27","v":52.8},{"$f":"X$29*'4KV3_TuneBuilder'!$B27","v":55.2},{"$f":"Y$29*'4KV3_TuneBuilder'!$B27","v":57.599999999999994},{"$f":"Z$29*'4KV3_TuneBuilder'!$B27","v":60}]
[22,{"$f":"B$29*'4KV3_TuneBuilder'!$B28","v":2.56},{"$f":"C$29*'4KV3_TuneBuilder'!$B28","v":5.12},{"$f":"D$29*'4KV3_TuneBuilder'!$B28","v":7.68},{"$f":"E$29*'4KV3_TuneBuilder'!$B28","v":10.24},{"$f":"F$29*'4KV3_TuneBuilder'!$B28","v":12.8},{"$f":"G$29*'4KV3_TuneBuilder'!$B28","v":15.36},{"$f":"H$29*'4KV3_TuneBuilder'!$B28","v":17.920000000000002},{"$f":"I$29*'4KV3_TuneBuilder'!$B28","v":20.48},{"$f":"J$29*'4KV3_TuneBuilder'!$B28","v":23.04},{"$f":"K$29*'4KV3_TuneBuilder'!$B28","v":25.6},{"$f":"L$29*'4KV3_TuneBuilder'!$B28","v":28.16},{"$f":"M$29*'4KV3_TuneBuilder'!$B28","v":30.72},{"$f":"N$29*'4KV3_TuneBuilder'!$B28","v":33.28},{"$f":"O$29*'4KV3_TuneBuilder'!$B28","v":35.840000000000003},{"$f":"P$29*'4KV3_TuneBuilder'!$B28","v":38.4},{"$f":"Q$29*'4KV3_TuneBuilder'!$B28","v":40.96},{"$f":"R$29*'4KV3_TuneBuilder'!$B28","v":43.52},{"$f":"S$29*'4KV3_TuneBuilder'!$B28","v":46.08},{"$f":"T$29*'4KV3_TuneBuilder'!$B28","v":48.64},{"$f":"U$29*'4KV3_TuneBuilder'!$B28","v":51.2},{"$f":"V$29*'4KV3_TuneBuilder'!$B28","v":53.76},{"$f":"W$29*'4KV3_TuneBuilder'!$B28","v":56.32},{"$f":"X$29*'4KV3_TuneBuilder'!$B28","v":58.88},{"$f":"Y$29*'4KV3_TuneBuilder'!$B28","v":61.44},{"$f":"Z$29*'4KV3_TuneBuilder'!$B28","v":64}]
[24,{"$f":"B$29*'4KV3_TuneBuilder'!$B29","v":2.72},{"$f":"C$29*'4KV3_TuneBuilder'!$B29","v":5.44},{"$f":"D$29*'4KV3_TuneBuilder'!$B29","v":8.16},{"$f":"E$29*'4KV3_TuneBuilder'!$B29","v":10.88},{"$f":"F$29*'4KV3_TuneBuilder'!$B29","v":13.600000000000001},{"$f":"G$29*'4KV3_TuneBuilder'!$B29","v":16.32},{"$f":"H$29*'4KV3_TuneBuilder'!$B29","v":19.040000000000003},{"$f":"I$29*'4KV3_TuneBuilder'!$B29","v":21.76},{"$f":"J$29*'4KV3_TuneBuilder'!$B29","v":24.48},{"$f":"K$29*'4KV3_TuneBuilder'!$B29","v":27.200000000000003},{"$f":"L$29*'4KV3_TuneBuilder'!$B29","v":29.92},{"$f":"M$29*'4KV3_TuneBuilder'!$B29","v":32.64},{"$f":"N$29*'4KV3_TuneBuilder'!$B29","v":35.36},{"$f":"O$29*'4KV3_TuneBuilder'!$B29","v":38.080000000000005},{"$f":"P$29*'4KV3_TuneBuilder'!$B29","v":40.799999999999997},{"$f":"Q$29*'4KV3_TuneBuilder'!$B29","v":43.52},{"$f":"R$29*'4KV3_TuneBuilder'!$B29","v":46.24},{"$f":"S$29*'4KV3_TuneBuilder'!$B29","v":48.96},{"$f":"T$29*'4KV3_TuneBuilder'!$B29","v":51.68},{"$f":"U$29*'4KV3_TuneBuilder'!$B29","v":54.400000000000006},{"$f":"V$29*'4KV3_TuneBuilder'!$B29","v":57.12},{"$f":"W$29*'4KV3_TuneBuilder'!$B29","v":59.84},{"$f":"X$29*'4KV3_TuneBuilder'!$B29","v":62.56},{"$f":"Y$29*'4KV3_TuneBuilder'!$B29","v":65.28},{"$f":"Z$29*'4KV3_TuneBuilder'!$B29","v":68}]
[26,{"$f":"B$29*'4KV3_TuneBuilder'!$B30","v":2.88},{"$f":"C$29*'4KV3_TuneBuilder'!$B30","v":5.76},{"$f":"D$29*'4KV3_TuneBuilder'!$B30","v":8.64},{"$f":"E$29*'4KV3_TuneBuilder'!$B30","v":11.52},{"$f":"F$29*'4KV3_TuneBuilder'!$B30","v":14.4},{"$f":"G$29*'4KV3_TuneBuilder'!$B30","v":17.28},{"$f":"H$29*'4KV3_TuneBuilder'!$B30","v":20.160000000000004},{"$f":"I$29*'4KV3_TuneBuilder'!$B30","v":23.04},{"$f":"J$29*'4KV3_TuneBuilder'!$B30","v":25.919999999999998},{"$f":"K$29*'4KV3_TuneBuilder'!$B30","v":28.8},{"$f":"L$29*'4KV3_TuneBuilder'!$B30","v":31.68},{"$f":"M$29*'4KV3_TuneBuilder'!$B30","v":34.56},{"$f":"N$29*'4KV3_TuneBuilder'!$B30","v":37.44},{"$f":"O$29*'4KV3_TuneBuilder'!$B30","v":40.320000000000007},{"$f":"P$29*'4KV3_TuneBuilder'!$B30","v":43.199999999999996},{"$f":"Q$29*'4KV3_TuneBuilder'!$B30","v":46.08},{"$f":"R$29*'4KV3_TuneBuilder'!$B30","v":48.96},{"$f":"S$29*'4KV3_TuneBuilder'!$B30","v":51.839999999999996},{"$f":"T$29*'4KV3_TuneBuilder'!$B30","v":54.72},{"$f":"U$29*'4KV3_TuneBuilder'!$B30","v":57.6},{"$f":"V$29*'4KV3_TuneBuilder'!$B30","v":60.48},{"$f":"W$29*'4KV3_TuneBuilder'!$B30","v":63.36},{"$f":"X$29*'4KV3_TuneBuilder'!$B30","v":66.240000000000009},{"$f":"Y$29*'4KV3_TuneBuilder'!$B30","v":69.12},{"$f":"Z$29*'4KV3_TuneBuilder'!$B30","v":72}]
[28,{"$f":"B$29*'4KV3_TuneBuilder'!$B31","v":3.04},{"$f":"C$29*'4KV3_TuneBuilder'!$B31","v":6.08},{"$f":"D$29*'4KV3_TuneBuilder'!$B31","v":9.1199999999999992},{"$f":"E$29*'4KV3_TuneBuilder'!$B31","v":12.16},{"$f":"F$29*'4KV3_TuneBuilder'!$B31","v":15.200000000000001},{"$f":"G$29*'4KV3_TuneBuilder'!$B31","v":18.239999999999998},{"$f":"H$29*'4KV3_TuneBuilder'!$B31","v":21.28},{"$f":"I$29*'4KV3_TuneBuilder'!$B31","v":24.32},{"$f":"J$29*'4KV3_TuneBuilder'!$B31","v":27.36},{"$f":"K$29*'4KV3_TuneBuilder'!$B31","v":30.400000000000002},{"$f":"L$29*'4KV3_TuneBuilder'!$B31","v":33.44},{"$f":"M$29*'4KV3_TuneBuilder'!$B31","v":36.479999999999997},{"$f":"N$29*'4KV3_TuneBuilder'!$B31","v":39.520000000000003},{"$f":"O$29*'4KV3_TuneBuilder'!$B31","v":42.56},{"$f":"P$29*'4KV3_TuneBuilder'!$B31","v":45.6},{"$f":"Q$29*'4KV3_TuneBuilder'!$B31","v":48.64},{"$f":"R$29*'4KV3_TuneBuilder'!$B31","v":51.680000000000007},{"$f":"S$29*'4KV3_TuneBuilder'!$B31","v":54.72},{"$f":"T$29*'4KV3_TuneBuilder'!$B31","v":57.76},{"$f":"U$29*'4KV3_TuneBuilder'!$B31","v":60.800000000000004},{"$f":"V$29*'4KV3_TuneBuilder'!$B31","v":63.839999999999996},{"$f":"W$29*'4KV3_TuneBuilder'!$B31","v":66.88},{"$f":"X$29*'4KV3_TuneBuilder'!$B31","v":69.92},{"$f":"Y$29*'4KV3_TuneBuilder'!$B31","v":72.959999999999994},{"$f":"Z$29*'4KV3_TuneBuilder'!$B31","v":76}]
[30,{"$f":"B$29*'4KV3_TuneBuilder'!$B32","v":3.2},{"$f":"C$29*'4KV3_TuneBuilder'!$B32","v":6.4},{"$f":"D$29*'4KV3_TuneBuilder'!$B32","v":9.6},{"$f":"E$29*'4KV3_TuneBuilder'!$B32","v":12.8},{"$f":"F$29*'4KV3_TuneBuilder'!$B32","v":16},{"$f":"G$29*'4KV3_TuneBuilder'!$B32","v":19.2},{"$f":"H$29*'4KV3_TuneBuilder'!$B32","v":22.400000000000002},{"$f":"I$29*'4KV3_TuneBuilder'!$B32","v":25.6},{"$f":"J$29*'4KV3_TuneBuilder'!$B32","v":28.799999999999997},{"$f":"K$29*'4KV3_TuneBuilder'!$B32","v":32},{"$f":"L$29*'4KV3_TuneBuilder'!$B32","v":35.200000000000003},{"$f":"M$29*'4KV3_TuneBuilder'!$B32","v":38.4},{"$f":"N$29*'4KV3_TuneBuilder'!$B32","v":41.6},{"$f":"O$29*'4KV3_TuneBuilder'!$B32","v":44.800000000000004},{"$f":"P$29*'4KV3_TuneBuilder'!$B32","v":48},{"$f":"Q$29*'4KV3_TuneBuilder'!$B32","v":51.2},{"$f":"R$29*'4KV3_TuneBuilder'!$B32","v":54.400000000000006},{"$f":"S$29*'4KV3_TuneBuilder'!$B32","v":57.599999999999994},{"$f":"T$29*'4KV3_TuneBuilder'!$B32","v":60.8},{"$f":"U$29*'4KV3_TuneBuilder'!$B32","v":64},{"$f":"V$29*'4KV3_TuneBuilder'!$B32","v":67.2},{"$f":"W$29*'4KV3_TuneBuilder'!$B32","v":70.400000000000006},{"$f":"X$29*'4KV3_TuneBuilder'!$B32","v":73.600000000000009},{"$f":"Y$29*'4KV3_TuneBuilder'!$B32","v":76.8},{"$f":"Z$29*'4KV3_TuneBuilder'!$B32","v":80}]
[32,{"$f":"B$29*'4KV3_TuneBuilder'!$B33","v":3.36},{"$f":"C$29*'4KV3_TuneBuilder'!$B33","v":6.72},{"$f":"D$29*'4KV3_TuneBuilder'!$B33","v":10.08},{"$f":"E$29*'4KV3_TuneBuilder'!$B33","v":13.44},{"$f":"F$29*'4KV3_TuneBuilder'!$B33","v":16.8},{"$f":"G$29*'4KV3_TuneBuilder'!$B33","v":20.16},{"$f":"H$29*'4KV3_TuneBuilder'!$B33","v":23.520000000000003},{"$f":"I$29*'4KV3_TuneBuilder'!$B33","v":26.88},{"$f":"J$29*'4KV3_TuneBuilder'!$B33","v":30.24},{"$f":"K$29*'4KV3_TuneBuilder'!$B33","v":33.6},{"$f":"L$29*'4KV3_TuneBuilder'!$B33","v":36.96},{"$f":"M$29*'4KV3_TuneBuilder'!$B33","v":40.32},{"$f":"N$29*'4KV3_TuneBuilder'!$B33","v":43.68},{"$f":"O$29*'4KV3_TuneBuilder'!$B33","v":47.040000000000006},{"$f":"P$29*'4KV3_TuneBuilder'!$B33","v":50.4},{"$f":"Q$29*'4KV3_TuneBuilder'!$B33","v":53.76},{"$f":"R$29*'4KV3_TuneBuilder'!$B33","v":57.120000000000005},{"$f":"S$29*'4KV3_TuneBuilder'!$B33","v":60.48},{"$f":"T$29*'4KV3_TuneBuilder'!$B33","v":63.84},{"$f":"U$29*'4KV3_TuneBuilder'!$B33","v":67.2},{"$f":"V$29*'4KV3_TuneBuilder'!$B33","v":70.56},{"$f":"W$29*'4KV3_TuneBuilder'!$B33","v":73.92},{"$f":"X$29*'4KV3_TuneBuilder'!$B33","v":77.28},{"$f":"Y$29*'4KV3_TuneBuilder'!$B33","v":80.64},{"$f":"Z$29*'4KV3_TuneBuilder'!$B33","v":84}]
[34,{"$f":"B$29*'4KV3_TuneBuilder'!$B34","v":3.52},{"$f":"C$29*'4KV3_TuneBuilder'!$B34","v":7.04},{"$f":"D$29*'4KV3_TuneBuilder'!$B34","v":10.559999999999999},{"$f":"E$29*'4KV3_TuneBuilder'!$B34","v":14.08},{"$f":"F$29*'4KV3_TuneBuilder'!$B34","v":17.600000000000001},{"$f":"G$29*'4KV3_TuneBuilder'!$B34","v":21.119999999999997},{"$f":"H$29*'4KV3_TuneBuilder'!$B34","v":24.64},{"$f":"I$29*'4KV3_TuneBuilder'!$B34","v":28.16},{"$f":"J$29*'4KV3_TuneBuilder'!$B34","v":31.68},{"$f":"K$29*'4KV3_TuneBuilder'!$B34","v":35.200000000000003},{"$f":"L$29*'4KV3_TuneBuilder'!$B34","v":38.72},{"$f":"M$29*'4KV3_TuneBuilder'!$B34","v":42.239999999999995},{"$f":"N$29*'4KV3_TuneBuilder'!$B34","v":45.760000000000005},{"$f":"O$29*'4KV3_TuneBuilder'!$B34","v":49.28},{"$f":"P$29*'4KV3_TuneBuilder'!$B34","v":52.8},{"$f":"Q$29*'4KV3_TuneBuilder'!$B34","v":56.32},{"$f":"R$29*'4KV3_TuneBuilder'!$B34","v":59.84},{"$f":"S$29*'4KV3_TuneBuilder'!$B34","v":63.36},{"$f":"T$29*'4KV3_TuneBuilder'!$B34","v":66.88},{"$f":"U$29*'4KV3_TuneBuilder'!$B34","v":70.400000000000006},{"$f":"V$29*'4KV3_TuneBuilder'!$B34","v":73.92},{"$f":"W$29*'4KV3_TuneBuilder'!$B34","v":77.44},{"$f":"X$29*'4KV3_TuneBuilder'!$B34","v":80.960000000000008},{"$f":"Y$29*'4KV3_TuneBuilder'!$B34","v":84.47999999999999},{"$f":"Z$29*'4KV3_TuneBuilder'!$B34","v":88}]
[36,{"$f":"B$29*'4KV3_TuneBuilder'!$B35","v":3.68},{"$f":"C$29*'4KV3_TuneBuilder'!$B35","v":7.36},{"$f":"D$29*'4KV3_TuneBuilder'!$B35","v":11.04},{"$f":"E$29*'4KV3_TuneBuilder'!$B35","v":14.72},{"$f":"F$29*'4KV3_TuneBuilder'!$B35","v":18.400000000000002},{"$f":"G$29*'4KV3_TuneBuilder'!$B35","v":22.08},{"$f":"H$29*'4KV3_TuneBuilder'!$B35","v":25.76},{"$f":"I$29*'4KV3_TuneBuilder'!$B35","v":29.44},{"$f":"J$29*'4KV3_TuneBuilder'!$B35","v":33.119999999999997},{"$f":"K$29*'4KV3_TuneBuilder'!$B35","v":36.800000000000004},{"$f":"L$29*'4KV3_TuneBuilder'!$B35","v":40.479999999999997},{"$f":"M$29*'4KV3_TuneBuilder'!$B35","v":44.16},{"$f":"N$29*'4KV3_TuneBuilder'!$B35","v":47.84},{"$f":"O$29*'4KV3_TuneBuilder'!$B35","v":51.52},{"$f":"P$29*'4KV3_TuneBuilder'!$B35","v":55.199999999999996},{"$f":"Q$29*'4KV3_TuneBuilder'!$B35","v":58.88},{"$f":"R$29*'4KV3_TuneBuilder'!$B35","v":62.56},{"$f":"S$29*'4KV3_TuneBuilder'!$B35","v":66.239999999999995},{"$f":"T$29*'4KV3_TuneBuilder'!$B35","v":69.92},{"$f":"U$29*'4KV3_TuneBuilder'!$B35","v":73.600000000000009},{"$f":"V$29*'4KV3_TuneBuilder'!$B35","v":77.28},{"$f":"W$29*'4KV3_TuneBuilder'!$B35","v":80.959999999999994},{"$f":"X$29*'4KV3_TuneBuilder'!$B35","v":84.64},{"$f":"Y$29*'4KV3_TuneBuilder'!$B35","v":88.32},{"$f":"Z$29*'4KV3_TuneBuilder'!$B35","v":92}]
[38,{"$f":"B$29*'4KV3_TuneBuilder'!$B36","v":3.84},{"$f":"C$29*'4KV3_TuneBuilder'!$B36","v":7.68},{"$f":"D$29*'4KV3_TuneBuilder'!$B36","v":11.52},{"$f":"E$29*'4KV3_TuneBuilder'!$B36","v":15.36},{"$f":"F$29*'4KV3_TuneBuilder'!$B36","v":19.200000000000003},{"$f":"G$29*'4KV3_TuneBuilder'!$B36","v":23.04},{"$f":"H$29*'4KV3_TuneBuilder'!$B36","v":26.880000000000003},{"$f":"I$29*'4KV3_TuneBuilder'!$B36","v":30.72},{"$f":"J$29*'4KV3_TuneBuilder'!$B36","v":34.56},{"$f":"K$29*'4KV3_TuneBuilder'!$B36","v":38.400000000000006},{"$f":"L$29*'4KV3_TuneBuilder'!$B36","v":42.24},{"$f":"M$29*'4KV3_TuneBuilder'!$B36","v":46.08},{"$f":"N$29*'4KV3_TuneBuilder'!$B36","v":49.92},{"$f":"O$29*'4KV3_TuneBuilder'!$B36","v":53.760000000000005},{"$f":"P$29*'4KV3_TuneBuilder'!$B36","v":57.599999999999994},{"$f":"Q$29*'4KV3_TuneBuilder'!$B36","v":61.44},{"$f":"R$29*'4KV3_TuneBuilder'!$B36","v":65.28},{"$f":"S$29*'4KV3_TuneBuilder'!$B36","v":69.12},{"$f":"T$29*'4KV3_TuneBuilder'!$B36","v":72.960000000000008},{"$f":"U$29*'4KV3_TuneBuilder'!$B36","v":76.800000000000011},{"$f":"V$29*'4KV3_TuneBuilder'!$B36","v":80.64},{"$f":"W$29*'4KV3_TuneBuilder'!$B36","v":84.48},{"$f":"X$29*'4KV3_TuneBuilder'!$B36","v":88.320000000000007},{"$f":"Y$29*'4KV3_TuneBuilder'!$B36","v":92.16},{"$f":"Z$29*'4KV3_TuneBuilder'!$B36","v":96}]
[40,{"$f":"B$29*'4KV3_TuneBuilder'!$B37","v":4},{"$f":"C$29*'4KV3_TuneBuilder'!$B37","v":8},{"$f":"D$29*'4KV3_TuneBuilder'!$B37","v":12},{"$f":"E$29*'4KV3_TuneBuilder'!$B37","v":16},{"$f":"F$29*'4KV3_TuneBuilder'!$B37","v":20},{"$f":"G$29*'4KV3_TuneBuilder'!$B37","v":24},{"$f":"H$29*'4KV3_TuneBuilder'!$B37","v":28.000000000000004},{"$f":"I$29*'4KV3_TuneBuilder'!$B37","v":32},{"$f":"J$29*'4KV3_TuneBuilder'!$B37","v":36},{"$f":"K$29*'4KV3_TuneBuilder'!$B37","v":40},{"$f":"L$29*'4KV3_TuneBuilder'!$B37","v":44},{"$f":"M$29*'4KV3_TuneBuilder'!$B37","v":48},{"$f":"N$29*'4KV3_TuneBuilder'!$B37","v":52},{"$f":"O$29*'4KV3_TuneBuilder'!$B37","v":56.000000000000007},{"$f":"P$29*'4KV3_TuneBuilder'!$B37","v":60},{"$f":"Q$29*'4KV3_TuneBuilder'!$B37","v":64},{"$f":"R$29*'4KV3_TuneBuilder'!$B37","v":68},{"$f":"S$29*'4KV3_TuneBuilder'!$B37","v":72},{"$f":"T$29*'4KV3_TuneBuilder'!$B37","v":76},{"$f":"U$29*'4KV3_TuneBuilder'!$B37","v":80},{"$f":"V$29*'4KV3_TuneBuilder'!$B37","v":84},{"$f":"W$29*'4KV3_TuneBuilder'!$B37","v":88},{"$f":"X$29*'4KV3_TuneBuilder'!$B37","v":92},{"$f":"Y$29*'4KV3_TuneBuilder'!$B37","v":96},{"$f":"Z$29*'4KV3_TuneBuilder'!$B37","v":100}]
[]
[]
["CanBus"]
["OEM"]
[100]
[100]
[100]
[100]
[100]
[100]
[100]
[100]
[100]
[100]
[100]
[100]
[100]
[100]
[100]
[100]
[100]
[100]
[100]
[100]
[100]
[100]
[100]
[100]
[]
["V2"]
[null," Inputs",null,null,null,null,null,1,2,3,4,5,6,7,8,9,10,11,12,13,14,15,16,17,18,19,20]
[{"$f":"V2_TuneBuilder!B14","v":2},"Load %",{"$f":"V2_TuneBuilder!K2","v":29},"FL","LT","TR",null,0,0,0,10,20,30,35,40,45,50,55,60,65,70,75,80,85,90,95,100," //0 psi"]
[{"$f":"V2_TuneBuilder!B15","v":2},"PSI",{"$f":"V2_TuneBuilder!K3","v":0},{"$f":"IF(C86>=A90,((D88-A86)*-1),0)","v":0},{"$f":"IF(C86<A90,E88,0)","v":1.42},{"$f":"IF(C86>=A90,F88,0)","v":0},{"$f":"INDEX(H86:AA90,G89,G88)","v":0},0,0,0,0,0,10,15,20,25,30,35,40,45,50,55,60,65,70,75,80," //2 psi"]
[{"$f":"V2_TuneBuilder!B16","v":100},"TPS %",{"$f":"V2_TuneBuilder!K3","v":0},{"$f":"(A86 * C86 /100)","v":0.57999999999999996},{"$f":"IF(C89 > 50,E89+1,E89)","v":1.42},{"$f":"IF(F89>(A87*A88/100),(A87*A88/100),F89)","v":0},{"$f":"IF(C88 > 100,20,20 * D89 / 100)","v":1},0,0,0,0,0,0,0,0,5,10,15,20,25,30,35,40,45,50,55,60," //4 psi"]
[{"$f":"V2_TuneBuilder!B17","v":2},"MPH",{"$f":"V2_TuneBuilder!K5","v":35},{"$f":"IF(C88<5,5,C88)","v":5},{"$f":"IF(C86 < A90,(((100-C86)/100) * A89),0)","v":1.42},{"$f":"IF((C87<10),(A87*G87/100),0)","v":0},{"$f":"IF(C87 > 10,5,(5 * C87 / 10)+1)","v":1},0,0,0,0,0,0,0,0,0,0,0,0,5,10,15,20,25,30,35,40," //6 psi"]
[{"$f":"V2_TuneBuilder!B18","v":30},"RPM",{"$f":"V2_TuneBuilder!K6","v":2000},"Timing At RPM =",null,{"$f":"IF(C90<2000,(((C90 - 1499)/500) * (B93 - B92)+B92),IF(C90<2500,(((C90 - 1999)/500) * (B94 - B93)+B93),IF(C90<3000,(((C90 - 2499)/500) * (B95 - B94)+B94),IF(C90<3500,(((C90 - 2999)/500) * (B96 - B95)+B95),B96))))","v":19.426000000000002},null,0,0,0,0,0,0,0,0,0,0,0,0,0,0,0,0,5,10,15,20," //8 psi"]
[]
[{"$f":"V2_TuneBuilder!B20","v":15},{"$f":"A92-D87-F87+E87","v":16.420000000000002},null,"Copy Entire Red"]
[{"$f":"V2_TuneBuilder!B21","v":18},{"$f":"A93-D87-F87+E87","v":19.420000000000002},null,"Calcs based on Quadzilla code"]
[{"$f":"V2_TuneBuilder!B22","v":21},{"$f":"A94-D87-F87+E87","v":22.42}]
[{"$f":"V2_TuneBuilder!B23","v":23},{"$f":"A95-D87-F87+E87","v":24.42}]
[{"$f":"V2_TuneBuilder!B24","v":26},{"$f":"A96-D87-F87+E87","v":27.42}]
[]
["V3"]
[null," Inputs",null,null,null,null,null,1,2,3,4,5,6,7,8,9,10,11,12,13,14,15,16,17,18,19,20]
[{"$f":"V3_TuneBuilder!B39","v":2},"Load %",{"$f":"V3_TuneBuilder!K2","v":29},"FL","LT","TR",null,0,0,0,10,20,30,35,40,45,50,55,60,65,70,75,80,85,90,95,100," //0 psi"]
[{"$f":"V3_TuneBuilder!B40","v":2},"PSI",{"$f":"V3_TuneBuilder!K3","v":0},{"$f":"IF(C100>=A104,((D102-A100)*-1),0)","v":1.42},{"$f":"IF(C100<A104,E102,0)","v":0},{"$f":"IF(C100>=A104,F102,0)","v":0},{"$f":"INDEX(H100:AA104,G103,G102)","v":0},0,0,0,0,0,10,15,20,25,30,35,40,45,50,55,60,65,70,75,80," //2 psi"]
[{"$f":"V3_TuneBuilder!B41","v":100},"TPS %",{"$f":"V3_TuneBuilder!K4","v":1},{"$f":"(A100 * C100 /100)","v":0.57999999999999996},{"$f":"IF(C103 > 50,E103+1,E103)","v":0},{"$f":"IF(F103>(A101*A102/100),(A101*A102/100),F103)","v":0},{"$f":"IF(C102 > 100,20,20 * D103 / 100)","v":1},0,0,0,0,0,0,0,0,5,10,15,20,25,30,35,40,45,50,55,60," //4 psi"]
[{"$f":"V3_TuneBuilder!B42","v":2},"MPH",{"$f":"V3_TuneBuilder!K5","v":35},{"$f":"IF(C102<5,5,C102)","v":5},{"$f":"IF(C100 < A104,(((100-C100)/100) * A103),0)","v":0},{"$f":"IF((C101<10),(A101*G101/100),0)","v":0},{"$f":"IF(C101 > 10,5,(5 * C101 / 10)+1)","v":1},0,0,0,0,0,0,0,0,0,0,0,0,5,10,15,20,25,30,35,40," //6 psi"]
[{"$f":"V3_TuneBuilder!B43","v":5},"RPM",{"$f":"V3_TuneBuilder!K6","v":2000},"Timing At RPM =",null,{"$f":"IF(C104<2000,(((C104 - 1499)/500) * (B107 - B106)+B106),IF(C104<2500,(((C104 - 1999)/500) * (B108 - B107)+B107),IF(C104<3000,(((C104 - 2499)/500) * (B109 - B108)+B108),IF(C104<3500,(((C104 - 2999)/500) * (B110 - B109)+B109),B110))))","v":16.585999999999999},null,0,0,0,0,0,0,0,0,0,0,0,0,0,0,0,0,5,10,15,20," //8 psi"]
[]
[{"$f":"V3_TuneBuilder!B45","v":15},{"$f":"A106-D101-F101+E101","v":13.58},null,"Copy Entire Red"]
[{"$f":"V3_TuneBuilder!B46","v":18},{"$f":"A107-D101-F101+E101","v":16.579999999999998},null,"Calcs based on Quadzilla code"]
[{"$f":"V3_TuneBuilder!B47","v":21},{"$f":"A108-D101-F101+E101","v":19.579999999999998}]
[{"$f":"V3_TuneBuilder!B48","v":23},{"$f":"A109-D101-F101+E101","v":21.58}]
[{"$f":"V3_TuneBuilder!B49","v":26},{"$f":"A110-D101-F101+E101","v":24.58}]
[]
["4kV2"]
[null," Inputs",null,null,null,null,null,1,2,3,4,5,6,7,8,9,10,11,12,13,14,15,16,17,18,19,20]
[{"$f":"'4KV2_TuneBuilder'!B14","v":2},"Load %",{"$f":"'4KV2_TuneBuilder'!K2","v":29},"FL","LT","TR",null,0,0,0,10,20,30,35,40,45,50,55,60,65,70,75,80,85,90,95,100," //0 psi"]
[{"$f":"'4KV2_TuneBuilder'!B15","v":2},"PSI",{"$f":"'4KV2_TuneBuilder'!K3","v":0},{"$f":"IF(C114>=A118,((D116-A114)*-1),0)","v":0},{"$f":"IF(C114<A118,E116,0)","v":1.42},{"$f":"IF(C114>=A118,F116,0)","v":0},{"$f":"INDEX(H114:AA118,G117,G116)","v":0},0,0,0,0,0,10,15,20,25,30,35,40,45,50,55,60,65,70,75,80," //2 psi"]
[{"$f":"'4KV2_TuneBuilder'!B16","v":100},"TPS %",{"$f":"'4KV2_TuneBuilder'!K4","v":1},{"$f":"(A114 * C114 /100)","v":0.57999999999999996},{"$f":"IF(C117 > 50,E117+1,E117)","v":1.42},{"$f":"IF(F117>(A115*A116/100),(A115*A116/100),F117)","v":0},{"$f":"IF(C116 > 100,20,20 * D117 / 100)","v":1},0,0,0,0,0,0,0,0,5,10,15,20,25,30,35,40,45,50,55,60," //4 psi"]
[{"$f":"'4KV2_TuneBuilder'!B17","v":2},"MPH",{"$f":"'4KV2_TuneBuilder'!K5","v":35},{"$f":"IF(C116<5,5,C116)","v":5},{"$f":"IF(C114 < A118,(((100-C114)/100) * A117),0)","v":1.42},{"$f":"IF((C115<10),(A115*G115/100),0)","v":0},{"$f":"IF(C115 > 10,5,(5 * C115 / 10)+1)","v":1},0,0,0,0,0,0,0,0,0,0,0,0,5,10,15,20,25,30,35,40," //6 psi"]
[{"$f":"'4KV2_TuneBuilder'!B18","v":30},"RPM",{"$f":"'4KV2_TuneBuilder'!K6","v":2000},"Timing At RPM =",null,{"$f":"IF(C118<2000,(((C118 - 1499)/500) * (B121 - B120)+B120),IF(C118<2500,(((C118 - 1999)/500) * (B122 - B121)+B121),IF(C118<3000,(((C118 - 2499)/500) * (B123 - B122)+B122),IF(C118<3500,(((C118 - 2999)/500) * (B124 - B123)+B123),B124))))","v":19.426000000000002},null,0,0,0,0,0,0,0,0,0,0,0,0,0,0,0,0,5,10,15,20," //8 psi"]
[]
[{"$f":"'4KV2_TuneBuilder'!B20","v":15},{"$f":"A120-D115-F115+E115","v":16.420000000000002},null,"Copy Entire Red"]
[{"$f":"'4KV2_TuneBuilder'!B21","v":18},{"$f":"A121-D115-F115+E115","v":19.420000000000002},null,"Calcs based on Quadzilla code"]
[{"$f":"'4KV2_TuneBuilder'!B22","v":21},{"$f":"A122-D115-F115+E115","v":22.42}]
[{"$f":"'4KV2_TuneBuilder'!B23","v":23},{"$f":"A123-D115-F115+E115","v":24.42}]
[{"$f":"'4KV2_TuneBuilder'!B24","v":24},{"$f":"A124-$D$115-$F$115+$E$115","v":25.42}]
[{"$f":"'4KV2_TuneBuilder'!B25","v":25},{"$f":"A125-$D$115-$F$115+$E$115","v":26.42}]
[{"$f":"'4KV2_TuneBuilder'!B26","v":26},{"$f":"A126-$D$115-$F$115+$E$115","v":27.42}]
[]
["4kV3"]
[null," Inputs",null,null,null,null,null,1,2,3,4,5,6,7,8,9,10,11,12,13,14,15,16,17,18,19,20]
[{"$f":"'4KV3_TuneBuilder'!B39","v":2},"Load %",{"$f":"'4KV3_TuneBuilder'!K2","v":25},"FL","LT","TR",null,0,0,0,10,20,30,35,40,45,50,55,60,65,70,75,80,85,90,95,100," //0 psi"]
[{"$f":"'4KV3_TuneBuilder'!B40","v":2},"PSI",{"$f":"'4KV3_TuneBuilder'!K3","v":0},{"$f":"IF(C130>=A134,((D132-A130)*-1),0)","v":1.5},{"$f":"IF(C130<A134,E132,0)","v":0},{"$f":"IF(C130>=A134,F132,0)","v":0},{"$f":"INDEX(H130:AA134,G133,G132)","v":0},0,0,0,0,0,10,15,20,25,30,35,40,45,50,55,60,65,70,75,80," //2 psi"]
[{"$f":"'4KV3_TuneBuilder'!B41","v":100},"TPS %",{"$f":"'4KV3_TuneBuilder'!K4","v":5},{"$f":"(A130 * C130 /100)","v":0.5},{"$f":"IF(C133 > 50,E133+1,E133)","v":0},{"$f":"IF(F133>(A131*A132/100),(A131*A132/100),F133)","v":0},{"$f":"IF(C132 > 100,20,20 * D133 / 100)","v":1},0,0,0,0,0,0,0,0,5,10,15,20,25,30,35,40,45,50,55,60," //4 psi"]
[{"$f":"'4KV3_TuneBuilder'!B42","v":2},"MPH",{"$f":"'4KV3_TuneBuilder'!K5","v":35},{"$f":"IF(C132<5,5,C132)","v":5},{"$f":"IF(C130 < A134,(((100-C130)/100) * A133),0)","v":0},{"$f":"IF((C131<10),(A131*G131/100),0)","v":0},{"$f":"IF(C131 > 10,5,(5 * C131 / 10)+1)","v":1},0,0,0,0,0,0,0,0,0,0,0,0,5,10,15,20,25,30,35,40," //6 psi"]
[{"$f":"'4KV3_TuneBuilder'!B43","v":5},"RPM",{"$f":"'4KV3_TuneBuilder'!K6","v":2000},"Timing At RPM =",null,{"$f":"IF(C134<2000,(((C134 - 1499)/500) * (B137 - B136)+B136),IF(C134<2500,(((C134 - 1999)/500) * (B138 - B137)+B137),IF(C134<3000,(((C134 - 2499)/500) * (B139 - B138)+B138),IF(C134<3500,(((C134 - 2999)/500) * (B140 - B139)+B139),B140))))","v":16.506},null,0,0,0,0,0,0,0,0,0,0,0,0,0,0,0,0,5,10,15,20," //8 psi"]
[{"$f":"'4KV3_TuneBuilder'!B44","v":0}]
[{"$f":"'4KV3_TuneBuilder'!B45","v":15},{"$f":"A136-D131-F131+E131","v":13.5},null,"Copy Entire Red"]
[{"$f":"'4KV3_TuneBuilder'!B46","v":18},{"$f":"A137-D131-F131+E131","v":16.5},null,"Calcs based on Quadzilla code"]
[{"$f":"'4KV3_TuneBuilder'!B47","v":21},{"$f":"A138-D131-F131+E131","v":19.5}]
[{"$f":"'4KV3_TuneBuilder'!B48","v":23},{"$f":"A139-D131-F131+E131","v":21.5}]
[{"$f":"'4KV3_TuneBuilder'!B49","v":24},{"$f":"A140-$D$115-$F$115+$E$115","v":25.42}]
[{"$f":"'4KV3_TuneBuilder'!B50","v":25},{"$f":"A141-$D$115-$F$115+$E$115","v":26.42}]
[{"$f":"'4KV3_TuneBuilder'!B51","v":26},{"$f":"A142-$D$115-$F$115+$E$115","v":27.42}]
[]
[]
["V2 Fuel load timing vs rpm"]
[null,0,5,10,15,20,25,30,35,40,45,50,55,60,65,70,75,80,85,90,95,100]
["1500RPM",{"$f":"IF(B$146<=V2_TuneBuilder!B$18,(((100-B$146)/100)*V2_TuneBuilder!$B$17)+V2_TuneBuilder!$B20,(V2_TuneBuilder!$B20-(V2_TuneBuilder!$B$14*B$146)/100))","v":17},{"$f":"IF(C$146<=V2_TuneBuilder!$B$18,(((100-C$146)/100)*V2_TuneBuilder!$B$17)+V2_TuneBuilder!$B20,(V2_TuneBuilder!$B20-V2_TuneBuilder!$B$14+(V2_TuneBuilder!$B$14*C$146)/100))","v":16.899999999999999},{"$f":"IF(D$146<=V2_TuneBuilder!$B$18,(((100-D$146)/100)*V2_TuneBuilder!$B$17)+V2_TuneBuilder!$B20,(V2_TuneBuilder!$B20-V2_TuneBuilder!$B$14+(V2_TuneBuilder!$B$14*D$146)/100))","v":16.8},{"$f":"IF(E$146<=V2_TuneBuilder!$B$18,(((100-E$146)/100)*V2_TuneBuilder!$B$17)+V2_TuneBuilder!$B20,(V2_TuneBuilder!$B20-V2_TuneBuilder!$B$14+(V2_TuneBuilder!$B$14*E$146)/100))","v":16.7},{"$f":"IF(F$146<=V2_TuneBuilder!$B$18,(((100-F$146)/100)*V2_TuneBuilder!$B$17)+V2_TuneBuilder!$B20,(V2_TuneBuilder!$B20-V2_TuneBuilder!$B$14+(V2_TuneBuilder!$B$14*F$146)/100))","v":16.600000000000001},{"$f":"IF(G$146<=V2_TuneBuilder!$B$18,(((100-G$146)/100)*V2_TuneBuilder!$B$17)+V2_TuneBuilder!$B20,(V2_TuneBuilder!$B20-V2_TuneBuilder!$B$14+(V2_TuneBuilder!$B$14*G$146)/100))","v":16.5},{"$f":"IF(H$146<=V2_TuneBuilder!$B$18,(((100-H$146)/100)*V2_TuneBuilder!$B$17)+V2_TuneBuilder!$B20,(V2_TuneBuilder!$B20-V2_TuneBuilder!$B$14+(V2_TuneBuilder!$B$14*H$146)/100))","v":16.399999999999999},{"$f":"IF(I$146<=V2_TuneBuilder!$B$18,(((100-I$146)/100)*V2_TuneBuilder!$B$17)+V2_TuneBuilder!$B20,(V2_TuneBuilder!$B20-V2_TuneBuilder!$B$14+(V2_TuneBuilder!$B$14*I$146)/100))","v":13.7},{"$f":"IF(J$146<=V2_TuneBuilder!$B$18,(((100-J$146)/100)*V2_TuneBuilder!$B$17)+V2_TuneBuilder!$B20,(V2_TuneBuilder!$B20-V2_TuneBuilder!$B$14+(V2_TuneBuilder!$B$14*J$146)/100))","v":13.8},{"$f":"IF(K$146<=V2_TuneBuilder!$B$18,(((100-K$146)/100)*V2_TuneBuilder!$B$17)+V2_TuneBuilder!$B20,(V2_TuneBuilder!$B20-V2_TuneBuilder!$B$14+(V2_TuneBuilder!$B$14*K$146)/100))","v":13.9},{"$f":"IF(L$146<=V2_TuneBuilder!$B$18,(((100-L$146)/100)*V2_TuneBuilder!$B$17)+V2_TuneBuilder!$B20,(V2_TuneBuilder!$B20-V2_TuneBuilder!$B$14+(V2_TuneBuilder!$B$14*L$146)/100))","v":14},{"$f":"IF(M$146<=V2_TuneBuilder!$B$18,(((100-M$146)/100)*V2_TuneBuilder!$B$17)+V2_TuneBuilder!$B20,(V2_TuneBuilder!$B20-V2_TuneBuilder!$B$14+(V2_TuneBuilder!$B$14*M$146)/100))","v":14.1},{"$f":"IF(N$146<=V2_TuneBuilder!$B$18,(((100-N$146)/100)*V2_TuneBuilder!$B$17)+V2_TuneBuilder!$B20,(V2_TuneBuilder!$B20-V2_TuneBuilder!$B$14+(V2_TuneBuilder!$B$14*N$146)/100))","v":14.2},{"$f":"IF(O$146<=V2_TuneBuilder!$B$18,(((100-O$146)/100)*V2_TuneBuilder!$B$17)+V2_TuneBuilder!$B20,(V2_TuneBuilder!$B20-V2_TuneBuilder!$B$14+(V2_TuneBuilder!$B$14*O$146)/100))","v":14.3},{"$f":"IF(P$146<=V2_TuneBuilder!$B$18,(((100-P$146)/100)*V2_TuneBuilder!$B$17)+V2_TuneBuilder!$B20,(V2_TuneBuilder!$B20-V2_TuneBuilder!$B$14+(V2_TuneBuilder!$B$14*P$146)/100))","v":14.4},{"$f":"IF(Q$146<=V2_TuneBuilder!$B$18,(((100-Q$146)/100)*V2_TuneBuilder!$B$17)+V2_TuneBuilder!$B20,(V2_TuneBuilder!$B20-V2_TuneBuilder!$B$14+(V2_TuneBuilder!$B$14*Q$146)/100))","v":14.5},{"$f":"IF(R$146<=V2_TuneBuilder!$B$18,(((100-R$146)/100)*V2_TuneBuilder!$B$17)+V2_TuneBuilder!$B20,(V2_TuneBuilder!$B20-V2_TuneBuilder!$B$14+(V2_TuneBuilder!$B$14*R$146)/100))","v":14.6},{"$f":"IF(S$146<=V2_TuneBuilder!$B$18,(((100-S$146)/100)*V2_TuneBuilder!$B$17)+V2_TuneBuilder!$B20,(V2_TuneBuilder!$B20-V2_TuneBuilder!$B$14+(V2_TuneBuilder!$B$14*S$146)/100))","v":14.7},{"$f":"IF(T$146<=V2_TuneBuilder!$B$18,(((100-T$146)/100)*V2_TuneBuilder!$B$17)+V2_TuneBuilder!$B20,(V2_TuneBuilder!$B20-V2_TuneBuilder!$B$14+(V2_TuneBuilder!$B$14*T$146)/100))","v":14.8},{"$f":"IF(U$146<=V2_TuneBuilder!$B$18,(((100-U$146)/100)*V2_TuneBuilder!$B$17)+V2_TuneBuilder!$B20,(V2_TuneBuilder!$B20-V2_TuneBuilder!$B$14+(V2_TuneBuilder!$B$14*U$146)/100))","v":14.9},{"$f":"IF(V$146<=V2_TuneBuilder!$B$18,(((100-V$146)/100)*V2_TuneBuilder!$B$17)+V2_TuneBuilder!$B20,(V2_TuneBuilder!$B20-V2_TuneBuilder!$B$14+(V2_TuneBuilder!$B$14*V$146)/100))","v":15}]
["2000RPM",{"$f":"IF(B$146<=V2_TuneBuilder!B$18,(((100-B$146)/100)*V2_TuneBuilder!$B$17)+V2_TuneBuilder!$B21,(V2_TuneBuilder!$B21-(V2_TuneBuilder!$B$14*B$146)/100))","v":20},{"$f":"IF(C$146<=V2_TuneBuilder!$B$18,(((100-C$146)/100)*V2_TuneBuilder!$B$17)+V2_TuneBuilder!$B21,(V2_TuneBuilder!$B21-V2_TuneBuilder!$B$14+(V2_TuneBuilder!$B$14*C$146)/100))","v":19.899999999999999},{"$f":"IF(D$146<=V2_TuneBuilder!$B$18,(((100-D$146)/100)*V2_TuneBuilder!$B$17)+V2_TuneBuilder!$B21,(V2_TuneBuilder!$B21-V2_TuneBuilder!$B$14+(V2_TuneBuilder!$B$14*D$146)/100))","v":19.8},{"$f":"IF(E$146<=V2_TuneBuilder!$B$18,(((100-E$146)/100)*V2_TuneBuilder!$B$17)+V2_TuneBuilder!$B21,(V2_TuneBuilder!$B21-V2_TuneBuilder!$B$14+(V2_TuneBuilder!$B$14*E$146)/100))","v":19.7},{"$f":"IF(F$146<=V2_TuneBuilder!$B$18,(((100-F$146)/100)*V2_TuneBuilder!$B$17)+V2_TuneBuilder!$B21,(V2_TuneBuilder!$B21-V2_TuneBuilder!$B$14+(V2_TuneBuilder!$B$14*F$146)/100))","v":19.600000000000001},{"$f":"IF(G$146<=V2_TuneBuilder!$B$18,(((100-G$146)/100)*V2_TuneBuilder!$B$17)+V2_TuneBuilder!$B21,(V2_TuneBuilder!$B21-V2_TuneBuilder!$B$14+(V2_TuneBuilder!$B$14*G$146)/100))","v":19.5},{"$f":"IF(H$146<=V2_TuneBuilder!$B$18,(((100-H$146)/100)*V2_TuneBuilder!$B$17)+V2_TuneBuilder!$B21,(V2_TuneBuilder!$B21-V2_TuneBuilder!$B$14+(V2_TuneBuilder!$B$14*H$146)/100))","v":19.399999999999999},{"$f":"IF(I$146<=V2_TuneBuilder!$B$18,(((100-I$146)/100)*V2_TuneBuilder!$B$17)+V2_TuneBuilder!$B21,(V2_TuneBuilder!$B21-V2_TuneBuilder!$B$14+(V2_TuneBuilder!$B$14*I$146)/100))","v":16.7},{"$f":"IF(J$146<=V2_TuneBuilder!$B$18,(((100-J$146)/100)*V2_TuneBuilder!$B$17)+V2_TuneBuilder!$B21,(V2_TuneBuilder!$B21-V2_TuneBuilder!$B$14+(V2_TuneBuilder!$B$14*J$146)/100))","v":16.8},{"$f":"IF(K$146<=V2_TuneBuilder!$B$18,(((100-K$146)/100)*V2_TuneBuilder!$B$17)+V2_TuneBuilder!$B21,(V2_TuneBuilder!$B21-V2_TuneBuilder!$B$14+(V2_TuneBuilder!$B$14*K$146)/100))","v":16.899999999999999},{"$f":"IF(L$146<=V2_TuneBuilder!$B$18,(((100-L$146)/100)*V2_TuneBuilder!$B$17)+V2_TuneBuilder!$B21,(V2_TuneBuilder!$B21-V2_TuneBuilder!$B$14+(V2_TuneBuilder!$B$14*L$146)/100))","v":17},{"$f":"IF(M$146<=V2_TuneBuilder!$B$18,(((100-M$146)/100)*V2_TuneBuilder!$B$17)+V2_TuneBuilder!$B21,(V2_TuneBuilder!$B21-V2_TuneBuilder!$B$14+(V2_TuneBuilder!$B$14*M$146)/100))","v":17.100000000000001},{"$f":"IF(N$146<=V2_TuneBuilder!$B$18,(((100-N$146)/100)*V2_TuneBuilder!$B$17)+V2_TuneBuilder!$B21,(V2_TuneBuilder!$B21-V2_TuneBuilder!$B$14+(V2_TuneBuilder!$B$14*N$146)/100))","v":17.2},{"$f":"IF(O$146<=V2_TuneBuilder!$B$18,(((100-O$146)/100)*V2_TuneBuilder!$B$17)+V2_TuneBuilder!$B21,(V2_TuneBuilder!$B21-V2_TuneBuilder!$B$14+(V2_TuneBuilder!$B$14*O$146)/100))","v":17.3},{"$f":"IF(P$146<=V2_TuneBuilder!$B$18,(((100-P$146)/100)*V2_TuneBuilder!$B$17)+V2_TuneBuilder!$B21,(V2_TuneBuilder!$B21-V2_TuneBuilder!$B$14+(V2_TuneBuilder!$B$14*P$146)/100))","v":17.399999999999999},{"$f":"IF(Q$146<=V2_TuneBuilder!$B$18,(((100-Q$146)/100)*V2_TuneBuilder!$B$17)+V2_TuneBuilder!$B21,(V2_TuneBuilder!$B21-V2_TuneBuilder!$B$14+(V2_TuneBuilder!$B$14*Q$146)/100))","v":17.5},{"$f":"IF(R$146<=V2_TuneBuilder!$B$18,(((100-R$146)/100)*V2_TuneBuilder!$B$17)+V2_TuneBuilder!$B21,(V2_TuneBuilder!$B21-V2_TuneBuilder!$B$14+(V2_TuneBuilder!$B$14*R$146)/100))","v":17.600000000000001},{"$f":"IF(S$146<=V2_TuneBuilder!$B$18,(((100-S$146)/100)*V2_TuneBuilder!$B$17)+V2_TuneBuilder!$B21,(V2_TuneBuilder!$B21-V2_TuneBuilder!$B$14+(V2_TuneBuilder!$B$14*S$146)/100))","v":17.7},{"$f":"IF(T$146<=V2_TuneBuilder!$B$18,(((100-T$146)/100)*V2_TuneBuilder!$B$17)+V2_TuneBuilder!$B21,(V2_TuneBuilder!$B21-V2_TuneBuilder!$B$14+(V2_TuneBuilder!$B$14*T$146)/100))","v":17.8},{"$f":"IF(U$146<=V2_TuneBuilder!$B$18,(((100-U$146)/100)*V2_TuneBuilder!$B$17)+V2_TuneBuilder!$B21,(V2_TuneBuilder!$B21-V2_TuneBuilder!$B$14+(V2_TuneBuilder!$B$14*U$146)/100))","v":17.899999999999999},{"$f":"IF(V$146<=V2_TuneBuilder!$B$18,(((100-V$146)/100)*V2_TuneBuilder!$B$17)+V2_TuneBuilder!$B21,(V2_TuneBuilder!$B21-V2_TuneBuilder!$B$14+(V2_TuneBuilder!$B$14*V$146)/100))","v":18}]
["2500RPM",{"$f":"IF(B$146<=V2_TuneBuilder!B$18,(((100-B$146)/100)*V2_TuneBuilder!$B$17)+V2_TuneBuilder!$B22,(V2_TuneBuilder!$B22-(V2_TuneBuilder!$B$14*B$146)/100))","v":23},{"$f":"IF(C$146<=V2_TuneBuilder!$B$18,(((100-C$146)/100)*V2_TuneBuilder!$B$17)+V2_TuneBuilder!$B22,(V2_TuneBuilder!$B22-V2_TuneBuilder!$B$14+(V2_TuneBuilder!$B$14*C$146)/100))","v":22.9},{"$f":"IF(D$146<=V2_TuneBuilder!$B$18,(((100-D$146)/100)*V2_TuneBuilder!$B$17)+V2_TuneBuilder!$B22,(V2_TuneBuilder!$B22-V2_TuneBuilder!$B$14+(V2_TuneBuilder!$B$14*D$146)/100))","v":22.8},{"$f":"IF(E$146<=V2_TuneBuilder!$B$18,(((100-E$146)/100)*V2_TuneBuilder!$B$17)+V2_TuneBuilder!$B22,(V2_TuneBuilder!$B22-V2_TuneBuilder!$B$14+(V2_TuneBuilder!$B$14*E$146)/100))","v":22.7},{"$f":"IF(F$146<=V2_TuneBuilder!$B$18,(((100-F$146)/100)*V2_TuneBuilder!$B$17)+V2_TuneBuilder!$B22,(V2_TuneBuilder!$B22-V2_TuneBuilder!$B$14+(V2_TuneBuilder!$B$14*F$146)/100))","v":22.6},{"$f":"IF(G$146<=V2_TuneBuilder!$B$18,(((100-G$146)/100)*V2_TuneBuilder!$B$17)+V2_TuneBuilder!$B22,(V2_TuneBuilder!$B22-V2_TuneBuilder!$B$14+(V2_TuneBuilder!$B$14*G$146)/100))","v":22.5},{"$f":"IF(H$146<=V2_TuneBuilder!$B$18,(((100-H$146)/100)*V2_TuneBuilder!$B$17)+V2_TuneBuilder!$B22,(V2_TuneBuilder!$B22-V2_TuneBuilder!$B$14+(V2_TuneBuilder!$B$14*H$146)/100))","v":22.4},{"$f":"IF(I$146<=V2_TuneBuilder!$B$18,(((100-I$146)/100)*V2_TuneBuilder!$B$17)+V2_TuneBuilder!$B22,(V2_TuneBuilder!$B22-V2_TuneBuilder!$B$14+(V2_TuneBuilder!$B$14*I$146)/100))","v":19.7},{"$f":"IF(J$146<=V2_TuneBuilder!$B$18,(((100-J$146)/100)*V2_TuneBuilder!$B$17)+V2_TuneBuilder!$B22,(V2_TuneBuilder!$B22-V2_TuneBuilder!$B$14+(V2_TuneBuilder!$B$14*J$146)/100))","v":19.8},{"$f":"IF(K$146<=V2_TuneBuilder!$B$18,(((100-K$146)/100)*V2_TuneBuilder!$B$17)+V2_TuneBuilder!$B22,(V2_TuneBuilder!$B22-V2_TuneBuilder!$B$14+(V2_TuneBuilder!$B$14*K$146)/100))","v":19.899999999999999},{"$f":"IF(L$146<=V2_TuneBuilder!$B$18,(((100-L$146)/100)*V2_TuneBuilder!$B$17)+V2_TuneBuilder!$B22,(V2_TuneBuilder!$B22-V2_TuneBuilder!$B$14+(V2_TuneBuilder!$B$14*L$146)/100))","v":20},{"$f":"IF(M$146<=V2_TuneBuilder!$B$18,(((100-M$146)/100)*V2_TuneBuilder!$B$17)+V2_TuneBuilder!$B22,(V2_TuneBuilder!$B22-V2_TuneBuilder!$B$14+(V2_TuneBuilder!$B$14*M$146)/100))","v":20.100000000000001},{"$f":"IF(N$146<=V2_TuneBuilder!$B$18,(((100-N$146)/100)*V2_TuneBuilder!$B$17)+V2_TuneBuilder!$B22,(V2_TuneBuilder!$B22-V2_TuneBuilder!$B$14+(V2_TuneBuilder!$B$14*N$146)/100))","v":20.2},{"$f":"IF(O$146<=V2_TuneBuilder!$B$18,(((100-O$146)/100)*V2_TuneBuilder!$B$17)+V2_TuneBuilder!$B22,(V2_TuneBuilder!$B22-V2_TuneBuilder!$B$14+(V2_TuneBuilder!$B$14*O$146)/100))","v":20.3},{"$f":"IF(P$146<=V2_TuneBuilder!$B$18,(((100-P$146)/100)*V2_TuneBuilder!$B$17)+V2_TuneBuilder!$B22,(V2_TuneBuilder!$B22-V2_TuneBuilder!$B$14+(V2_TuneBuilder!$B$14*P$146)/100))","v":20.399999999999999},{"$f":"IF(Q$146<=V2_TuneBuilder!$B$18,(((100-Q$146)/100)*V2_TuneBuilder!$B$17)+V2_TuneBuilder!$B22,(V2_TuneBuilder!$B22-V2_TuneBuilder!$B$14+(V2_TuneBuilder!$B$14*Q$146)/100))","v":20.5},{"$f":"IF(R$146<=V2_TuneBuilder!$B$18,(((100-R$146)/100)*V2_TuneBuilder!$B$17)+V2_TuneBuilder!$B22,(V2_TuneBuilder!$B22-V2_TuneBuilder!$B$14+(V2_TuneBuilder!$B$14*R$146)/100))","v":20.6},{"$f":"IF(S$146<=V2_TuneBuilder!$B$18,(((100-S$146)/100)*V2_TuneBuilder!$B$17)+V2_TuneBuilder!$B22,(V2_TuneBuilder!$B22-V2_TuneBuilder!$B$14+(V2_TuneBuilder!$B$14*S$146)/100))","v":20.7},{"$f":"IF(T$146<=V2_TuneBuilder!$B$18,(((100-T$146)/100)*V2_TuneBuilder!$B$17)+V2_TuneBuilder!$B22,(V2_TuneBuilder!$B22-V2_TuneBuilder!$B$14+(V2_TuneBuilder!$B$14*T$146)/100))","v":20.8},{"$f":"IF(U$146<=V2_TuneBuilder!$B$18,(((100-U$146)/100)*V2_TuneBuilder!$B$17)+V2_TuneBuilder!$B22,(V2_TuneBuilder!$B22-V2_TuneBuilder!$B$14+(V2_TuneBuilder!$B$14*U$146)/100))","v":20.9},{"$f":"IF(V$146<=V2_TuneBuilder!$B$18,(((100-V$146)/100)*V2_TuneBuilder!$B$17)+V2_TuneBuilder!$B22,(V2_TuneBuilder!$B22-V2_TuneBuilder!$B$14+(V2_TuneBuilder!$B$14*V$146)/100))","v":21}]
["3000RPM",{"$f":"IF(B$146<=V2_TuneBuilder!B$18,(((100-B$146)/100)*V2_TuneBuilder!$B$17)+V2_TuneBuilder!$B23,(V2_TuneBuilder!$B23-(V2_TuneBuilder!$B$14*B$146)/100))","v":25},{"$f":"IF(C$146<=V2_TuneBuilder!$B$18,(((100-C$146)/100)*V2_TuneBuilder!$B$17)+V2_TuneBuilder!$B23,(V2_TuneBuilder!$B23-V2_TuneBuilder!$B$14+(V2_TuneBuilder!$B$14*C$146)/100))","v":24.9},{"$f":"IF(D$146<=V2_TuneBuilder!$B$18,(((100-D$146)/100)*V2_TuneBuilder!$B$17)+V2_TuneBuilder!$B23,(V2_TuneBuilder!$B23-V2_TuneBuilder!$B$14+(V2_TuneBuilder!$B$14*D$146)/100))","v":24.8},{"$f":"IF(E$146<=V2_TuneBuilder!$B$18,(((100-E$146)/100)*V2_TuneBuilder!$B$17)+V2_TuneBuilder!$B23,(V2_TuneBuilder!$B23-V2_TuneBuilder!$B$14+(V2_TuneBuilder!$B$14*E$146)/100))","v":24.7},{"$f":"IF(F$146<=V2_TuneBuilder!$B$18,(((100-F$146)/100)*V2_TuneBuilder!$B$17)+V2_TuneBuilder!$B23,(V2_TuneBuilder!$B23-V2_TuneBuilder!$B$14+(V2_TuneBuilder!$B$14*F$146)/100))","v":24.6},{"$f":"IF(G$146<=V2_TuneBuilder!$B$18,(((100-G$146)/100)*V2_TuneBuilder!$B$17)+V2_TuneBuilder!$B23,(V2_TuneBuilder!$B23-V2_TuneBuilder!$B$14+(V2_TuneBuilder!$B$14*G$146)/100))","v":24.5},{"$f":"IF(H$146<=V2_TuneBuilder!$B$18,(((100-H$146)/100)*V2_TuneBuilder!$B$17)+V2_TuneBuilder!$B23,(V2_TuneBuilder!$B23-V2_TuneBuilder!$B$14+(V2_TuneBuilder!$B$14*H$146)/100))","v":24.4},{"$f":"IF(I$146<=V2_TuneBuilder!$B$18,(((100-I$146)/100)*V2_TuneBuilder!$B$17)+V2_TuneBuilder!$B23,(V2_TuneBuilder!$B23-V2_TuneBuilder!$B$14+(V2_TuneBuilder!$B$14*I$146)/100))","v":21.7},{"$f":"IF(J$146<=V2_TuneBuilder!$B$18,(((100-J$146)/100)*V2_TuneBuilder!$B$17)+V2_TuneBuilder!$B23,(V2_TuneBuilder!$B23-V2_TuneBuilder!$B$14+(V2_TuneBuilder!$B$14*J$146)/100))","v":21.8},{"$f":"IF(K$146<=V2_TuneBuilder!$B$18,(((100-K$146)/100)*V2_TuneBuilder!$B$17)+V2_TuneBuilder!$B23,(V2_TuneBuilder!$B23-V2_TuneBuilder!$B$14+(V2_TuneBuilder!$B$14*K$146)/100))","v":21.9},{"$f":"IF(L$146<=V2_TuneBuilder!$B$18,(((100-L$146)/100)*V2_TuneBuilder!$B$17)+V2_TuneBuilder!$B23,(V2_TuneBuilder!$B23-V2_TuneBuilder!$B$14+(V2_TuneBuilder!$B$14*L$146)/100))","v":22},{"$f":"IF(M$146<=V2_TuneBuilder!$B$18,(((100-M$146)/100)*V2_TuneBuilder!$B$17)+V2_TuneBuilder!$B23,(V2_TuneBuilder!$B23-V2_TuneBuilder!$B$14+(V2_TuneBuilder!$B$14*M$146)/100))","v":22.1},{"$f":"IF(N$146<=V2_TuneBuilder!$B$18,(((100-N$146)/100)*V2_TuneBuilder!$B$17)+V2_TuneBuilder!$B23,(V2_TuneBuilder!$B23-V2_TuneBuilder!$B$14+(V2_TuneBuilder!$B$14*N$146)/100))","v":22.2},{"$f":"IF(O$146<=V2_TuneBuilder!$B$18,(((100-O$146)/100)*V2_TuneBuilder!$B$17)+V2_TuneBuilder!$B23,(V2_TuneBuilder!$B23-V2_TuneBuilder!$B$14+(V2_TuneBuilder!$B$14*O$146)/100))","v":22.3},{"$f":"IF(P$146<=V2_TuneBuilder!$B$18,(((100-P$146)/100)*V2_TuneBuilder!$B$17)+V2_TuneBuilder!$B23,(V2_TuneBuilder!$B23-V2_TuneBuilder!$B$14+(V2_TuneBuilder!$B$14*P$146)/100))","v":22.4},{"$f":"IF(Q$146<=V2_TuneBuilder!$B$18,(((100-Q$146)/100)*V2_TuneBuilder!$B$17)+V2_TuneBuilder!$B23,(V2_TuneBuilder!$B23-V2_TuneBuilder!$B$14+(V2_TuneBuilder!$B$14*Q$146)/100))","v":22.5},{"$f":"IF(R$146<=V2_TuneBuilder!$B$18,(((100-R$146)/100)*V2_TuneBuilder!$B$17)+V2_TuneBuilder!$B23,(V2_TuneBuilder!$B23-V2_TuneBuilder!$B$14+(V2_TuneBuilder!$B$14*R$146)/100))","v":22.6},{"$f":"IF(S$146<=V2_TuneBuilder!$B$18,(((100-S$146)/100)*V2_TuneBuilder!$B$17)+V2_TuneBuilder!$B23,(V2_TuneBuilder!$B23-V2_TuneBuilder!$B$14+(V2_TuneBuilder!$B$14*S$146)/100))","v":22.7},{"$f":"IF(T$146<=V2_TuneBuilder!$B$18,(((100-T$146)/100)*V2_TuneBuilder!$B$17)+V2_TuneBuilder!$B23,(V2_TuneBuilder!$B23-V2_TuneBuilder!$B$14+(V2_TuneBuilder!$B$14*T$146)/100))","v":22.8},{"$f":"IF(U$146<=V2_TuneBuilder!$B$18,(((100-U$146)/100)*V2_TuneBuilder!$B$17)+V2_TuneBuilder!$B23,(V2_TuneBuilder!$B23-V2_TuneBuilder!$B$14+(V2_TuneBuilder!$B$14*U$146)/100))","v":22.9},{"$f":"IF(V$146<=V2_TuneBuilder!$B$18,(((100-V$146)/100)*V2_TuneBuilder!$B$17)+V2_TuneBuilder!$B23,(V2_TuneBuilder!$B23-V2_TuneBuilder!$B$14+(V2_TuneBuilder!$B$14*V$146)/100))","v":23}]
["MaxRPM",{"$f":"IF(B$146<=V2_TuneBuilder!B$18,(((100-B$146)/100)*V2_TuneBuilder!$B$17)+V2_TuneBuilder!$B24,(V2_TuneBuilder!$B24-(V2_TuneBuilder!$B$14*B$146)/100))","v":28},{"$f":"IF(C$146<=V2_TuneBuilder!$B$18,(((100-C$146)/100)*V2_TuneBuilder!$B$17)+V2_TuneBuilder!$B24,(V2_TuneBuilder!$B24-V2_TuneBuilder!$B$14+(V2_TuneBuilder!$B$14*C$146)/100))","v":27.9},{"$f":"IF(D$146<=V2_TuneBuilder!$B$18,(((100-D$146)/100)*V2_TuneBuilder!$B$17)+V2_TuneBuilder!$B24,(V2_TuneBuilder!$B24-V2_TuneBuilder!$B$14+(V2_TuneBuilder!$B$14*D$146)/100))","v":27.8},{"$f":"IF(E$146<=V2_TuneBuilder!$B$18,(((100-E$146)/100)*V2_TuneBuilder!$B$17)+V2_TuneBuilder!$B24,(V2_TuneBuilder!$B24-V2_TuneBuilder!$B$14+(V2_TuneBuilder!$B$14*E$146)/100))","v":27.7},{"$f":"IF(F$146<=V2_TuneBuilder!$B$18,(((100-F$146)/100)*V2_TuneBuilder!$B$17)+V2_TuneBuilder!$B24,(V2_TuneBuilder!$B24-V2_TuneBuilder!$B$14+(V2_TuneBuilder!$B$14*F$146)/100))","v":27.6},{"$f":"IF(G$146<=V2_TuneBuilder!$B$18,(((100-G$146)/100)*V2_TuneBuilder!$B$17)+V2_TuneBuilder!$B24,(V2_TuneBuilder!$B24-V2_TuneBuilder!$B$14+(V2_TuneBuilder!$B$14*G$146)/100))","v":27.5},{"$f":"IF(H$146<=V2_TuneBuilder!$B$18,(((100-H$146)/100)*V2_TuneBuilder!$B$17)+V2_TuneBuilder!$B24,(V2_TuneBuilder!$B24-V2_TuneBuilder!$B$14+(V2_TuneBuilder!$B$14*H$146)/100))","v":27.4},{"$f":"IF(I$146<=V2_TuneBuilder!$B$18,(((100-I$146)/100)*V2_TuneBuilder!$B$17)+V2_TuneBuilder!$B24,(V2_TuneBuilder!$B24-V2_TuneBuilder!$B$14+(V2_TuneBuilder!$B$14*I$146)/100))","v":24.7},{"$f":"IF(J$146<=V2_TuneBuilder!$B$18,(((100-J$146)/100)*V2_TuneBuilder!$B$17)+V2_TuneBuilder!$B24,(V2_TuneBuilder!$B24-V2_TuneBuilder!$B$14+(V2_TuneBuilder!$B$14*J$146)/100))","v":24.8},{"$f":"IF(K$146<=V2_TuneBuilder!$B$18,(((100-K$146)/100)*V2_TuneBuilder!$B$17)+V2_TuneBuilder!$B24,(V2_TuneBuilder!$B24-V2_TuneBuilder!$B$14+(V2_TuneBuilder!$B$14*K$146)/100))","v":24.9},{"$f":"IF(L$146<=V2_TuneBuilder!$B$18,(((100-L$146)/100)*V2_TuneBuilder!$B$17)+V2_TuneBuilder!$B24,(V2_TuneBuilder!$B24-V2_TuneBuilder!$B$14+(V2_TuneBuilder!$B$14*L$146)/100))","v":25},{"$f":"IF(M$146<=V2_TuneBuilder!$B$18,(((100-M$146)/100)*V2_TuneBuilder!$B$17)+V2_TuneBuilder!$B24,(V2_TuneBuilder!$B24-V2_TuneBuilder!$B$14+(V2_TuneBuilder!$B$14*M$146)/100))","v":25.1},{"$f":"IF(N$146<=V2_TuneBuilder!$B$18,(((100-N$146)/100)*V2_TuneBuilder!$B$17)+V2_TuneBuilder!$B24,(V2_TuneBuilder!$B24-V2_TuneBuilder!$B$14+(V2_TuneBuilder!$B$14*N$146)/100))","v":25.2},{"$f":"IF(O$146<=V2_TuneBuilder!$B$18,(((100-O$146)/100)*V2_TuneBuilder!$B$17)+V2_TuneBuilder!$B24,(V2_TuneBuilder!$B24-V2_TuneBuilder!$B$14+(V2_TuneBuilder!$B$14*O$146)/100))","v":25.3},{"$f":"IF(P$146<=V2_TuneBuilder!$B$18,(((100-P$146)/100)*V2_TuneBuilder!$B$17)+V2_TuneBuilder!$B24,(V2_TuneBuilder!$B24-V2_TuneBuilder!$B$14+(V2_TuneBuilder!$B$14*P$146)/100))","v":25.4},{"$f":"IF(Q$146<=V2_TuneBuilder!$B$18,(((100-Q$146)/100)*V2_TuneBuilder!$B$17)+V2_TuneBuilder!$B24,(V2_TuneBuilder!$B24-V2_TuneBuilder!$B$14+(V2_TuneBuilder!$B$14*Q$146)/100))","v":25.5},{"$f":"IF(R$146<=V2_TuneBuilder!$B$18,(((100-R$146)/100)*V2_TuneBuilder!$B$17)+V2_TuneBuilder!$B24,(V2_TuneBuilder!$B24-V2_TuneBuilder!$B$14+(V2_TuneBuilder!$B$14*R$146)/100))","v":25.6},{"$f":"IF(S$146<=V2_TuneBuilder!$B$18,(((100-S$146)/100)*V2_TuneBuilder!$B$17)+V2_TuneBuilder!$B24,(V2_TuneBuilder!$B24-V2_TuneBuilder!$B$14+(V2_TuneBuilder!$B$14*S$146)/100))","v":25.7},{"$f":"IF(T$146<=V2_TuneBuilder!$B$18,(((100-T$146)/100)*V2_TuneBuilder!$B$17)+V2_TuneBuilder!$B24,(V2_TuneBuilder!$B24-V2_TuneBuilder!$B$14+(V2_TuneBuilder!$B$14*T$146)/100))","v":25.8},{"$f":"IF(U$146<=V2_TuneBuilder!$B$18,(((100-U$146)/100)*V2_TuneBuilder!$B$17)+V2_TuneBuilder!$B24,(V2_TuneBuilder!$B24-V2_TuneBuilder!$B$14+(V2_TuneBuilder!$B$14*U$146)/100))","v":25.9},{"$f":"IF(V$146<=V2_TuneBuilder!$B$18,(((100-V$146)/100)*V2_TuneBuilder!$B$17)+V2_TuneBuilder!$B24,(V2_TuneBuilder!$B24-V2_TuneBuilder!$B$14+(V2_TuneBuilder!$B$14*V$146)/100))","v":26}]
[]
["V3 Fuel load timing vs rpm"]
[null,0,5,10,15,20,25,30,35,40,45,50,55,60,65,70,75,80,85,90,95,100]
["1500RPM",{"$f":"IF(B$154<=V3_TuneBuilder!B$43,(((100-B$154)/100)*V3_TuneBuilder!$B$42)+V3_TuneBuilder!$B45,(V3_TuneBuilder!$B45-(V3_TuneBuilder!$B$39*B$154)/100))","v":17},{"$f":"IF(C$154<=V3_TuneBuilder!B$43,(((100-C$154)/100)*V3_TuneBuilder!$B$42)+V3_TuneBuilder!$B45,(V3_TuneBuilder!$B45-V3_TuneBuilder!$B$39+(V3_TuneBuilder!$B$39*C$154)/100))","v":16.899999999999999},{"$f":"IF(D$154<=V3_TuneBuilder!J$6,(((100-D$154)/100)*V3_TuneBuilder!$B$42)+V3_TuneBuilder!$B45,(V3_TuneBuilder!$B45-V3_TuneBuilder!$B$39+(V3_TuneBuilder!$B$39*D$154)/100))","v":16.8},{"$f":"IF(E$154<=V3_TuneBuilder!K$6,(((100-E$154)/100)*V3_TuneBuilder!$B$42)+V3_TuneBuilder!$B45,(V3_TuneBuilder!$B45-V3_TuneBuilder!$B$39+(V3_TuneBuilder!$B$39*E$154)/100))","v":16.7},{"$f":"IF(F$154<=V3_TuneBuilder!K$7,(((100-F$154)/100)*V3_TuneBuilder!$B$42)+V3_TuneBuilder!$B45,(V3_TuneBuilder!$B45-V3_TuneBuilder!$B$39+(V3_TuneBuilder!$B$39*F$154)/100))","v":13.4},{"$f":"IF(G$154<=V3_TuneBuilder!F$43,(((100-G$154)/100)*V3_TuneBuilder!$B$42)+V3_TuneBuilder!$B45,(V3_TuneBuilder!$B45-V3_TuneBuilder!$B$39+(V3_TuneBuilder!$B$39*G$154)/100))","v":13.5},{"$f":"IF(H$154<=V3_TuneBuilder!G$43,(((100-H$154)/100)*V3_TuneBuilder!$B$42)+V3_TuneBuilder!$B45,(V3_TuneBuilder!$B45-V3_TuneBuilder!$B$39+(V3_TuneBuilder!$B$39*H$154)/100))","v":13.6},{"$f":"IF(I$154<=V3_TuneBuilder!H$43,(((100-I$154)/100)*V3_TuneBuilder!$B$42)+V3_TuneBuilder!$B45,(V3_TuneBuilder!$B45-V3_TuneBuilder!$B$39+(V3_TuneBuilder!$B$39*I$154)/100))","v":13.7},{"$f":"IF(J$154<=V3_TuneBuilder!I$43,(((100-J$154)/100)*V3_TuneBuilder!$B$42)+V3_TuneBuilder!$B45,(V3_TuneBuilder!$B45-V3_TuneBuilder!$B$39+(V3_TuneBuilder!$B$39*J$154)/100))","v":13.8},{"$f":"IF(K$154<=V3_TuneBuilder!J$43,(((100-K$154)/100)*V3_TuneBuilder!$B$42)+V3_TuneBuilder!$B45,(V3_TuneBuilder!$B45-V3_TuneBuilder!$B$39+(V3_TuneBuilder!$B$39*K$154)/100))","v":13.9},{"$f":"IF(L$154<=V3_TuneBuilder!K$43,(((100-L$154)/100)*V3_TuneBuilder!$B$42)+V3_TuneBuilder!$B45,(V3_TuneBuilder!$B45-V3_TuneBuilder!$B$39+(V3_TuneBuilder!$B$39*L$154)/100))","v":14},{"$f":"IF(M$154<=V3_TuneBuilder!L$43,(((100-M$154)/100)*V3_TuneBuilder!$B$42)+V3_TuneBuilder!$B45,(V3_TuneBuilder!$B45-V3_TuneBuilder!$B$39+(V3_TuneBuilder!$B$39*M$154)/100))","v":14.1},{"$f":"IF(N$154<=V3_TuneBuilder!M$43,(((100-N$154)/100)*V3_TuneBuilder!$B$42)+V3_TuneBuilder!$B45,(V3_TuneBuilder!$B45-V3_TuneBuilder!$B$39+(V3_TuneBuilder!$B$39*N$154)/100))","v":14.2},{"$f":"IF(O$154<=V3_TuneBuilder!N$43,(((100-O$154)/100)*V3_TuneBuilder!$B$42)+V3_TuneBuilder!$B45,(V3_TuneBuilder!$B45-V3_TuneBuilder!$B$39+(V3_TuneBuilder!$B$39*O$154)/100))","v":14.3},{"$f":"IF(P$154<=V3_TuneBuilder!O$43,(((100-P$154)/100)*V3_TuneBuilder!$B$42)+V3_TuneBuilder!$B45,(V3_TuneBuilder!$B45-V3_TuneBuilder!$B$39+(V3_TuneBuilder!$B$39*P$154)/100))","v":14.4},{"$f":"IF(Q$154<=V3_TuneBuilder!P$43,(((100-Q$154)/100)*V3_TuneBuilder!$B$42)+V3_TuneBuilder!$B45,(V3_TuneBuilder!$B45-V3_TuneBuilder!$B$39+(V3_TuneBuilder!$B$39*Q$154)/100))","v":14.5},{"$f":"IF(R$154<=V3_TuneBuilder!Q$43,(((100-R$154)/100)*V3_TuneBuilder!$B$42)+V3_TuneBuilder!$B45,(V3_TuneBuilder!$B45-V3_TuneBuilder!$B$39+(V3_TuneBuilder!$B$39*R$154)/100))","v":14.6},{"$f":"IF(S$154<=V3_TuneBuilder!R$43,(((100-S$154)/100)*V3_TuneBuilder!$B$42)+V3_TuneBuilder!$B45,(V3_TuneBuilder!$B45-V3_TuneBuilder!$B$39+(V3_TuneBuilder!$B$39*S$154)/100))","v":14.7},{"$f":"IF(T$154<=V3_TuneBuilder!S$43,(((100-T$154)/100)*V3_TuneBuilder!$B$42)+V3_TuneBuilder!$B45,(V3_TuneBuilder!$B45-V3_TuneBuilder!$B$39+(V3_TuneBuilder!$B$39*T$154)/100))","v":14.8},{"$f":"IF(U$154<=V3_TuneBuilder!T$43,(((100-U$154)/100)*V3_TuneBuilder!$B$42)+V3_TuneBuilder!$B45,(V3_TuneBuilder!$B45-V3_TuneBuilder!$B$39+(V3_TuneBuilder!$B$39*U$154)/100))","v":14.9},{"$f":"IF(V$154<=V3_TuneBuilder!U$43,(((100-V$154)/100)*V3_TuneBuilder!$B$42)+V3_TuneBuilder!$B45,(V3_TuneBuilder!$B45-V3_TuneBuilder!$B$39+(V3_TuneBuilder!$B$39*V$154)/100))","v":15}]
["2000RPM",{"$f":"IF(B$154<=V3_TuneBuilder!B$43,(((100-B$154)/100)*V3_TuneBuilder!$B$42)+V3_TuneBuilder!$B46,(V3_TuneBuilder!$B46-(V3_TuneBuilder!$B$39*B$154)/100))","v":20},{"$f":"IF(C$154<=V3_TuneBuilder!B$43,(((100-C$154)/100)*V3_TuneBuilder!$B$42)+V3_TuneBuilder!$B46,(V3_TuneBuilder!$B46-V3_TuneBuilder!$B$39+(V3_TuneBuilder!$B$39*C$154)/100))","v":19.899999999999999},{"$f":"IF(D$154<=V3_TuneBuilder!J$6,(((100-D$154)/100)*V3_TuneBuilder!$B$42)+V3_TuneBuilder!$B46,(V3_TuneBuilder!$B46-V3_TuneBuilder!$B$39+(V3_TuneBuilder!$B$39*D$154)/100))","v":19.8},{"$f":"IF(E$154<=V3_TuneBuilder!K$6,(((100-E$154)/100)*V3_TuneBuilder!$B$42)+V3_TuneBuilder!$B46,(V3_TuneBuilder!$B46-V3_TuneBuilder!$B$39+(V3_TuneBuilder!$B$39*E$154)/100))","v":19.7},{"$f":"IF(F$154<=V3_TuneBuilder!K$7,(((100-F$154)/100)*V3_TuneBuilder!$B$42)+V3_TuneBuilder!$B46,(V3_TuneBuilder!$B46-V3_TuneBuilder!$B$39+(V3_TuneBuilder!$B$39*F$154)/100))","v":16.399999999999999},{"$f":"IF(G$154<=V3_TuneBuilder!F$43,(((100-G$154)/100)*V3_TuneBuilder!$B$42)+V3_TuneBuilder!$B46,(V3_TuneBuilder!$B46-V3_TuneBuilder!$B$39+(V3_TuneBuilder!$B$39*G$154)/100))","v":16.5},{"$f":"IF(H$154<=V3_TuneBuilder!G$43,(((100-H$154)/100)*V3_TuneBuilder!$B$42)+V3_TuneBuilder!$B46,(V3_TuneBuilder!$B46-V3_TuneBuilder!$B$39+(V3_TuneBuilder!$B$39*H$154)/100))","v":16.600000000000001},{"$f":"IF(I$154<=V3_TuneBuilder!H$43,(((100-I$154)/100)*V3_TuneBuilder!$B$42)+V3_TuneBuilder!$B46,(V3_TuneBuilder!$B46-V3_TuneBuilder!$B$39+(V3_TuneBuilder!$B$39*I$154)/100))","v":16.7},{"$f":"IF(J$154<=V3_TuneBuilder!I$43,(((100-J$154)/100)*V3_TuneBuilder!$B$42)+V3_TuneBuilder!$B46,(V3_TuneBuilder!$B46-V3_TuneBuilder!$B$39+(V3_TuneBuilder!$B$39*J$154)/100))","v":16.8},{"$f":"IF(K$154<=V3_TuneBuilder!J$43,(((100-K$154)/100)*V3_TuneBuilder!$B$42)+V3_TuneBuilder!$B46,(V3_TuneBuilder!$B46-V3_TuneBuilder!$B$39+(V3_TuneBuilder!$B$39*K$154)/100))","v":16.899999999999999},{"$f":"IF(L$154<=V3_TuneBuilder!K$43,(((100-L$154)/100)*V3_TuneBuilder!$B$42)+V3_TuneBuilder!$B46,(V3_TuneBuilder!$B46-V3_TuneBuilder!$B$39+(V3_TuneBuilder!$B$39*L$154)/100))","v":17},{"$f":"IF(M$154<=V3_TuneBuilder!L$43,(((100-M$154)/100)*V3_TuneBuilder!$B$42)+V3_TuneBuilder!$B46,(V3_TuneBuilder!$B46-V3_TuneBuilder!$B$39+(V3_TuneBuilder!$B$39*M$154)/100))","v":17.100000000000001},{"$f":"IF(N$154<=V3_TuneBuilder!M$43,(((100-N$154)/100)*V3_TuneBuilder!$B$42)+V3_TuneBuilder!$B46,(V3_TuneBuilder!$B46-V3_TuneBuilder!$B$39+(V3_TuneBuilder!$B$39*N$154)/100))","v":17.2},{"$f":"IF(O$154<=V3_TuneBuilder!N$43,(((100-O$154)/100)*V3_TuneBuilder!$B$42)+V3_TuneBuilder!$B46,(V3_TuneBuilder!$B46-V3_TuneBuilder!$B$39+(V3_TuneBuilder!$B$39*O$154)/100))","v":17.3},{"$f":"IF(P$154<=V3_TuneBuilder!O$43,(((100-P$154)/100)*V3_TuneBuilder!$B$42)+V3_TuneBuilder!$B46,(V3_TuneBuilder!$B46-V3_TuneBuilder!$B$39+(V3_TuneBuilder!$B$39*P$154)/100))","v":17.399999999999999},{"$f":"IF(Q$154<=V3_TuneBuilder!P$43,(((100-Q$154)/100)*V3_TuneBuilder!$B$42)+V3_TuneBuilder!$B46,(V3_TuneBuilder!$B46-V3_TuneBuilder!$B$39+(V3_TuneBuilder!$B$39*Q$154)/100))","v":17.5},{"$f":"IF(R$154<=V3_TuneBuilder!Q$43,(((100-R$154)/100)*V3_TuneBuilder!$B$42)+V3_TuneBuilder!$B46,(V3_TuneBuilder!$B46-V3_TuneBuilder!$B$39+(V3_TuneBuilder!$B$39*R$154)/100))","v":17.600000000000001},{"$f":"IF(S$154<=V3_TuneBuilder!R$43,(((100-S$154)/100)*V3_TuneBuilder!$B$42)+V3_TuneBuilder!$B46,(V3_TuneBuilder!$B46-V3_TuneBuilder!$B$39+(V3_TuneBuilder!$B$39*S$154)/100))","v":17.7},{"$f":"IF(T$154<=V3_TuneBuilder!S$43,(((100-T$154)/100)*V3_TuneBuilder!$B$42)+V3_TuneBuilder!$B46,(V3_TuneBuilder!$B46-V3_TuneBuilder!$B$39+(V3_TuneBuilder!$B$39*T$154)/100))","v":17.8},{"$f":"IF(U$154<=V3_TuneBuilder!T$43,(((100-U$154)/100)*V3_TuneBuilder!$B$42)+V3_TuneBuilder!$B46,(V3_TuneBuilder!$B46-V3_TuneBuilder!$B$39+(V3_TuneBuilder!$B$39*U$154)/100))","v":17.899999999999999},{"$f":"IF(V$154<=V3_TuneBuilder!U$43,(((100-V$154)/100)*V3_TuneBuilder!$B$42)+V3_TuneBuilder!$B46,(V3_TuneBuilder!$B46-V3_TuneBuilder!$B$39+(V3_TuneBuilder!$B$39*V$154)/100))","v":18}]
["2500RPM",{"$f":"IF(B$154<=V3_TuneBuilder!B$43,(((100-B$154)/100)*V3_TuneBuilder!$B$42)+V3_TuneBuilder!$B47,(V3_TuneBuilder!$B47-(V3_TuneBuilder!$B$39*B$154)/100))","v":23},{"$f":"IF(C$154<=V3_TuneBuilder!B$43,(((100-C$154)/100)*V3_TuneBuilder!$B$42)+V3_TuneBuilder!$B47,(V3_TuneBuilder!$B47-V3_TuneBuilder!$B$39+(V3_TuneBuilder!$B$39*C$154)/100))","v":22.9},{"$f":"IF(D$154<=V3_TuneBuilder!J$6,(((100-D$154)/100)*V3_TuneBuilder!$B$42)+V3_TuneBuilder!$B47,(V3_TuneBuilder!$B47-V3_TuneBuilder!$B$39+(V3_TuneBuilder!$B$39*D$154)/100))","v":22.8},{"$f":"IF(E$154<=V3_TuneBuilder!K$6,(((100-E$154)/100)*V3_TuneBuilder!$B$42)+V3_TuneBuilder!$B47,(V3_TuneBuilder!$B47-V3_TuneBuilder!$B$39+(V3_TuneBuilder!$B$39*E$154)/100))","v":22.7},{"$f":"IF(F$154<=V3_TuneBuilder!K$7,(((100-F$154)/100)*V3_TuneBuilder!$B$42)+V3_TuneBuilder!$B47,(V3_TuneBuilder!$B47-V3_TuneBuilder!$B$39+(V3_TuneBuilder!$B$39*F$154)/100))","v":19.399999999999999},{"$f":"IF(G$154<=V3_TuneBuilder!F$43,(((100-G$154)/100)*V3_TuneBuilder!$B$42)+V3_TuneBuilder!$B47,(V3_TuneBuilder!$B47-V3_TuneBuilder!$B$39+(V3_TuneBuilder!$B$39*G$154)/100))","v":19.5},{"$f":"IF(H$154<=V3_TuneBuilder!G$43,(((100-H$154)/100)*V3_TuneBuilder!$B$42)+V3_TuneBuilder!$B47,(V3_TuneBuilder!$B47-V3_TuneBuilder!$B$39+(V3_TuneBuilder!$B$39*H$154)/100))","v":19.600000000000001},{"$f":"IF(I$154<=V3_TuneBuilder!H$43,(((100-I$154)/100)*V3_TuneBuilder!$B$42)+V3_TuneBuilder!$B47,(V3_TuneBuilder!$B47-V3_TuneBuilder!$B$39+(V3_TuneBuilder!$B$39*I$154)/100))","v":19.7},{"$f":"IF(J$154<=V3_TuneBuilder!I$43,(((100-J$154)/100)*V3_TuneBuilder!$B$42)+V3_TuneBuilder!$B47,(V3_TuneBuilder!$B47-V3_TuneBuilder!$B$39+(V3_TuneBuilder!$B$39*J$154)/100))","v":19.8},{"$f":"IF(K$154<=V3_TuneBuilder!J$43,(((100-K$154)/100)*V3_TuneBuilder!$B$42)+V3_TuneBuilder!$B47,(V3_TuneBuilder!$B47-V3_TuneBuilder!$B$39+(V3_TuneBuilder!$B$39*K$154)/100))","v":19.899999999999999},{"$f":"IF(L$154<=V3_TuneBuilder!K$43,(((100-L$154)/100)*V3_TuneBuilder!$B$42)+V3_TuneBuilder!$B47,(V3_TuneBuilder!$B47-V3_TuneBuilder!$B$39+(V3_TuneBuilder!$B$39*L$154)/100))","v":20},{"$f":"IF(M$154<=V3_TuneBuilder!L$43,(((100-M$154)/100)*V3_TuneBuilder!$B$42)+V3_TuneBuilder!$B47,(V3_TuneBuilder!$B47-V3_TuneBuilder!$B$39+(V3_TuneBuilder!$B$39*M$154)/100))","v":20.100000000000001},{"$f":"IF(N$154<=V3_TuneBuilder!M$43,(((100-N$154)/100)*V3_TuneBuilder!$B$42)+V3_TuneBuilder!$B47,(V3_TuneBuilder!$B47-V3_TuneBuilder!$B$39+(V3_TuneBuilder!$B$39*N$154)/100))","v":20.2},{"$f":"IF(O$154<=V3_TuneBuilder!N$43,(((100-O$154)/100)*V3_TuneBuilder!$B$42)+V3_TuneBuilder!$B47,(V3_TuneBuilder!$B47-V3_TuneBuilder!$B$39+(V3_TuneBuilder!$B$39*O$154)/100))","v":20.3},{"$f":"IF(P$154<=V3_TuneBuilder!O$43,(((100-P$154)/100)*V3_TuneBuilder!$B$42)+V3_TuneBuilder!$B47,(V3_TuneBuilder!$B47-V3_TuneBuilder!$B$39+(V3_TuneBuilder!$B$39*P$154)/100))","v":20.399999999999999},{"$f":"IF(Q$154<=V3_TuneBuilder!P$43,(((100-Q$154)/100)*V3_TuneBuilder!$B$42)+V3_TuneBuilder!$B47,(V3_TuneBuilder!$B47-V3_TuneBuilder!$B$39+(V3_TuneBuilder!$B$39*Q$154)/100))","v":20.5},{"$f":"IF(R$154<=V3_TuneBuilder!Q$43,(((100-R$154)/100)*V3_TuneBuilder!$B$42)+V3_TuneBuilder!$B47,(V3_TuneBuilder!$B47-V3_TuneBuilder!$B$39+(V3_TuneBuilder!$B$39*R$154)/100))","v":20.6},{"$f":"IF(S$154<=V3_TuneBuilder!R$43,(((100-S$154)/100)*V3_TuneBuilder!$B$42)+V3_TuneBuilder!$B47,(V3_TuneBuilder!$B47-V3_TuneBuilder!$B$39+(V3_TuneBuilder!$B$39*S$154)/100))","v":20.7},{"$f":"IF(T$154<=V3_TuneBuilder!S$43,(((100-T$154)/100)*V3_TuneBuilder!$B$42)+V3_TuneBuilder!$B47,(V3_TuneBuilder!$B47-V3_TuneBuilder!$B$39+(V3_TuneBuilder!$B$39*T$154)/100))","v":20.8},{"$f":"IF(U$154<=V3_TuneBuilder!T$43,(((100-U$154)/100)*V3_TuneBuilder!$B$42)+V3_TuneBuilder!$B47,(V3_TuneBuilder!$B47-V3_TuneBuilder!$B$39+(V3_TuneBuilder!$B$39*U$154)/100))","v":20.9},{"$f":"IF(V$154<=V3_TuneBuilder!U$43,(((100-V$154)/100)*V3_TuneBuilder!$B$42)+V3_TuneBuilder!$B47,(V3_TuneBuilder!$B47-V3_TuneBuilder!$B$39+(V3_TuneBuilder!$B$39*V$154)/100))","v":21}]
["3000RPM",{"$f":"IF(B$154<=V3_TuneBuilder!B$43,(((100-B$154)/100)*V3_TuneBuilder!$B$42)+V3_TuneBuilder!$B48,(V3_TuneBuilder!$B48-(V3_TuneBuilder!$B$39*B$154)/100))","v":25},{"$f":"IF(C$154<=V3_TuneBuilder!B$43,(((100-C$154)/100)*V3_TuneBuilder!$B$42)+V3_TuneBuilder!$B48,(V3_TuneBuilder!$B48-V3_TuneBuilder!$B$39+(V3_TuneBuilder!$B$39*C$154)/100))","v":24.9},{"$f":"IF(D$154<=V3_TuneBuilder!J$6,(((100-D$154)/100)*V3_TuneBuilder!$B$42)+V3_TuneBuilder!$B48,(V3_TuneBuilder!$B48-V3_TuneBuilder!$B$39+(V3_TuneBuilder!$B$39*D$154)/100))","v":24.8},{"$f":"IF(E$154<=V3_TuneBuilder!K$6,(((100-E$154)/100)*V3_TuneBuilder!$B$42)+V3_TuneBuilder!$B48,(V3_TuneBuilder!$B48-V3_TuneBuilder!$B$39+(V3_TuneBuilder!$B$39*E$154)/100))","v":24.7},{"$f":"IF(F$154<=V3_TuneBuilder!K$7,(((100-F$154)/100)*V3_TuneBuilder!$B$42)+V3_TuneBuilder!$B48,(V3_TuneBuilder!$B48-V3_TuneBuilder!$B$39+(V3_TuneBuilder!$B$39*F$154)/100))","v":21.4},{"$f":"IF(G$154<=V3_TuneBuilder!F$43,(((100-G$154)/100)*V3_TuneBuilder!$B$42)+V3_TuneBuilder!$B48,(V3_TuneBuilder!$B48-V3_TuneBuilder!$B$39+(V3_TuneBuilder!$B$39*G$154)/100))","v":21.5},{"$f":"IF(H$154<=V3_TuneBuilder!G$43,(((100-H$154)/100)*V3_TuneBuilder!$B$42)+V3_TuneBuilder!$B48,(V3_TuneBuilder!$B48-V3_TuneBuilder!$B$39+(V3_TuneBuilder!$B$39*H$154)/100))","v":21.6},{"$f":"IF(I$154<=V3_TuneBuilder!H$43,(((100-I$154)/100)*V3_TuneBuilder!$B$42)+V3_TuneBuilder!$B48,(V3_TuneBuilder!$B48-V3_TuneBuilder!$B$39+(V3_TuneBuilder!$B$39*I$154)/100))","v":21.7},{"$f":"IF(J$154<=V3_TuneBuilder!I$43,(((100-J$154)/100)*V3_TuneBuilder!$B$42)+V3_TuneBuilder!$B48,(V3_TuneBuilder!$B48-V3_TuneBuilder!$B$39+(V3_TuneBuilder!$B$39*J$154)/100))","v":21.8},{"$f":"IF(K$154<=V3_TuneBuilder!J$43,(((100-K$154)/100)*V3_TuneBuilder!$B$42)+V3_TuneBuilder!$B48,(V3_TuneBuilder!$B48-V3_TuneBuilder!$B$39+(V3_TuneBuilder!$B$39*K$154)/100))","v":21.9},{"$f":"IF(L$154<=V3_TuneBuilder!K$43,(((100-L$154)/100)*V3_TuneBuilder!$B$42)+V3_TuneBuilder!$B48,(V3_TuneBuilder!$B48-V3_TuneBuilder!$B$39+(V3_TuneBuilder!$B$39*L$154)/100))","v":22},{"$f":"IF(M$154<=V3_TuneBuilder!L$43,(((100-M$154)/100)*V3_TuneBuilder!$B$42)+V3_TuneBuilder!$B48,(V3_TuneBuilder!$B48-V3_TuneBuilder!$B$39+(V3_TuneBuilder!$B$39*M$154)/100))","v":22.1},{"$f":"IF(N$154<=V3_TuneBuilder!M$43,(((100-N$154)/100)*V3_TuneBuilder!$B$42)+V3_TuneBuilder!$B48,(V3_TuneBuilder!$B48-V3_TuneBuilder!$B$39+(V3_TuneBuilder!$B$39*N$154)/100))","v":22.2},{"$f":"IF(O$154<=V3_TuneBuilder!N$43,(((100-O$154)/100)*V3_TuneBuilder!$B$42)+V3_TuneBuilder!$B48,(V3_TuneBuilder!$B48-V3_TuneBuilder!$B$39+(V3_TuneBuilder!$B$39*O$154)/100))","v":22.3},{"$f":"IF(P$154<=V3_TuneBuilder!O$43,(((100-P$154)/100)*V3_TuneBuilder!$B$42)+V3_TuneBuilder!$B48,(V3_TuneBuilder!$B48-V3_TuneBuilder!$B$39+(V3_TuneBuilder!$B$39*P$154)/100))","v":22.4},{"$f":"IF(Q$154<=V3_TuneBuilder!P$43,(((100-Q$154)/100)*V3_TuneBuilder!$B$42)+V3_TuneBuilder!$B48,(V3_TuneBuilder!$B48-V3_TuneBuilder!$B$39+(V3_TuneBuilder!$B$39*Q$154)/100))","v":22.5},{"$f":"IF(R$154<=V3_TuneBuilder!Q$43,(((100-R$154)/100)*V3_TuneBuilder!$B$42)+V3_TuneBuilder!$B48,(V3_TuneBuilder!$B48-V3_TuneBuilder!$B$39+(V3_TuneBuilder!$B$39*R$154)/100))","v":22.6},{"$f":"IF(S$154<=V3_TuneBuilder!R$43,(((100-S$154)/100)*V3_TuneBuilder!$B$42)+V3_TuneBuilder!$B48,(V3_TuneBuilder!$B48-V3_TuneBuilder!$B$39+(V3_TuneBuilder!$B$39*S$154)/100))","v":22.7},{"$f":"IF(T$154<=V3_TuneBuilder!S$43,(((100-T$154)/100)*V3_TuneBuilder!$B$42)+V3_TuneBuilder!$B48,(V3_TuneBuilder!$B48-V3_TuneBuilder!$B$39+(V3_TuneBuilder!$B$39*T$154)/100))","v":22.8},{"$f":"IF(U$154<=V3_TuneBuilder!T$43,(((100-U$154)/100)*V3_TuneBuilder!$B$42)+V3_TuneBuilder!$B48,(V3_TuneBuilder!$B48-V3_TuneBuilder!$B$39+(V3_TuneBuilder!$B$39*U$154)/100))","v":22.9},{"$f":"IF(V$154<=V3_TuneBuilder!U$43,(((100-V$154)/100)*V3_TuneBuilder!$B$42)+V3_TuneBuilder!$B48,(V3_TuneBuilder!$B48-V3_TuneBuilder!$B$39+(V3_TuneBuilder!$B$39*V$154)/100))","v":23}]
["MaxRPM",{"$f":"IF(B$154<=V3_TuneBuilder!B$43,(((100-B$154)/100)*V3_TuneBuilder!$B$42)+V3_TuneBuilder!$B49,(V3_TuneBuilder!$B49-(V3_TuneBuilder!$B$39*B$154)/100))","v":28},{"$f":"IF(C$154<=V3_TuneBuilder!B$43,(((100-C$154)/100)*V3_TuneBuilder!$B$42)+V3_TuneBuilder!$B49,(V3_TuneBuilder!$B49-V3_TuneBuilder!$B$39+(V3_TuneBuilder!$B$39*C$154)/100))","v":27.9},{"$f":"IF(D$154<=V3_TuneBuilder!J$6,(((100-D$154)/100)*V3_TuneBuilder!$B$42)+V3_TuneBuilder!$B49,(V3_TuneBuilder!$B49-V3_TuneBuilder!$B$39+(V3_TuneBuilder!$B$39*D$154)/100))","v":27.8},{"$f":"IF(E$154<=V3_TuneBuilder!K$6,(((100-E$154)/100)*V3_TuneBuilder!$B$42)+V3_TuneBuilder!$B49,(V3_TuneBuilder!$B49-V3_TuneBuilder!$B$39+(V3_TuneBuilder!$B$39*E$154)/100))","v":27.7},{"$f":"IF(F$154<=V3_TuneBuilder!K$7,(((100-F$154)/100)*V3_TuneBuilder!$B$42)+V3_TuneBuilder!$B49,(V3_TuneBuilder!$B49-V3_TuneBuilder!$B$39+(V3_TuneBuilder!$B$39*F$154)/100))","v":24.4},{"$f":"IF(G$154<=V3_TuneBuilder!F$43,(((100-G$154)/100)*V3_TuneBuilder!$B$42)+V3_TuneBuilder!$B49,(V3_TuneBuilder!$B49-V3_TuneBuilder!$B$39+(V3_TuneBuilder!$B$39*G$154)/100))","v":24.5},{"$f":"IF(H$154<=V3_TuneBuilder!G$43,(((100-H$154)/100)*V3_TuneBuilder!$B$42)+V3_TuneBuilder!$B49,(V3_TuneBuilder!$B49-V3_TuneBuilder!$B$39+(V3_TuneBuilder!$B$39*H$154)/100))","v":24.6},{"$f":"IF(I$154<=V3_TuneBuilder!H$43,(((100-I$154)/100)*V3_TuneBuilder!$B$42)+V3_TuneBuilder!$B49,(V3_TuneBuilder!$B49-V3_TuneBuilder!$B$39+(V3_TuneBuilder!$B$39*I$154)/100))","v":24.7},{"$f":"IF(J$154<=V3_TuneBuilder!I$43,(((100-J$154)/100)*V3_TuneBuilder!$B$42)+V3_TuneBuilder!$B49,(V3_TuneBuilder!$B49-V3_TuneBuilder!$B$39+(V3_TuneBuilder!$B$39*J$154)/100))","v":24.8},{"$f":"IF(K$154<=V3_TuneBuilder!J$43,(((100-K$154)/100)*V3_TuneBuilder!$B$42)+V3_TuneBuilder!$B49,(V3_TuneBuilder!$B49-V3_TuneBuilder!$B$39+(V3_TuneBuilder!$B$39*K$154)/100))","v":24.9},{"$f":"IF(L$154<=V3_TuneBuilder!K$43,(((100-L$154)/100)*V3_TuneBuilder!$B$42)+V3_TuneBuilder!$B49,(V3_TuneBuilder!$B49-V3_TuneBuilder!$B$39+(V3_TuneBuilder!$B$39*L$154)/100))","v":25},{"$f":"IF(M$154<=V3_TuneBuilder!L$43,(((100-M$154)/100)*V3_TuneBuilder!$B$42)+V3_TuneBuilder!$B49,(V3_TuneBuilder!$B49-V3_TuneBuilder!$B$39+(V3_TuneBuilder!$B$39*M$154)/100))","v":25.1},{"$f":"IF(N$154<=V3_TuneBuilder!M$43,(((100-N$154)/100)*V3_TuneBuilder!$B$42)+V3_TuneBuilder!$B49,(V3_TuneBuilder!$B49-V3_TuneBuilder!$B$39+(V3_TuneBuilder!$B$39*N$154)/100))","v":25.2},{"$f":"IF(O$154<=V3_TuneBuilder!N$43,(((100-O$154)/100)*V3_TuneBuilder!$B$42)+V3_TuneBuilder!$B49,(V3_TuneBuilder!$B49-V3_TuneBuilder!$B$39+(V3_TuneBuilder!$B$39*O$154)/100))","v":25.3},{"$f":"IF(P$154<=V3_TuneBuilder!O$43,(((100-P$154)/100)*V3_TuneBuilder!$B$42)+V3_TuneBuilder!$B49,(V3_TuneBuilder!$B49-V3_TuneBuilder!$B$39+(V3_TuneBuilder!$B$39*P$154)/100))","v":25.4},{"$f":"IF(Q$154<=V3_TuneBuilder!P$43,(((100-Q$154)/100)*V3_TuneBuilder!$B$42)+V3_TuneBuilder!$B49,(V3_TuneBuilder!$B49-V3_TuneBuilder!$B$39+(V3_TuneBuilder!$B$39*Q$154)/100))","v":25.5},{"$f":"IF(R$154<=V3_TuneBuilder!Q$43,(((100-R$154)/100)*V3_TuneBuilder!$B$42)+V3_TuneBuilder!$B49,(V3_TuneBuilder!$B49-V3_TuneBuilder!$B$39+(V3_TuneBuilder!$B$39*R$154)/100))","v":25.6},{"$f":"IF(S$154<=V3_TuneBuilder!R$43,(((100-S$154)/100)*V3_TuneBuilder!$B$42)+V3_TuneBuilder!$B49,(V3_TuneBuilder!$B49-V3_TuneBuilder!$B$39+(V3_TuneBuilder!$B$39*S$154)/100))","v":25.7},{"$f":"IF(T$154<=V3_TuneBuilder!S$43,(((100-T$154)/100)*V3_TuneBuilder!$B$42)+V3_TuneBuilder!$B49,(V3_TuneBuilder!$B49-V3_TuneBuilder!$B$39+(V3_TuneBuilder!$B$39*T$154)/100))","v":25.8},{"$f":"IF(U$154<=V3_TuneBuilder!T$43,(((100-U$154)/100)*V3_TuneBuilder!$B$42)+V3_TuneBuilder!$B49,(V3_TuneBuilder!$B49-V3_TuneBuilder!$B$39+(V3_TuneBuilder!$B$39*U$154)/100))","v":25.9},{"$f":"IF(V$154<=V3_TuneBuilder!U$43,(((100-V$154)/100)*V3_TuneBuilder!$B$42)+V3_TuneBuilder!$B49,(V3_TuneBuilder!$B49-V3_TuneBuilder!$B$39+(V3_TuneBuilder!$B$39*V$154)/100))","v":26}]
[]
["4KV2 Fuel load timing vs rpm"]
[null,0,5,10,15,20,25,30,35,40,45,50,55,60,65,70,75,80,85,90,95,100]
["1500RPM",{"$f":"IF(B$162<='4KV2_TuneBuilder'!B$18,(((100-B$162)/100)*'4KV2_TuneBuilder'!$B$17)+'4KV2_TuneBuilder'!$B20,('4KV2_TuneBuilder'!$B20-('4KV2_TuneBuilder'!$B$14*B$162)/100))","v":17},{"$f":"IF(C$162<='4KV2_TuneBuilder'!J$6,(((100-C$162)/100)*'4KV2_TuneBuilder'!$B$17)+'4KV2_TuneBuilder'!$B20,('4KV2_TuneBuilder'!$B20-'4KV2_TuneBuilder'!$B$14+('4KV2_TuneBuilder'!$B$14*C$162)/100))","v":16.899999999999999},{"$f":"IF(D$162<='4KV2_TuneBuilder'!K$6,(((100-D$162)/100)*'4KV2_TuneBuilder'!$B$17)+'4KV2_TuneBuilder'!$B20,('4KV2_TuneBuilder'!$B20-'4KV2_TuneBuilder'!$B$14+('4KV2_TuneBuilder'!$B$14*D$162)/100))","v":16.8},{"$f":"IF(E$162<='4KV2_TuneBuilder'!K$7,(((100-E$162)/100)*'4KV2_TuneBuilder'!$B$17)+'4KV2_TuneBuilder'!$B20,('4KV2_TuneBuilder'!$B20-'4KV2_TuneBuilder'!$B$14+('4KV2_TuneBuilder'!$B$14*E$162)/100))","v":16.7},{"$f":"IF(F$162<='4KV2_TuneBuilder'!F$17,(((100-F$162)/100)*'4KV2_TuneBuilder'!$B$17)+'4KV2_TuneBuilder'!$B20,('4KV2_TuneBuilder'!$B20-'4KV2_TuneBuilder'!$B$14+('4KV2_TuneBuilder'!$B$14*F$162)/100))","v":13.4},{"$f":"IF(G$162<='4KV2_TuneBuilder'!G$17,(((100-G$162)/100)*'4KV2_TuneBuilder'!$B$17)+'4KV2_TuneBuilder'!$B20,('4KV2_TuneBuilder'!$B20-'4KV2_TuneBuilder'!$B$14+('4KV2_TuneBuilder'!$B$14*G$162)/100))","v":13.5},{"$f":"IF(H$162<='4KV2_TuneBuilder'!H$17,(((100-H$162)/100)*'4KV2_TuneBuilder'!$B$17)+'4KV2_TuneBuilder'!$B20,('4KV2_TuneBuilder'!$B20-'4KV2_TuneBuilder'!$B$14+('4KV2_TuneBuilder'!$B$14*H$162)/100))","v":13.6},{"$f":"IF(I$162<='4KV2_TuneBuilder'!I$17,(((100-I$162)/100)*'4KV2_TuneBuilder'!$B$17)+'4KV2_TuneBuilder'!$B20,('4KV2_TuneBuilder'!$B20-'4KV2_TuneBuilder'!$B$14+('4KV2_TuneBuilder'!$B$14*I$162)/100))","v":13.7},{"$f":"IF(J$162<='4KV2_TuneBuilder'!J$17,(((100-J$162)/100)*'4KV2_TuneBuilder'!$B$17)+'4KV2_TuneBuilder'!$B20,('4KV2_TuneBuilder'!$B20-'4KV2_TuneBuilder'!$B$14+('4KV2_TuneBuilder'!$B$14*J$162)/100))","v":13.8},{"$f":"IF(K$162<='4KV2_TuneBuilder'!K$17,(((100-K$162)/100)*'4KV2_TuneBuilder'!$B$17)+'4KV2_TuneBuilder'!$B20,('4KV2_TuneBuilder'!$B20-'4KV2_TuneBuilder'!$B$14+('4KV2_TuneBuilder'!$B$14*K$162)/100))","v":13.9},{"$f":"IF(L$162<='4KV2_TuneBuilder'!L$17,(((100-L$162)/100)*'4KV2_TuneBuilder'!$B$17)+'4KV2_TuneBuilder'!$B20,('4KV2_TuneBuilder'!$B20-'4KV2_TuneBuilder'!$B$14+('4KV2_TuneBuilder'!$B$14*L$162)/100))","v":14},{"$f":"IF(M$162<='4KV2_TuneBuilder'!M$17,(((100-M$162)/100)*'4KV2_TuneBuilder'!$B$17)+'4KV2_TuneBuilder'!$B20,('4KV2_TuneBuilder'!$B20-'4KV2_TuneBuilder'!$B$14+('4KV2_TuneBuilder'!$B$14*M$162)/100))","v":14.1},{"$f":"IF(N$162<='4KV2_TuneBuilder'!N$17,(((100-N$162)/100)*'4KV2_TuneBuilder'!$B$17)+'4KV2_TuneBuilder'!$B20,('4KV2_TuneBuilder'!$B20-'4KV2_TuneBuilder'!$B$14+('4KV2_TuneBuilder'!$B$14*N$162)/100))","v":14.2},{"$f":"IF(O$162<='4KV2_TuneBuilder'!O$17,(((100-O$162)/100)*'4KV2_TuneBuilder'!$B$17)+'4KV2_TuneBuilder'!$B20,('4KV2_TuneBuilder'!$B20-'4KV2_TuneBuilder'!$B$14+('4KV2_TuneBuilder'!$B$14*O$162)/100))","v":14.3},{"$f":"IF(P$162<='4KV2_TuneBuilder'!P$17,(((100-P$162)/100)*'4KV2_TuneBuilder'!$B$17)+'4KV2_TuneBuilder'!$B20,('4KV2_TuneBuilder'!$B20-'4KV2_TuneBuilder'!$B$14+('4KV2_TuneBuilder'!$B$14*P$162)/100))","v":14.4},{"$f":"IF(Q$162<='4KV2_TuneBuilder'!Q$17,(((100-Q$162)/100)*'4KV2_TuneBuilder'!$B$17)+'4KV2_TuneBuilder'!$B20,('4KV2_TuneBuilder'!$B20-'4KV2_TuneBuilder'!$B$14+('4KV2_TuneBuilder'!$B$14*Q$162)/100))","v":14.5},{"$f":"IF(R$162<='4KV2_TuneBuilder'!R$17,(((100-R$162)/100)*'4KV2_TuneBuilder'!$B$17)+'4KV2_TuneBuilder'!$B20,('4KV2_TuneBuilder'!$B20-'4KV2_TuneBuilder'!$B$14+('4KV2_TuneBuilder'!$B$14*R$162)/100))","v":14.6},{"$f":"IF(S$162<='4KV2_TuneBuilder'!S$17,(((100-S$162)/100)*'4KV2_TuneBuilder'!$B$17)+'4KV2_TuneBuilder'!$B20,('4KV2_TuneBuilder'!$B20-'4KV2_TuneBuilder'!$B$14+('4KV2_TuneBuilder'!$B$14*S$162)/100))","v":14.7},{"$f":"IF(T$162<='4KV2_TuneBuilder'!T$17,(((100-T$162)/100)*'4KV2_TuneBuilder'!$B$17)+'4KV2_TuneBuilder'!$B20,('4KV2_TuneBuilder'!$B20-'4KV2_TuneBuilder'!$B$14+('4KV2_TuneBuilder'!$B$14*T$162)/100))","v":14.8},{"$f":"IF(U$162<='4KV2_TuneBuilder'!U$17,(((100-U$162)/100)*'4KV2_TuneBuilder'!$B$17)+'4KV2_TuneBuilder'!$B20,('4KV2_TuneBuilder'!$B20-'4KV2_TuneBuilder'!$B$14+('4KV2_TuneBuilder'!$B$14*U$162)/100))","v":14.9},{"$f":"IF(V$162<='4KV2_TuneBuilder'!V$17,(((100-V$162)/100)*'4KV2_TuneBuilder'!$B$17)+'4KV2_TuneBuilder'!$B20,('4KV2_TuneBuilder'!$B20-'4KV2_TuneBuilder'!$B$14+('4KV2_TuneBuilder'!$B$14*V$162)/100))","v":15}]
["2000RPM",{"$f":"IF(B$162<='4KV2_TuneBuilder'!B$18,(((100-B$162)/100)*'4KV2_TuneBuilder'!$B$17)+'4KV2_TuneBuilder'!$B21,('4KV2_TuneBuilder'!$B21-('4KV2_TuneBuilder'!$B$14*B$162)/100))","v":20},{"$f":"IF(C$162<='4KV2_TuneBuilder'!J$6,(((100-C$162)/100)*'4KV2_TuneBuilder'!$B$17)+'4KV2_TuneBuilder'!$B21,('4KV2_TuneBuilder'!$B21-'4KV2_TuneBuilder'!$B$14+('4KV2_TuneBuilder'!$B$14*C$162)/100))","v":19.899999999999999},{"$f":"IF(D$162<='4KV2_TuneBuilder'!K$6,(((100-D$162)/100)*'4KV2_TuneBuilder'!$B$17)+'4KV2_TuneBuilder'!$B21,('4KV2_TuneBuilder'!$B21-'4KV2_TuneBuilder'!$B$14+('4KV2_TuneBuilder'!$B$14*D$162)/100))","v":19.8},{"$f":"IF(E$162<='4KV2_TuneBuilder'!K$7,(((100-E$162)/100)*'4KV2_TuneBuilder'!$B$17)+'4KV2_TuneBuilder'!$B21,('4KV2_TuneBuilder'!$B21-'4KV2_TuneBuilder'!$B$14+('4KV2_TuneBuilder'!$B$14*E$162)/100))","v":19.7},{"$f":"IF(F$162<='4KV2_TuneBuilder'!F$17,(((100-F$162)/100)*'4KV2_TuneBuilder'!$B$17)+'4KV2_TuneBuilder'!$B21,('4KV2_TuneBuilder'!$B21-'4KV2_TuneBuilder'!$B$14+('4KV2_TuneBuilder'!$B$14*F$162)/100))","v":16.399999999999999},{"$f":"IF(G$162<='4KV2_TuneBuilder'!G$17,(((100-G$162)/100)*'4KV2_TuneBuilder'!$B$17)+'4KV2_TuneBuilder'!$B21,('4KV2_TuneBuilder'!$B21-'4KV2_TuneBuilder'!$B$14+('4KV2_TuneBuilder'!$B$14*G$162)/100))","v":16.5},{"$f":"IF(H$162<='4KV2_TuneBuilder'!H$17,(((100-H$162)/100)*'4KV2_TuneBuilder'!$B$17)+'4KV2_TuneBuilder'!$B21,('4KV2_TuneBuilder'!$B21-'4KV2_TuneBuilder'!$B$14+('4KV2_TuneBuilder'!$B$14*H$162)/100))","v":16.600000000000001},{"$f":"IF(I$162<='4KV2_TuneBuilder'!I$17,(((100-I$162)/100)*'4KV2_TuneBuilder'!$B$17)+'4KV2_TuneBuilder'!$B21,('4KV2_TuneBuilder'!$B21-'4KV2_TuneBuilder'!$B$14+('4KV2_TuneBuilder'!$B$14*I$162)/100))","v":16.7},{"$f":"IF(J$162<='4KV2_TuneBuilder'!J$17,(((100-J$162)/100)*'4KV2_TuneBuilder'!$B$17)+'4KV2_TuneBuilder'!$B21,('4KV2_TuneBuilder'!$B21-'4KV2_TuneBuilder'!$B$14+('4KV2_TuneBuilder'!$B$14*J$162)/100))","v":16.8},{"$f":"IF(K$162<='4KV2_TuneBuilder'!K$17,(((100-K$162)/100)*'4KV2_TuneBuilder'!$B$17)+'4KV2_TuneBuilder'!$B21,('4KV2_TuneBuilder'!$B21-'4KV2_TuneBuilder'!$B$14+('4KV2_TuneBuilder'!$B$14*K$162)/100))","v":16.899999999999999},{"$f":"IF(L$162<='4KV2_TuneBuilder'!L$17,(((100-L$162)/100)*'4KV2_TuneBuilder'!$B$17)+'4KV2_TuneBuilder'!$B21,('4KV2_TuneBuilder'!$B21-'4KV2_TuneBuilder'!$B$14+('4KV2_TuneBuilder'!$B$14*L$162)/100))","v":17},{"$f":"IF(M$162<='4KV2_TuneBuilder'!M$17,(((100-M$162)/100)*'4KV2_TuneBuilder'!$B$17)+'4KV2_TuneBuilder'!$B21,('4KV2_TuneBuilder'!$B21-'4KV2_TuneBuilder'!$B$14+('4KV2_TuneBuilder'!$B$14*M$162)/100))","v":17.100000000000001},{"$f":"IF(N$162<='4KV2_TuneBuilder'!N$17,(((100-N$162)/100)*'4KV2_TuneBuilder'!$B$17)+'4KV2_TuneBuilder'!$B21,('4KV2_TuneBuilder'!$B21-'4KV2_TuneBuilder'!$B$14+('4KV2_TuneBuilder'!$B$14*N$162)/100))","v":17.2},{"$f":"IF(O$162<='4KV2_TuneBuilder'!O$17,(((100-O$162)/100)*'4KV2_TuneBuilder'!$B$17)+'4KV2_TuneBuilder'!$B21,('4KV2_TuneBuilder'!$B21-'4KV2_TuneBuilder'!$B$14+('4KV2_TuneBuilder'!$B$14*O$162)/100))","v":17.3},{"$f":"IF(P$162<='4KV2_TuneBuilder'!P$17,(((100-P$162)/100)*'4KV2_TuneBuilder'!$B$17)+'4KV2_TuneBuilder'!$B21,('4KV2_TuneBuilder'!$B21-'4KV2_TuneBuilder'!$B$14+('4KV2_TuneBuilder'!$B$14*P$162)/100))","v":17.399999999999999},{"$f":"IF(Q$162<='4KV2_TuneBuilder'!Q$17,(((100-Q$162)/100)*'4KV2_TuneBuilder'!$B$17)+'4KV2_TuneBuilder'!$B21,('4KV2_TuneBuilder'!$B21-'4KV2_TuneBuilder'!$B$14+('4KV2_TuneBuilder'!$B$14*Q$162)/100))","v":17.5},{"$f":"IF(R$162<='4KV2_TuneBuilder'!R$17,(((100-R$162)/100)*'4KV2_TuneBuilder'!$B$17)+'4KV2_TuneBuilder'!$B21,('4KV2_TuneBuilder'!$B21-'4KV2_TuneBuilder'!$B$14+('4KV2_TuneBuilder'!$B$14*R$162)/100))","v":17.600000000000001},{"$f":"IF(S$162<='4KV2_TuneBuilder'!S$17,(((100-S$162)/100)*'4KV2_TuneBuilder'!$B$17)+'4KV2_TuneBuilder'!$B21,('4KV2_TuneBuilder'!$B21-'4KV2_TuneBuilder'!$B$14+('4KV2_TuneBuilder'!$B$14*S$162)/100))","v":17.7},{"$f":"IF(T$162<='4KV2_TuneBuilder'!T$17,(((100-T$162)/100)*'4KV2_TuneBuilder'!$B$17)+'4KV2_TuneBuilder'!$B21,('4KV2_TuneBuilder'!$B21-'4KV2_TuneBuilder'!$B$14+('4KV2_TuneBuilder'!$B$14*T$162)/100))","v":17.8},{"$f":"IF(U$162<='4KV2_TuneBuilder'!U$17,(((100-U$162)/100)*'4KV2_TuneBuilder'!$B$17)+'4KV2_TuneBuilder'!$B21,('4KV2_TuneBuilder'!$B21-'4KV2_TuneBuilder'!$B$14+('4KV2_TuneBuilder'!$B$14*U$162)/100))","v":17.899999999999999},{"$f":"IF(V$162<='4KV2_TuneBuilder'!V$17,(((100-V$162)/100)*'4KV2_TuneBuilder'!$B$17)+'4KV2_TuneBuilder'!$B21,('4KV2_TuneBuilder'!$B21-'4KV2_TuneBuilder'!$B$14+('4KV2_TuneBuilder'!$B$14*V$162)/100))","v":18}]
["2500RPM",{"$f":"IF(B$162<='4KV2_TuneBuilder'!B$18,(((100-B$162)/100)*'4KV2_TuneBuilder'!$B$17)+'4KV2_TuneBuilder'!$B22,('4KV2_TuneBuilder'!$B22-('4KV2_TuneBuilder'!$B$14*B$162)/100))","v":23},{"$f":"IF(C$162<='4KV2_TuneBuilder'!J$6,(((100-C$162)/100)*'4KV2_TuneBuilder'!$B$17)+'4KV2_TuneBuilder'!$B22,('4KV2_TuneBuilder'!$B22-'4KV2_TuneBuilder'!$B$14+('4KV2_TuneBuilder'!$B$14*C$162)/100))","v":22.9},{"$f":"IF(D$162<='4KV2_TuneBuilder'!K$6,(((100-D$162)/100)*'4KV2_TuneBuilder'!$B$17)+'4KV2_TuneBuilder'!$B22,('4KV2_TuneBuilder'!$B22-'4KV2_TuneBuilder'!$B$14+('4KV2_TuneBuilder'!$B$14*D$162)/100))","v":22.8},{"$f":"IF(E$162<='4KV2_TuneBuilder'!K$7,(((100-E$162)/100)*'4KV2_TuneBuilder'!$B$17)+'4KV2_TuneBuilder'!$B22,('4KV2_TuneBuilder'!$B22-'4KV2_TuneBuilder'!$B$14+('4KV2_TuneBuilder'!$B$14*E$162)/100))","v":22.7},{"$f":"IF(F$162<='4KV2_TuneBuilder'!F$17,(((100-F$162)/100)*'4KV2_TuneBuilder'!$B$17)+'4KV2_TuneBuilder'!$B22,('4KV2_TuneBuilder'!$B22-'4KV2_TuneBuilder'!$B$14+('4KV2_TuneBuilder'!$B$14*F$162)/100))","v":19.399999999999999},{"$f":"IF(G$162<='4KV2_TuneBuilder'!G$17,(((100-G$162)/100)*'4KV2_TuneBuilder'!$B$17)+'4KV2_TuneBuilder'!$B22,('4KV2_TuneBuilder'!$B22-'4KV2_TuneBuilder'!$B$14+('4KV2_TuneBuilder'!$B$14*G$162)/100))","v":19.5},{"$f":"IF(H$162<='4KV2_TuneBuilder'!H$17,(((100-H$162)/100)*'4KV2_TuneBuilder'!$B$17)+'4KV2_TuneBuilder'!$B22,('4KV2_TuneBuilder'!$B22-'4KV2_TuneBuilder'!$B$14+('4KV2_TuneBuilder'!$B$14*H$162)/100))","v":19.600000000000001},{"$f":"IF(I$162<='4KV2_TuneBuilder'!I$17,(((100-I$162)/100)*'4KV2_TuneBuilder'!$B$17)+'4KV2_TuneBuilder'!$B22,('4KV2_TuneBuilder'!$B22-'4KV2_TuneBuilder'!$B$14+('4KV2_TuneBuilder'!$B$14*I$162)/100))","v":19.7},{"$f":"IF(J$162<='4KV2_TuneBuilder'!J$17,(((100-J$162)/100)*'4KV2_TuneBuilder'!$B$17)+'4KV2_TuneBuilder'!$B22,('4KV2_TuneBuilder'!$B22-'4KV2_TuneBuilder'!$B$14+('4KV2_TuneBuilder'!$B$14*J$162)/100))","v":19.8},{"$f":"IF(K$162<='4KV2_TuneBuilder'!K$17,(((100-K$162)/100)*'4KV2_TuneBuilder'!$B$17)+'4KV2_TuneBuilder'!$B22,('4KV2_TuneBuilder'!$B22-'4KV2_TuneBuilder'!$B$14+('4KV2_TuneBuilder'!$B$14*K$162)/100))","v":19.899999999999999},{"$f":"IF(L$162<='4KV2_TuneBuilder'!L$17,(((100-L$162)/100)*'4KV2_TuneBuilder'!$B$17)+'4KV2_TuneBuilder'!$B22,('4KV2_TuneBuilder'!$B22-'4KV2_TuneBuilder'!$B$14+('4KV2_TuneBuilder'!$B$14*L$162)/100))","v":20},{"$f":"IF(M$162<='4KV2_TuneBuilder'!M$17,(((100-M$162)/100)*'4KV2_TuneBuilder'!$B$17)+'4KV2_TuneBuilder'!$B22,('4KV2_TuneBuilder'!$B22-'4KV2_TuneBuilder'!$B$14+('4KV2_TuneBuilder'!$B$14*M$162)/100))","v":20.100000000000001},{"$f":"IF(N$162<='4KV2_TuneBuilder'!N$17,(((100-N$162)/100)*'4KV2_TuneBuilder'!$B$17)+'4KV2_TuneBuilder'!$B22,('4KV2_TuneBuilder'!$B22-'4KV2_TuneBuilder'!$B$14+('4KV2_TuneBuilder'!$B$14*N$162)/100))","v":20.2},{"$f":"IF(O$162<='4KV2_TuneBuilder'!O$17,(((100-O$162)/100)*'4KV2_TuneBuilder'!$B$17)+'4KV2_TuneBuilder'!$B22,('4KV2_TuneBuilder'!$B22-'4KV2_TuneBuilder'!$B$14+('4KV2_TuneBuilder'!$B$14*O$162)/100))","v":20.3},{"$f":"IF(P$162<='4KV2_TuneBuilder'!P$17,(((100-P$162)/100)*'4KV2_TuneBuilder'!$B$17)+'4KV2_TuneBuilder'!$B22,('4KV2_TuneBuilder'!$B22-'4KV2_TuneBuilder'!$B$14+('4KV2_TuneBuilder'!$B$14*P$162)/100))","v":20.399999999999999},{"$f":"IF(Q$162<='4KV2_TuneBuilder'!Q$17,(((100-Q$162)/100)*'4KV2_TuneBuilder'!$B$17)+'4KV2_TuneBuilder'!$B22,('4KV2_TuneBuilder'!$B22-'4KV2_TuneBuilder'!$B$14+('4KV2_TuneBuilder'!$B$14*Q$162)/100))","v":20.5},{"$f":"IF(R$162<='4KV2_TuneBuilder'!R$17,(((100-R$162)/100)*'4KV2_TuneBuilder'!$B$17)+'4KV2_TuneBuilder'!$B22,('4KV2_TuneBuilder'!$B22-'4KV2_TuneBuilder'!$B$14+('4KV2_TuneBuilder'!$B$14*R$162)/100))","v":20.6},{"$f":"IF(S$162<='4KV2_TuneBuilder'!S$17,(((100-S$162)/100)*'4KV2_TuneBuilder'!$B$17)+'4KV2_TuneBuilder'!$B22,('4KV2_TuneBuilder'!$B22-'4KV2_TuneBuilder'!$B$14+('4KV2_TuneBuilder'!$B$14*S$162)/100))","v":20.7},{"$f":"IF(T$162<='4KV2_TuneBuilder'!T$17,(((100-T$162)/100)*'4KV2_TuneBuilder'!$B$17)+'4KV2_TuneBuilder'!$B22,('4KV2_TuneBuilder'!$B22-'4KV2_TuneBuilder'!$B$14+('4KV2_TuneBuilder'!$B$14*T$162)/100))","v":20.8},{"$f":"IF(U$162<='4KV2_TuneBuilder'!U$17,(((100-U$162)/100)*'4KV2_TuneBuilder'!$B$17)+'4KV2_TuneBuilder'!$B22,('4KV2_TuneBuilder'!$B22-'4KV2_TuneBuilder'!$B$14+('4KV2_TuneBuilder'!$B$14*U$162)/100))","v":20.9},{"$f":"IF(V$162<='4KV2_TuneBuilder'!V$17,(((100-V$162)/100)*'4KV2_TuneBuilder'!$B$17)+'4KV2_TuneBuilder'!$B22,('4KV2_TuneBuilder'!$B22-'4KV2_TuneBuilder'!$B$14+('4KV2_TuneBuilder'!$B$14*V$162)/100))","v":21}]
["3000RPM",{"$f":"IF(B$162<='4KV2_TuneBuilder'!B$18,(((100-B$162)/100)*'4KV2_TuneBuilder'!$B$17)+'4KV2_TuneBuilder'!$B23,('4KV2_TuneBuilder'!$B23-('4KV2_TuneBuilder'!$B$14*B$162)/100))","v":25},{"$f":"IF(C$162<='4KV2_TuneBuilder'!J$6,(((100-C$162)/100)*'4KV2_TuneBuilder'!$B$17)+'4KV2_TuneBuilder'!$B23,('4KV2_TuneBuilder'!$B23-'4KV2_TuneBuilder'!$B$14+('4KV2_TuneBuilder'!$B$14*C$162)/100))","v":24.9},{"$f":"IF(D$162<='4KV2_TuneBuilder'!K$6,(((100-D$162)/100)*'4KV2_TuneBuilder'!$B$17)+'4KV2_TuneBuilder'!$B23,('4KV2_TuneBuilder'!$B23-'4KV2_TuneBuilder'!$B$14+('4KV2_TuneBuilder'!$B$14*D$162)/100))","v":24.8},{"$f":"IF(E$162<='4KV2_TuneBuilder'!K$7,(((100-E$162)/100)*'4KV2_TuneBuilder'!$B$17)+'4KV2_TuneBuilder'!$B23,('4KV2_TuneBuilder'!$B23-'4KV2_TuneBuilder'!$B$14+('4KV2_TuneBuilder'!$B$14*E$162)/100))","v":24.7},{"$f":"IF(F$162<='4KV2_TuneBuilder'!F$17,(((100-F$162)/100)*'4KV2_TuneBuilder'!$B$17)+'4KV2_TuneBuilder'!$B23,('4KV2_TuneBuilder'!$B23-'4KV2_TuneBuilder'!$B$14+('4KV2_TuneBuilder'!$B$14*F$162)/100))","v":21.4},{"$f":"IF(G$162<='4KV2_TuneBuilder'!G$17,(((100-G$162)/100)*'4KV2_TuneBuilder'!$B$17)+'4KV2_TuneBuilder'!$B23,('4KV2_TuneBuilder'!$B23-'4KV2_TuneBuilder'!$B$14+('4KV2_TuneBuilder'!$B$14*G$162)/100))","v":21.5},{"$f":"IF(H$162<='4KV2_TuneBuilder'!H$17,(((100-H$162)/100)*'4KV2_TuneBuilder'!$B$17)+'4KV2_TuneBuilder'!$B23,('4KV2_TuneBuilder'!$B23-'4KV2_TuneBuilder'!$B$14+('4KV2_TuneBuilder'!$B$14*H$162)/100))","v":21.6},{"$f":"IF(I$162<='4KV2_TuneBuilder'!I$17,(((100-I$162)/100)*'4KV2_TuneBuilder'!$B$17)+'4KV2_TuneBuilder'!$B23,('4KV2_TuneBuilder'!$B23-'4KV2_TuneBuilder'!$B$14+('4KV2_TuneBuilder'!$B$14*I$162)/100))","v":21.7},{"$f":"IF(J$162<='4KV2_TuneBuilder'!J$17,(((100-J$162)/100)*'4KV2_TuneBuilder'!$B$17)+'4KV2_TuneBuilder'!$B23,('4KV2_TuneBuilder'!$B23-'4KV2_TuneBuilder'!$B$14+('4KV2_TuneBuilder'!$B$14*J$162)/100))","v":21.8},{"$f":"IF(K$162<='4KV2_TuneBuilder'!K$17,(((100-K$162)/100)*'4KV2_TuneBuilder'!$B$17)+'4KV2_TuneBuilder'!$B23,('4KV2_TuneBuilder'!$B23-'4KV2_TuneBuilder'!$B$14+('4KV2_TuneBuilder'!$B$14*K$162)/100))","v":21.9},{"$f":"IF(L$162<='4KV2_TuneBuilder'!L$17,(((100-L$162)/100)*'4KV2_TuneBuilder'!$B$17)+'4KV2_TuneBuilder'!$B23,('4KV2_TuneBuilder'!$B23-'4KV2_TuneBuilder'!$B$14+('4KV2_TuneBuilder'!$B$14*L$162)/100))","v":22},{"$f":"IF(M$162<='4KV2_TuneBuilder'!M$17,(((100-M$162)/100)*'4KV2_TuneBuilder'!$B$17)+'4KV2_TuneBuilder'!$B23,('4KV2_TuneBuilder'!$B23-'4KV2_TuneBuilder'!$B$14+('4KV2_TuneBuilder'!$B$14*M$162)/100))","v":22.1},{"$f":"IF(N$162<='4KV2_TuneBuilder'!N$17,(((100-N$162)/100)*'4KV2_TuneBuilder'!$B$17)+'4KV2_TuneBuilder'!$B23,('4KV2_TuneBuilder'!$B23-'4KV2_TuneBuilder'!$B$14+('4KV2_TuneBuilder'!$B$14*N$162)/100))","v":22.2},{"$f":"IF(O$162<='4KV2_TuneBuilder'!O$17,(((100-O$162)/100)*'4KV2_TuneBuilder'!$B$17)+'4KV2_TuneBuilder'!$B23,('4KV2_TuneBuilder'!$B23-'4KV2_TuneBuilder'!$B$14+('4KV2_TuneBuilder'!$B$14*O$162)/100))","v":22.3},{"$f":"IF(P$162<='4KV2_TuneBuilder'!P$17,(((100-P$162)/100)*'4KV2_TuneBuilder'!$B$17)+'4KV2_TuneBuilder'!$B23,('4KV2_TuneBuilder'!$B23-'4KV2_TuneBuilder'!$B$14+('4KV2_TuneBuilder'!$B$14*P$162)/100))","v":22.4},{"$f":"IF(Q$162<='4KV2_TuneBuilder'!Q$17,(((100-Q$162)/100)*'4KV2_TuneBuilder'!$B$17)+'4KV2_TuneBuilder'!$B23,('4KV2_TuneBuilder'!$B23-'4KV2_TuneBuilder'!$B$14+('4KV2_TuneBuilder'!$B$14*Q$162)/100))","v":22.5},{"$f":"IF(R$162<='4KV2_TuneBuilder'!R$17,(((100-R$162)/100)*'4KV2_TuneBuilder'!$B$17)+'4KV2_TuneBuilder'!$B23,('4KV2_TuneBuilder'!$B23-'4KV2_TuneBuilder'!$B$14+('4KV2_TuneBuilder'!$B$14*R$162)/100))","v":22.6},{"$f":"IF(S$162<='4KV2_TuneBuilder'!S$17,(((100-S$162)/100)*'4KV2_TuneBuilder'!$B$17)+'4KV2_TuneBuilder'!$B23,('4KV2_TuneBuilder'!$B23-'4KV2_TuneBuilder'!$B$14+('4KV2_TuneBuilder'!$B$14*S$162)/100))","v":22.7},{"$f":"IF(T$162<='4KV2_TuneBuilder'!T$17,(((100-T$162)/100)*'4KV2_TuneBuilder'!$B$17)+'4KV2_TuneBuilder'!$B23,('4KV2_TuneBuilder'!$B23-'4KV2_TuneBuilder'!$B$14+('4KV2_TuneBuilder'!$B$14*T$162)/100))","v":22.8},{"$f":"IF(U$162<='4KV2_TuneBuilder'!U$17,(((100-U$162)/100)*'4KV2_TuneBuilder'!$B$17)+'4KV2_TuneBuilder'!$B23,('4KV2_TuneBuilder'!$B23-'4KV2_TuneBuilder'!$B$14+('4KV2_TuneBuilder'!$B$14*U$162)/100))","v":22.9},{"$f":"IF(V$162<='4KV2_TuneBuilder'!V$17,(((100-V$162)/100)*'4KV2_TuneBuilder'!$B$17)+'4KV2_TuneBuilder'!$B23,('4KV2_TuneBuilder'!$B23-'4KV2_TuneBuilder'!$B$14+('4KV2_TuneBuilder'!$B$14*V$162)/100))","v":23}]
["3500RPM",{"$f":"IF(B$162<='4KV2_TuneBuilder'!B$18,(((100-B$162)/100)*'4KV2_TuneBuilder'!$B$17)+'4KV2_TuneBuilder'!$B24,('4KV2_TuneBuilder'!$B24-('4KV2_TuneBuilder'!$B$14*B$162)/100))","v":26},{"$f":"IF(C$162<='4KV2_TuneBuilder'!J$6,(((100-C$162)/100)*'4KV2_TuneBuilder'!$B$17)+'4KV2_TuneBuilder'!$B24,('4KV2_TuneBuilder'!$B24-'4KV2_TuneBuilder'!$B$14+('4KV2_TuneBuilder'!$B$14*C$162)/100))","v":25.9},{"$f":"IF(D$162<='4KV2_TuneBuilder'!K$6,(((100-D$162)/100)*'4KV2_TuneBuilder'!$B$17)+'4KV2_TuneBuilder'!$B24,('4KV2_TuneBuilder'!$B24-'4KV2_TuneBuilder'!$B$14+('4KV2_TuneBuilder'!$B$14*D$162)/100))","v":25.8},{"$f":"IF(E$162<='4KV2_TuneBuilder'!K$7,(((100-E$162)/100)*'4KV2_TuneBuilder'!$B$17)+'4KV2_TuneBuilder'!$B24,('4KV2_TuneBuilder'!$B24-'4KV2_TuneBuilder'!$B$14+('4KV2_TuneBuilder'!$B$14*E$162)/100))","v":25.7},{"$f":"IF(F$162<='4KV2_TuneBuilder'!F$17,(((100-F$162)/100)*'4KV2_TuneBuilder'!$B$17)+'4KV2_TuneBuilder'!$B24,('4KV2_TuneBuilder'!$B24-'4KV2_TuneBuilder'!$B$14+('4KV2_TuneBuilder'!$B$14*F$162)/100))","v":22.4},{"$f":"IF(G$162<='4KV2_TuneBuilder'!G$17,(((100-G$162)/100)*'4KV2_TuneBuilder'!$B$17)+'4KV2_TuneBuilder'!$B24,('4KV2_TuneBuilder'!$B24-'4KV2_TuneBuilder'!$B$14+('4KV2_TuneBuilder'!$B$14*G$162)/100))","v":22.5},{"$f":"IF(H$162<='4KV2_TuneBuilder'!H$17,(((100-H$162)/100)*'4KV2_TuneBuilder'!$B$17)+'4KV2_TuneBuilder'!$B24,('4KV2_TuneBuilder'!$B24-'4KV2_TuneBuilder'!$B$14+('4KV2_TuneBuilder'!$B$14*H$162)/100))","v":22.6},{"$f":"IF(I$162<='4KV2_TuneBuilder'!I$17,(((100-I$162)/100)*'4KV2_TuneBuilder'!$B$17)+'4KV2_TuneBuilder'!$B24,('4KV2_TuneBuilder'!$B24-'4KV2_TuneBuilder'!$B$14+('4KV2_TuneBuilder'!$B$14*I$162)/100))","v":22.7},{"$f":"IF(J$162<='4KV2_TuneBuilder'!J$17,(((100-J$162)/100)*'4KV2_TuneBuilder'!$B$17)+'4KV2_TuneBuilder'!$B24,('4KV2_TuneBuilder'!$B24-'4KV2_TuneBuilder'!$B$14+('4KV2_TuneBuilder'!$B$14*J$162)/100))","v":22.8},{"$f":"IF(K$162<='4KV2_TuneBuilder'!K$17,(((100-K$162)/100)*'4KV2_TuneBuilder'!$B$17)+'4KV2_TuneBuilder'!$B24,('4KV2_TuneBuilder'!$B24-'4KV2_TuneBuilder'!$B$14+('4KV2_TuneBuilder'!$B$14*K$162)/100))","v":22.9},{"$f":"IF(L$162<='4KV2_TuneBuilder'!L$17,(((100-L$162)/100)*'4KV2_TuneBuilder'!$B$17)+'4KV2_TuneBuilder'!$B24,('4KV2_TuneBuilder'!$B24-'4KV2_TuneBuilder'!$B$14+('4KV2_TuneBuilder'!$B$14*L$162)/100))","v":23},{"$f":"IF(M$162<='4KV2_TuneBuilder'!M$17,(((100-M$162)/100)*'4KV2_TuneBuilder'!$B$17)+'4KV2_TuneBuilder'!$B24,('4KV2_TuneBuilder'!$B24-'4KV2_TuneBuilder'!$B$14+('4KV2_TuneBuilder'!$B$14*M$162)/100))","v":23.1},{"$f":"IF(N$162<='4KV2_TuneBuilder'!N$17,(((100-N$162)/100)*'4KV2_TuneBuilder'!$B$17)+'4KV2_TuneBuilder'!$B24,('4KV2_TuneBuilder'!$B24-'4KV2_TuneBuilder'!$B$14+('4KV2_TuneBuilder'!$B$14*N$162)/100))","v":23.2},{"$f":"IF(O$162<='4KV2_TuneBuilder'!O$17,(((100-O$162)/100)*'4KV2_TuneBuilder'!$B$17)+'4KV2_TuneBuilder'!$B24,('4KV2_TuneBuilder'!$B24-'4KV2_TuneBuilder'!$B$14+('4KV2_TuneBuilder'!$B$14*O$162)/100))","v":23.3},{"$f":"IF(P$162<='4KV2_TuneBuilder'!P$17,(((100-P$162)/100)*'4KV2_TuneBuilder'!$B$17)+'4KV2_TuneBuilder'!$B24,('4KV2_TuneBuilder'!$B24-'4KV2_TuneBuilder'!$B$14+('4KV2_TuneBuilder'!$B$14*P$162)/100))","v":23.4},{"$f":"IF(Q$162<='4KV2_TuneBuilder'!Q$17,(((100-Q$162)/100)*'4KV2_TuneBuilder'!$B$17)+'4KV2_TuneBuilder'!$B24,('4KV2_TuneBuilder'!$B24-'4KV2_TuneBuilder'!$B$14+('4KV2_TuneBuilder'!$B$14*Q$162)/100))","v":23.5},{"$f":"IF(R$162<='4KV2_TuneBuilder'!R$17,(((100-R$162)/100)*'4KV2_TuneBuilder'!$B$17)+'4KV2_TuneBuilder'!$B24,('4KV2_TuneBuilder'!$B24-'4KV2_TuneBuilder'!$B$14+('4KV2_TuneBuilder'!$B$14*R$162)/100))","v":23.6},{"$f":"IF(S$162<='4KV2_TuneBuilder'!S$17,(((100-S$162)/100)*'4KV2_TuneBuilder'!$B$17)+'4KV2_TuneBuilder'!$B24,('4KV2_TuneBuilder'!$B24-'4KV2_TuneBuilder'!$B$14+('4KV2_TuneBuilder'!$B$14*S$162)/100))","v":23.7},{"$f":"IF(T$162<='4KV2_TuneBuilder'!T$17,(((100-T$162)/100)*'4KV2_TuneBuilder'!$B$17)+'4KV2_TuneBuilder'!$B24,('4KV2_TuneBuilder'!$B24-'4KV2_TuneBuilder'!$B$14+('4KV2_TuneBuilder'!$B$14*T$162)/100))","v":23.8},{"$f":"IF(U$162<='4KV2_TuneBuilder'!U$17,(((100-U$162)/100)*'4KV2_TuneBuilder'!$B$17)+'4KV2_TuneBuilder'!$B24,('4KV2_TuneBuilder'!$B24-'4KV2_TuneBuilder'!$B$14+('4KV2_TuneBuilder'!$B$14*U$162)/100))","v":23.9},{"$f":"IF(V$162<='4KV2_TuneBuilder'!V$17,(((100-V$162)/100)*'4KV2_TuneBuilder'!$B$17)+'4KV2_TuneBuilder'!$B24,('4KV2_TuneBuilder'!$B24-'4KV2_TuneBuilder'!$B$14+('4KV2_TuneBuilder'!$B$14*V$162)/100))","v":24}]
["4000RPM",{"$f":"IF(B$162<='4KV2_TuneBuilder'!B$18,(((100-B$162)/100)*'4KV2_TuneBuilder'!$B$17)+'4KV2_TuneBuilder'!$B25,('4KV2_TuneBuilder'!$B25-('4KV2_TuneBuilder'!$B$14*B$162)/100))","v":27},{"$f":"IF(C$162<='4KV2_TuneBuilder'!J$6,(((100-C$162)/100)*'4KV2_TuneBuilder'!$B$17)+'4KV2_TuneBuilder'!$B25,('4KV2_TuneBuilder'!$B25-'4KV2_TuneBuilder'!$B$14+('4KV2_TuneBuilder'!$B$14*C$162)/100))","v":26.9},{"$f":"IF(D$162<='4KV2_TuneBuilder'!K$6,(((100-D$162)/100)*'4KV2_TuneBuilder'!$B$17)+'4KV2_TuneBuilder'!$B25,('4KV2_TuneBuilder'!$B25-'4KV2_TuneBuilder'!$B$14+('4KV2_TuneBuilder'!$B$14*D$162)/100))","v":26.8},{"$f":"IF(E$162<='4KV2_TuneBuilder'!K$7,(((100-E$162)/100)*'4KV2_TuneBuilder'!$B$17)+'4KV2_TuneBuilder'!$B25,('4KV2_TuneBuilder'!$B25-'4KV2_TuneBuilder'!$B$14+('4KV2_TuneBuilder'!$B$14*E$162)/100))","v":26.7},{"$f":"IF(F$162<='4KV2_TuneBuilder'!F$17,(((100-F$162)/100)*'4KV2_TuneBuilder'!$B$17)+'4KV2_TuneBuilder'!$B25,('4KV2_TuneBuilder'!$B25-'4KV2_TuneBuilder'!$B$14+('4KV2_TuneBuilder'!$B$14*F$162)/100))","v":23.4},{"$f":"IF(G$162<='4KV2_TuneBuilder'!G$17,(((100-G$162)/100)*'4KV2_TuneBuilder'!$B$17)+'4KV2_TuneBuilder'!$B25,('4KV2_TuneBuilder'!$B25-'4KV2_TuneBuilder'!$B$14+('4KV2_TuneBuilder'!$B$14*G$162)/100))","v":23.5},{"$f":"IF(H$162<='4KV2_TuneBuilder'!H$17,(((100-H$162)/100)*'4KV2_TuneBuilder'!$B$17)+'4KV2_TuneBuilder'!$B25,('4KV2_TuneBuilder'!$B25-'4KV2_TuneBuilder'!$B$14+('4KV2_TuneBuilder'!$B$14*H$162)/100))","v":23.6},{"$f":"IF(I$162<='4KV2_TuneBuilder'!I$17,(((100-I$162)/100)*'4KV2_TuneBuilder'!$B$17)+'4KV2_TuneBuilder'!$B25,('4KV2_TuneBuilder'!$B25-'4KV2_TuneBuilder'!$B$14+('4KV2_TuneBuilder'!$B$14*I$162)/100))","v":23.7},{"$f":"IF(J$162<='4KV2_TuneBuilder'!J$17,(((100-J$162)/100)*'4KV2_TuneBuilder'!$B$17)+'4KV2_TuneBuilder'!$B25,('4KV2_TuneBuilder'!$B25-'4KV2_TuneBuilder'!$B$14+('4KV2_TuneBuilder'!$B$14*J$162)/100))","v":23.8},{"$f":"IF(K$162<='4KV2_TuneBuilder'!K$17,(((100-K$162)/100)*'4KV2_TuneBuilder'!$B$17)+'4KV2_TuneBuilder'!$B25,('4KV2_TuneBuilder'!$B25-'4KV2_TuneBuilder'!$B$14+('4KV2_TuneBuilder'!$B$14*K$162)/100))","v":23.9},{"$f":"IF(L$162<='4KV2_TuneBuilder'!L$17,(((100-L$162)/100)*'4KV2_TuneBuilder'!$B$17)+'4KV2_TuneBuilder'!$B25,('4KV2_TuneBuilder'!$B25-'4KV2_TuneBuilder'!$B$14+('4KV2_TuneBuilder'!$B$14*L$162)/100))","v":24},{"$f":"IF(M$162<='4KV2_TuneBuilder'!M$17,(((100-M$162)/100)*'4KV2_TuneBuilder'!$B$17)+'4KV2_TuneBuilder'!$B25,('4KV2_TuneBuilder'!$B25-'4KV2_TuneBuilder'!$B$14+('4KV2_TuneBuilder'!$B$14*M$162)/100))","v":24.1},{"$f":"IF(N$162<='4KV2_TuneBuilder'!N$17,(((100-N$162)/100)*'4KV2_TuneBuilder'!$B$17)+'4KV2_TuneBuilder'!$B25,('4KV2_TuneBuilder'!$B25-'4KV2_TuneBuilder'!$B$14+('4KV2_TuneBuilder'!$B$14*N$162)/100))","v":24.2},{"$f":"IF(O$162<='4KV2_TuneBuilder'!O$17,(((100-O$162)/100)*'4KV2_TuneBuilder'!$B$17)+'4KV2_TuneBuilder'!$B25,('4KV2_TuneBuilder'!$B25-'4KV2_TuneBuilder'!$B$14+('4KV2_TuneBuilder'!$B$14*O$162)/100))","v":24.3},{"$f":"IF(P$162<='4KV2_TuneBuilder'!P$17,(((100-P$162)/100)*'4KV2_TuneBuilder'!$B$17)+'4KV2_TuneBuilder'!$B25,('4KV2_TuneBuilder'!$B25-'4KV2_TuneBuilder'!$B$14+('4KV2_TuneBuilder'!$B$14*P$162)/100))","v":24.4},{"$f":"IF(Q$162<='4KV2_TuneBuilder'!Q$17,(((100-Q$162)/100)*'4KV2_TuneBuilder'!$B$17)+'4KV2_TuneBuilder'!$B25,('4KV2_TuneBuilder'!$B25-'4KV2_TuneBuilder'!$B$14+('4KV2_TuneBuilder'!$B$14*Q$162)/100))","v":24.5},{"$f":"IF(R$162<='4KV2_TuneBuilder'!R$17,(((100-R$162)/100)*'4KV2_TuneBuilder'!$B$17)+'4KV2_TuneBuilder'!$B25,('4KV2_TuneBuilder'!$B25-'4KV2_TuneBuilder'!$B$14+('4KV2_TuneBuilder'!$B$14*R$162)/100))","v":24.6},{"$f":"IF(S$162<='4KV2_TuneBuilder'!S$17,(((100-S$162)/100)*'4KV2_TuneBuilder'!$B$17)+'4KV2_TuneBuilder'!$B25,('4KV2_TuneBuilder'!$B25-'4KV2_TuneBuilder'!$B$14+('4KV2_TuneBuilder'!$B$14*S$162)/100))","v":24.7},{"$f":"IF(T$162<='4KV2_TuneBuilder'!T$17,(((100-T$162)/100)*'4KV2_TuneBuilder'!$B$17)+'4KV2_TuneBuilder'!$B25,('4KV2_TuneBuilder'!$B25-'4KV2_TuneBuilder'!$B$14+('4KV2_TuneBuilder'!$B$14*T$162)/100))","v":24.8},{"$f":"IF(U$162<='4KV2_TuneBuilder'!U$17,(((100-U$162)/100)*'4KV2_TuneBuilder'!$B$17)+'4KV2_TuneBuilder'!$B25,('4KV2_TuneBuilder'!$B25-'4KV2_TuneBuilder'!$B$14+('4KV2_TuneBuilder'!$B$14*U$162)/100))","v":24.9},{"$f":"IF(V$162<='4KV2_TuneBuilder'!V$17,(((100-V$162)/100)*'4KV2_TuneBuilder'!$B$17)+'4KV2_TuneBuilder'!$B25,('4KV2_TuneBuilder'!$B25-'4KV2_TuneBuilder'!$B$14+('4KV2_TuneBuilder'!$B$14*V$162)/100))","v":25}]
["MaxRPM",{"$f":"IF(B$162<='4KV2_TuneBuilder'!B$18,(((100-B$162)/100)*'4KV2_TuneBuilder'!$B$17)+'4KV2_TuneBuilder'!$B26,('4KV2_TuneBuilder'!$B26-('4KV2_TuneBuilder'!$B$14*B$162)/100))","v":28},{"$f":"IF(C$162<='4KV2_TuneBuilder'!J$6,(((100-C$162)/100)*'4KV2_TuneBuilder'!$B$17)+'4KV2_TuneBuilder'!$B26,('4KV2_TuneBuilder'!$B26-'4KV2_TuneBuilder'!$B$14+('4KV2_TuneBuilder'!$B$14*C$162)/100))","v":27.9},{"$f":"IF(D$162<='4KV2_TuneBuilder'!K$6,(((100-D$162)/100)*'4KV2_TuneBuilder'!$B$17)+'4KV2_TuneBuilder'!$B26,('4KV2_TuneBuilder'!$B26-'4KV2_TuneBuilder'!$B$14+('4KV2_TuneBuilder'!$B$14*D$162)/100))","v":27.8},{"$f":"IF(E$162<='4KV2_TuneBuilder'!K$7,(((100-E$162)/100)*'4KV2_TuneBuilder'!$B$17)+'4KV2_TuneBuilder'!$B26,('4KV2_TuneBuilder'!$B26-'4KV2_TuneBuilder'!$B$14+('4KV2_TuneBuilder'!$B$14*E$162)/100))","v":27.7},{"$f":"IF(F$162<='4KV2_TuneBuilder'!F$17,(((100-F$162)/100)*'4KV2_TuneBuilder'!$B$17)+'4KV2_TuneBuilder'!$B26,('4KV2_TuneBuilder'!$B26-'4KV2_TuneBuilder'!$B$14+('4KV2_TuneBuilder'!$B$14*F$162)/100))","v":24.4},{"$f":"IF(G$162<='4KV2_TuneBuilder'!G$17,(((100-G$162)/100)*'4KV2_TuneBuilder'!$B$17)+'4KV2_TuneBuilder'!$B26,('4KV2_TuneBuilder'!$B26-'4KV2_TuneBuilder'!$B$14+('4KV2_TuneBuilder'!$B$14*G$162)/100))","v":24.5},{"$f":"IF(H$162<='4KV2_TuneBuilder'!H$17,(((100-H$162)/100)*'4KV2_TuneBuilder'!$B$17)+'4KV2_TuneBuilder'!$B26,('4KV2_TuneBuilder'!$B26-'4KV2_TuneBuilder'!$B$14+('4KV2_TuneBuilder'!$B$14*H$162)/100))","v":24.6},{"$f":"IF(I$162<='4KV2_TuneBuilder'!I$17,(((100-I$162)/100)*'4KV2_TuneBuilder'!$B$17)+'4KV2_TuneBuilder'!$B26,('4KV2_TuneBuilder'!$B26-'4KV2_TuneBuilder'!$B$14+('4KV2_TuneBuilder'!$B$14*I$162)/100))","v":24.7},{"$f":"IF(J$162<='4KV2_TuneBuilder'!J$17,(((100-J$162)/100)*'4KV2_TuneBuilder'!$B$17)+'4KV2_TuneBuilder'!$B26,('4KV2_TuneBuilder'!$B26-'4KV2_TuneBuilder'!$B$14+('4KV2_TuneBuilder'!$B$14*J$162)/100))","v":24.8},{"$f":"IF(K$162<='4KV2_TuneBuilder'!K$17,(((100-K$162)/100)*'4KV2_TuneBuilder'!$B$17)+'4KV2_TuneBuilder'!$B26,('4KV2_TuneBuilder'!$B26-'4KV2_TuneBuilder'!$B$14+('4KV2_TuneBuilder'!$B$14*K$162)/100))","v":24.9},{"$f":"IF(L$162<='4KV2_TuneBuilder'!L$17,(((100-L$162)/100)*'4KV2_TuneBuilder'!$B$17)+'4KV2_TuneBuilder'!$B26,('4KV2_TuneBuilder'!$B26-'4KV2_TuneBuilder'!$B$14+('4KV2_TuneBuilder'!$B$14*L$162)/100))","v":25},{"$f":"IF(M$162<='4KV2_TuneBuilder'!M$17,(((100-M$162)/100)*'4KV2_TuneBuilder'!$B$17)+'4KV2_TuneBuilder'!$B26,('4KV2_TuneBuilder'!$B26-'4KV2_TuneBuilder'!$B$14+('4KV2_TuneBuilder'!$B$14*M$162)/100))","v":25.1},{"$f":"IF(N$162<='4KV2_TuneBuilder'!N$17,(((100-N$162)/100)*'4KV2_TuneBuilder'!$B$17)+'4KV2_TuneBuilder'!$B26,('4KV2_TuneBuilder'!$B26-'4KV2_TuneBuilder'!$B$14+('4KV2_TuneBuilder'!$B$14*N$162)/100))","v":25.2},{"$f":"IF(O$162<='4KV2_TuneBuilder'!O$17,(((100-O$162)/100)*'4KV2_TuneBuilder'!$B$17)+'4KV2_TuneBuilder'!$B26,('4KV2_TuneBuilder'!$B26-'4KV2_TuneBuilder'!$B$14+('4KV2_TuneBuilder'!$B$14*O$162)/100))","v":25.3},{"$f":"IF(P$162<='4KV2_TuneBuilder'!P$17,(((100-P$162)/100)*'4KV2_TuneBuilder'!$B$17)+'4KV2_TuneBuilder'!$B26,('4KV2_TuneBuilder'!$B26-'4KV2_TuneBuilder'!$B$14+('4KV2_TuneBuilder'!$B$14*P$162)/100))","v":25.4},{"$f":"IF(Q$162<='4KV2_TuneBuilder'!Q$17,(((100-Q$162)/100)*'4KV2_TuneBuilder'!$B$17)+'4KV2_TuneBuilder'!$B26,('4KV2_TuneBuilder'!$B26-'4KV2_TuneBuilder'!$B$14+('4KV2_TuneBuilder'!$B$14*Q$162)/100))","v":25.5},{"$f":"IF(R$162<='4KV2_TuneBuilder'!R$17,(((100-R$162)/100)*'4KV2_TuneBuilder'!$B$17)+'4KV2_TuneBuilder'!$B26,('4KV2_TuneBuilder'!$B26-'4KV2_TuneBuilder'!$B$14+('4KV2_TuneBuilder'!$B$14*R$162)/100))","v":25.6},{"$f":"IF(S$162<='4KV2_TuneBuilder'!S$17,(((100-S$162)/100)*'4KV2_TuneBuilder'!$B$17)+'4KV2_TuneBuilder'!$B26,('4KV2_TuneBuilder'!$B26-'4KV2_TuneBuilder'!$B$14+('4KV2_TuneBuilder'!$B$14*S$162)/100))","v":25.7},{"$f":"IF(T$162<='4KV2_TuneBuilder'!T$17,(((100-T$162)/100)*'4KV2_TuneBuilder'!$B$17)+'4KV2_TuneBuilder'!$B26,('4KV2_TuneBuilder'!$B26-'4KV2_TuneBuilder'!$B$14+('4KV2_TuneBuilder'!$B$14*T$162)/100))","v":25.8},{"$f":"IF(U$162<='4KV2_TuneBuilder'!U$17,(((100-U$162)/100)*'4KV2_TuneBuilder'!$B$17)+'4KV2_TuneBuilder'!$B26,('4KV2_TuneBuilder'!$B26-'4KV2_TuneBuilder'!$B$14+('4KV2_TuneBuilder'!$B$14*U$162)/100))","v":25.9},{"$f":"IF(V$162<='4KV2_TuneBuilder'!V$17,(((100-V$162)/100)*'4KV2_TuneBuilder'!$B$17)+'4KV2_TuneBuilder'!$B26,('4KV2_TuneBuilder'!$B26-'4KV2_TuneBuilder'!$B$14+('4KV2_TuneBuilder'!$B$14*V$162)/100))","v":26}]
[]
["V3 Fuel load timing vs rpm"]
[null,0,5,10,15,20,25,30,35,40,45,50,55,60,65,70,75,80,85,90,95,100]
["1500RPM",{"$f":"IF(B$172<='4KV3_TuneBuilder'!B$43,(((100-B$172)/100)*'4KV3_TuneBuilder'!$B$42)+'4KV3_TuneBuilder'!$B45,('4KV3_TuneBuilder'!$B45-('4KV3_TuneBuilder'!$B$39*B$172)/100))","v":17},{"$f":"IF(C$172<='4KV3_TuneBuilder'!J$6,(((100-C$172)/100)*'4KV3_TuneBuilder'!$B$42)+'4KV3_TuneBuilder'!$B45,('4KV3_TuneBuilder'!$B45-'4KV3_TuneBuilder'!$B$39+('4KV3_TuneBuilder'!$B$39*C$172)/100))","v":16.899999999999999},{"$f":"IF(D$172<='4KV3_TuneBuilder'!K$6,(((100-D$172)/100)*'4KV3_TuneBuilder'!$B$42)+'4KV3_TuneBuilder'!$B45,('4KV3_TuneBuilder'!$B45-'4KV3_TuneBuilder'!$B$39+('4KV3_TuneBuilder'!$B$39*D$172)/100))","v":16.8},{"$f":"IF(E$172<='4KV3_TuneBuilder'!K$7,(((100-E$172)/100)*'4KV3_TuneBuilder'!$B$42)+'4KV3_TuneBuilder'!$B45,('4KV3_TuneBuilder'!$B45-'4KV3_TuneBuilder'!$B$39+('4KV3_TuneBuilder'!$B$39*E$172)/100))","v":16.7},{"$f":"IF(F$172<='4KV3_TuneBuilder'!F$43,(((100-F$172)/100)*'4KV3_TuneBuilder'!$B$42)+'4KV3_TuneBuilder'!$B45,('4KV3_TuneBuilder'!$B45-'4KV3_TuneBuilder'!$B$39+('4KV3_TuneBuilder'!$B$39*F$172)/100))","v":13.4},{"$f":"IF(G$172<='4KV3_TuneBuilder'!G$43,(((100-G$172)/100)*'4KV3_TuneBuilder'!$B$42)+'4KV3_TuneBuilder'!$B45,('4KV3_TuneBuilder'!$B45-'4KV3_TuneBuilder'!$B$39+('4KV3_TuneBuilder'!$B$39*G$172)/100))","v":13.5},{"$f":"IF(H$172<='4KV3_TuneBuilder'!H$43,(((100-H$172)/100)*'4KV3_TuneBuilder'!$B$42)+'4KV3_TuneBuilder'!$B45,('4KV3_TuneBuilder'!$B45-'4KV3_TuneBuilder'!$B$39+('4KV3_TuneBuilder'!$B$39*H$172)/100))","v":13.6},{"$f":"IF(I$172<='4KV3_TuneBuilder'!I$43,(((100-I$172)/100)*'4KV3_TuneBuilder'!$B$42)+'4KV3_TuneBuilder'!$B45,('4KV3_TuneBuilder'!$B45-'4KV3_TuneBuilder'!$B$39+('4KV3_TuneBuilder'!$B$39*I$172)/100))","v":13.7},{"$f":"IF(J$172<='4KV3_TuneBuilder'!J$43,(((100-J$172)/100)*'4KV3_TuneBuilder'!$B$42)+'4KV3_TuneBuilder'!$B45,('4KV3_TuneBuilder'!$B45-'4KV3_TuneBuilder'!$B$39+('4KV3_TuneBuilder'!$B$39*J$172)/100))","v":13.8},{"$f":"IF(K$172<='4KV3_TuneBuilder'!K$43,(((100-K$172)/100)*'4KV3_TuneBuilder'!$B$42)+'4KV3_TuneBuilder'!$B45,('4KV3_TuneBuilder'!$B45-'4KV3_TuneBuilder'!$B$39+('4KV3_TuneBuilder'!$B$39*K$172)/100))","v":13.9},{"$f":"IF(L$172<='4KV3_TuneBuilder'!L$43,(((100-L$172)/100)*'4KV3_TuneBuilder'!$B$42)+'4KV3_TuneBuilder'!$B45,('4KV3_TuneBuilder'!$B45-'4KV3_TuneBuilder'!$B$39+('4KV3_TuneBuilder'!$B$39*L$172)/100))","v":14},{"$f":"IF(M$172<='4KV3_TuneBuilder'!M$43,(((100-M$172)/100)*'4KV3_TuneBuilder'!$B$42)+'4KV3_TuneBuilder'!$B45,('4KV3_TuneBuilder'!$B45-'4KV3_TuneBuilder'!$B$39+('4KV3_TuneBuilder'!$B$39*M$172)/100))","v":14.1},{"$f":"IF(N$172<='4KV3_TuneBuilder'!N$43,(((100-N$172)/100)*'4KV3_TuneBuilder'!$B$42)+'4KV3_TuneBuilder'!$B45,('4KV3_TuneBuilder'!$B45-'4KV3_TuneBuilder'!$B$39+('4KV3_TuneBuilder'!$B$39*N$172)/100))","v":14.2},{"$f":"IF(O$172<='4KV3_TuneBuilder'!O$43,(((100-O$172)/100)*'4KV3_TuneBuilder'!$B$42)+'4KV3_TuneBuilder'!$B45,('4KV3_TuneBuilder'!$B45-'4KV3_TuneBuilder'!$B$39+('4KV3_TuneBuilder'!$B$39*O$172)/100))","v":14.3},{"$f":"IF(P$172<='4KV3_TuneBuilder'!P$43,(((100-P$172)/100)*'4KV3_TuneBuilder'!$B$42)+'4KV3_TuneBuilder'!$B45,('4KV3_TuneBuilder'!$B45-'4KV3_TuneBuilder'!$B$39+('4KV3_TuneBuilder'!$B$39*P$172)/100))","v":14.4},{"$f":"IF(Q$172<='4KV3_TuneBuilder'!Q$43,(((100-Q$172)/100)*'4KV3_TuneBuilder'!$B$42)+'4KV3_TuneBuilder'!$B45,('4KV3_TuneBuilder'!$B45-'4KV3_TuneBuilder'!$B$39+('4KV3_TuneBuilder'!$B$39*Q$172)/100))","v":14.5},{"$f":"IF(R$172<='4KV3_TuneBuilder'!R$43,(((100-R$172)/100)*'4KV3_TuneBuilder'!$B$42)+'4KV3_TuneBuilder'!$B45,('4KV3_TuneBuilder'!$B45-'4KV3_TuneBuilder'!$B$39+('4KV3_TuneBuilder'!$B$39*R$172)/100))","v":14.6},{"$f":"IF(S$172<='4KV3_TuneBuilder'!S$43,(((100-S$172)/100)*'4KV3_TuneBuilder'!$B$42)+'4KV3_TuneBuilder'!$B45,('4KV3_TuneBuilder'!$B45-'4KV3_TuneBuilder'!$B$39+('4KV3_TuneBuilder'!$B$39*S$172)/100))","v":14.7},{"$f":"IF(T$172<='4KV3_TuneBuilder'!T$43,(((100-T$172)/100)*'4KV3_TuneBuilder'!$B$42)+'4KV3_TuneBuilder'!$B45,('4KV3_TuneBuilder'!$B45-'4KV3_TuneBuilder'!$B$39+('4KV3_TuneBuilder'!$B$39*T$172)/100))","v":14.8},{"$f":"IF(U$172<='4KV3_TuneBuilder'!U$43,(((100-U$172)/100)*'4KV3_TuneBuilder'!$B$42)+'4KV3_TuneBuilder'!$B45,('4KV3_TuneBuilder'!$B45-'4KV3_TuneBuilder'!$B$39+('4KV3_TuneBuilder'!$B$39*U$172)/100))","v":14.9},{"$f":"IF(V$172<='4KV3_TuneBuilder'!V$43,(((100-V$172)/100)*'4KV3_TuneBuilder'!$B$42)+'4KV3_TuneBuilder'!$B45,('4KV3_TuneBuilder'!$B45-'4KV3_TuneBuilder'!$B$39+('4KV3_TuneBuilder'!$B$39*V$172)/100))","v":15}]
["2000RPM",{"$f":"IF(B$172<='4KV3_TuneBuilder'!B$43,(((100-B$172)/100)*'4KV3_TuneBuilder'!$B$42)+'4KV3_TuneBuilder'!$B46,('4KV3_TuneBuilder'!$B46-('4KV3_TuneBuilder'!$B$39*B$172)/100))","v":20},{"$f":"IF(C$172<='4KV3_TuneBuilder'!J$6,(((100-C$172)/100)*'4KV3_TuneBuilder'!$B$42)+'4KV3_TuneBuilder'!$B46,('4KV3_TuneBuilder'!$B46-'4KV3_TuneBuilder'!$B$39+('4KV3_TuneBuilder'!$B$39*C$172)/100))","v":19.899999999999999},{"$f":"IF(D$172<='4KV3_TuneBuilder'!K$6,(((100-D$172)/100)*'4KV3_TuneBuilder'!$B$42)+'4KV3_TuneBuilder'!$B46,('4KV3_TuneBuilder'!$B46-'4KV3_TuneBuilder'!$B$39+('4KV3_TuneBuilder'!$B$39*D$172)/100))","v":19.8},{"$f":"IF(E$172<='4KV3_TuneBuilder'!K$7,(((100-E$172)/100)*'4KV3_TuneBuilder'!$B$42)+'4KV3_TuneBuilder'!$B46,('4KV3_TuneBuilder'!$B46-'4KV3_TuneBuilder'!$B$39+('4KV3_TuneBuilder'!$B$39*E$172)/100))","v":19.7},{"$f":"IF(F$172<='4KV3_TuneBuilder'!F$43,(((100-F$172)/100)*'4KV3_TuneBuilder'!$B$42)+'4KV3_TuneBuilder'!$B46,('4KV3_TuneBuilder'!$B46-'4KV3_TuneBuilder'!$B$39+('4KV3_TuneBuilder'!$B$39*F$172)/100))","v":16.399999999999999},{"$f":"IF(G$172<='4KV3_TuneBuilder'!G$43,(((100-G$172)/100)*'4KV3_TuneBuilder'!$B$42)+'4KV3_TuneBuilder'!$B46,('4KV3_TuneBuilder'!$B46-'4KV3_TuneBuilder'!$B$39+('4KV3_TuneBuilder'!$B$39*G$172)/100))","v":16.5},{"$f":"IF(H$172<='4KV3_TuneBuilder'!H$43,(((100-H$172)/100)*'4KV3_TuneBuilder'!$B$42)+'4KV3_TuneBuilder'!$B46,('4KV3_TuneBuilder'!$B46-'4KV3_TuneBuilder'!$B$39+('4KV3_TuneBuilder'!$B$39*H$172)/100))","v":16.600000000000001},{"$f":"IF(I$172<='4KV3_TuneBuilder'!I$43,(((100-I$172)/100)*'4KV3_TuneBuilder'!$B$42)+'4KV3_TuneBuilder'!$B46,('4KV3_TuneBuilder'!$B46-'4KV3_TuneBuilder'!$B$39+('4KV3_TuneBuilder'!$B$39*I$172)/100))","v":16.7},{"$f":"IF(J$172<='4KV3_TuneBuilder'!J$43,(((100-J$172)/100)*'4KV3_TuneBuilder'!$B$42)+'4KV3_TuneBuilder'!$B46,('4KV3_TuneBuilder'!$B46-'4KV3_TuneBuilder'!$B$39+('4KV3_TuneBuilder'!$B$39*J$172)/100))","v":16.8},{"$f":"IF(K$172<='4KV3_TuneBuilder'!K$43,(((100-K$172)/100)*'4KV3_TuneBuilder'!$B$42)+'4KV3_TuneBuilder'!$B46,('4KV3_TuneBuilder'!$B46-'4KV3_TuneBuilder'!$B$39+('4KV3_TuneBuilder'!$B$39*K$172)/100))","v":16.899999999999999},{"$f":"IF(L$172<='4KV3_TuneBuilder'!L$43,(((100-L$172)/100)*'4KV3_TuneBuilder'!$B$42)+'4KV3_TuneBuilder'!$B46,('4KV3_TuneBuilder'!$B46-'4KV3_TuneBuilder'!$B$39+('4KV3_TuneBuilder'!$B$39*L$172)/100))","v":17},{"$f":"IF(M$172<='4KV3_TuneBuilder'!M$43,(((100-M$172)/100)*'4KV3_TuneBuilder'!$B$42)+'4KV3_TuneBuilder'!$B46,('4KV3_TuneBuilder'!$B46-'4KV3_TuneBuilder'!$B$39+('4KV3_TuneBuilder'!$B$39*M$172)/100))","v":17.100000000000001},{"$f":"IF(N$172<='4KV3_TuneBuilder'!N$43,(((100-N$172)/100)*'4KV3_TuneBuilder'!$B$42)+'4KV3_TuneBuilder'!$B46,('4KV3_TuneBuilder'!$B46-'4KV3_TuneBuilder'!$B$39+('4KV3_TuneBuilder'!$B$39*N$172)/100))","v":17.2},{"$f":"IF(O$172<='4KV3_TuneBuilder'!O$43,(((100-O$172)/100)*'4KV3_TuneBuilder'!$B$42)+'4KV3_TuneBuilder'!$B46,('4KV3_TuneBuilder'!$B46-'4KV3_TuneBuilder'!$B$39+('4KV3_TuneBuilder'!$B$39*O$172)/100))","v":17.3},{"$f":"IF(P$172<='4KV3_TuneBuilder'!P$43,(((100-P$172)/100)*'4KV3_TuneBuilder'!$B$42)+'4KV3_TuneBuilder'!$B46,('4KV3_TuneBuilder'!$B46-'4KV3_TuneBuilder'!$B$39+('4KV3_TuneBuilder'!$B$39*P$172)/100))","v":17.399999999999999},{"$f":"IF(Q$172<='4KV3_TuneBuilder'!Q$43,(((100-Q$172)/100)*'4KV3_TuneBuilder'!$B$42)+'4KV3_TuneBuilder'!$B46,('4KV3_TuneBuilder'!$B46-'4KV3_TuneBuilder'!$B$39+('4KV3_TuneBuilder'!$B$39*Q$172)/100))","v":17.5},{"$f":"IF(R$172<='4KV3_TuneBuilder'!R$43,(((100-R$172)/100)*'4KV3_TuneBuilder'!$B$42)+'4KV3_TuneBuilder'!$B46,('4KV3_TuneBuilder'!$B46-'4KV3_TuneBuilder'!$B$39+('4KV3_TuneBuilder'!$B$39*R$172)/100))","v":17.600000000000001},{"$f":"IF(S$172<='4KV3_TuneBuilder'!S$43,(((100-S$172)/100)*'4KV3_TuneBuilder'!$B$42)+'4KV3_TuneBuilder'!$B46,('4KV3_TuneBuilder'!$B46-'4KV3_TuneBuilder'!$B$39+('4KV3_TuneBuilder'!$B$39*S$172)/100))","v":17.7},{"$f":"IF(T$172<='4KV3_TuneBuilder'!T$43,(((100-T$172)/100)*'4KV3_TuneBuilder'!$B$42)+'4KV3_TuneBuilder'!$B46,('4KV3_TuneBuilder'!$B46-'4KV3_TuneBuilder'!$B$39+('4KV3_TuneBuilder'!$B$39*T$172)/100))","v":17.8},{"$f":"IF(U$172<='4KV3_TuneBuilder'!U$43,(((100-U$172)/100)*'4KV3_TuneBuilder'!$B$42)+'4KV3_TuneBuilder'!$B46,('4KV3_TuneBuilder'!$B46-'4KV3_TuneBuilder'!$B$39+('4KV3_TuneBuilder'!$B$39*U$172)/100))","v":17.899999999999999},{"$f":"IF(V$172<='4KV3_TuneBuilder'!V$43,(((100-V$172)/100)*'4KV3_TuneBuilder'!$B$42)+'4KV3_TuneBuilder'!$B46,('4KV3_TuneBuilder'!$B46-'4KV3_TuneBuilder'!$B$39+('4KV3_TuneBuilder'!$B$39*V$172)/100))","v":18}]
["2500RPM",{"$f":"IF(B$172<='4KV3_TuneBuilder'!B$43,(((100-B$172)/100)*'4KV3_TuneBuilder'!$B$42)+'4KV3_TuneBuilder'!$B47,('4KV3_TuneBuilder'!$B47-('4KV3_TuneBuilder'!$B$39*B$172)/100))","v":23},{"$f":"IF(C$172<='4KV3_TuneBuilder'!J$6,(((100-C$172)/100)*'4KV3_TuneBuilder'!$B$42)+'4KV3_TuneBuilder'!$B47,('4KV3_TuneBuilder'!$B47-'4KV3_TuneBuilder'!$B$39+('4KV3_TuneBuilder'!$B$39*C$172)/100))","v":22.9},{"$f":"IF(D$172<='4KV3_TuneBuilder'!K$6,(((100-D$172)/100)*'4KV3_TuneBuilder'!$B$42)+'4KV3_TuneBuilder'!$B47,('4KV3_TuneBuilder'!$B47-'4KV3_TuneBuilder'!$B$39+('4KV3_TuneBuilder'!$B$39*D$172)/100))","v":22.8},{"$f":"IF(E$172<='4KV3_TuneBuilder'!K$7,(((100-E$172)/100)*'4KV3_TuneBuilder'!$B$42)+'4KV3_TuneBuilder'!$B47,('4KV3_TuneBuilder'!$B47-'4KV3_TuneBuilder'!$B$39+('4KV3_TuneBuilder'!$B$39*E$172)/100))","v":22.7},{"$f":"IF(F$172<='4KV3_TuneBuilder'!F$43,(((100-F$172)/100)*'4KV3_TuneBuilder'!$B$42)+'4KV3_TuneBuilder'!$B47,('4KV3_TuneBuilder'!$B47-'4KV3_TuneBuilder'!$B$39+('4KV3_TuneBuilder'!$B$39*F$172)/100))","v":19.399999999999999},{"$f":"IF(G$172<='4KV3_TuneBuilder'!G$43,(((100-G$172)/100)*'4KV3_TuneBuilder'!$B$42)+'4KV3_TuneBuilder'!$B47,('4KV3_TuneBuilder'!$B47-'4KV3_TuneBuilder'!$B$39+('4KV3_TuneBuilder'!$B$39*G$172)/100))","v":19.5},{"$f":"IF(H$172<='4KV3_TuneBuilder'!H$43,(((100-H$172)/100)*'4KV3_TuneBuilder'!$B$42)+'4KV3_TuneBuilder'!$B47,('4KV3_TuneBuilder'!$B47-'4KV3_TuneBuilder'!$B$39+('4KV3_TuneBuilder'!$B$39*H$172)/100))","v":19.600000000000001},{"$f":"IF(I$172<='4KV3_TuneBuilder'!I$43,(((100-I$172)/100)*'4KV3_TuneBuilder'!$B$42)+'4KV3_TuneBuilder'!$B47,('4KV3_TuneBuilder'!$B47-'4KV3_TuneBuilder'!$B$39+('4KV3_TuneBuilder'!$B$39*I$172)/100))","v":19.7},{"$f":"IF(J$172<='4KV3_TuneBuilder'!J$43,(((100-J$172)/100)*'4KV3_TuneBuilder'!$B$42)+'4KV3_TuneBuilder'!$B47,('4KV3_TuneBuilder'!$B47-'4KV3_TuneBuilder'!$B$39+('4KV3_TuneBuilder'!$B$39*J$172)/100))","v":19.8},{"$f":"IF(K$172<='4KV3_TuneBuilder'!K$43,(((100-K$172)/100)*'4KV3_TuneBuilder'!$B$42)+'4KV3_TuneBuilder'!$B47,('4KV3_TuneBuilder'!$B47-'4KV3_TuneBuilder'!$B$39+('4KV3_TuneBuilder'!$B$39*K$172)/100))","v":19.899999999999999},{"$f":"IF(L$172<='4KV3_TuneBuilder'!L$43,(((100-L$172)/100)*'4KV3_TuneBuilder'!$B$42)+'4KV3_TuneBuilder'!$B47,('4KV3_TuneBuilder'!$B47-'4KV3_TuneBuilder'!$B$39+('4KV3_TuneBuilder'!$B$39*L$172)/100))","v":20},{"$f":"IF(M$172<='4KV3_TuneBuilder'!M$43,(((100-M$172)/100)*'4KV3_TuneBuilder'!$B$42)+'4KV3_TuneBuilder'!$B47,('4KV3_TuneBuilder'!$B47-'4KV3_TuneBuilder'!$B$39+('4KV3_TuneBuilder'!$B$39*M$172)/100))","v":20.100000000000001},{"$f":"IF(N$172<='4KV3_TuneBuilder'!N$43,(((100-N$172)/100)*'4KV3_TuneBuilder'!$B$42)+'4KV3_TuneBuilder'!$B47,('4KV3_TuneBuilder'!$B47-'4KV3_TuneBuilder'!$B$39+('4KV3_TuneBuilder'!$B$39*N$172)/100))","v":20.2},{"$f":"IF(O$172<='4KV3_TuneBuilder'!O$43,(((100-O$172)/100)*'4KV3_TuneBuilder'!$B$42)+'4KV3_TuneBuilder'!$B47,('4KV3_TuneBuilder'!$B47-'4KV3_TuneBuilder'!$B$39+('4KV3_TuneBuilder'!$B$39*O$172)/100))","v":20.3},{"$f":"IF(P$172<='4KV3_TuneBuilder'!P$43,(((100-P$172)/100)*'4KV3_TuneBuilder'!$B$42)+'4KV3_TuneBuilder'!$B47,('4KV3_TuneBuilder'!$B47-'4KV3_TuneBuilder'!$B$39+('4KV3_TuneBuilder'!$B$39*P$172)/100))","v":20.399999999999999},{"$f":"IF(Q$172<='4KV3_TuneBuilder'!Q$43,(((100-Q$172)/100)*'4KV3_TuneBuilder'!$B$42)+'4KV3_TuneBuilder'!$B47,('4KV3_TuneBuilder'!$B47-'4KV3_TuneBuilder'!$B$39+('4KV3_TuneBuilder'!$B$39*Q$172)/100))","v":20.5},{"$f":"IF(R$172<='4KV3_TuneBuilder'!R$43,(((100-R$172)/100)*'4KV3_TuneBuilder'!$B$42)+'4KV3_TuneBuilder'!$B47,('4KV3_TuneBuilder'!$B47-'4KV3_TuneBuilder'!$B$39+('4KV3_TuneBuilder'!$B$39*R$172)/100))","v":20.6},{"$f":"IF(S$172<='4KV3_TuneBuilder'!S$43,(((100-S$172)/100)*'4KV3_TuneBuilder'!$B$42)+'4KV3_TuneBuilder'!$B47,('4KV3_TuneBuilder'!$B47-'4KV3_TuneBuilder'!$B$39+('4KV3_TuneBuilder'!$B$39*S$172)/100))","v":20.7},{"$f":"IF(T$172<='4KV3_TuneBuilder'!T$43,(((100-T$172)/100)*'4KV3_TuneBuilder'!$B$42)+'4KV3_TuneBuilder'!$B47,('4KV3_TuneBuilder'!$B47-'4KV3_TuneBuilder'!$B$39+('4KV3_TuneBuilder'!$B$39*T$172)/100))","v":20.8},{"$f":"IF(U$172<='4KV3_TuneBuilder'!U$43,(((100-U$172)/100)*'4KV3_TuneBuilder'!$B$42)+'4KV3_TuneBuilder'!$B47,('4KV3_TuneBuilder'!$B47-'4KV3_TuneBuilder'!$B$39+('4KV3_TuneBuilder'!$B$39*U$172)/100))","v":20.9},{"$f":"IF(V$172<='4KV3_TuneBuilder'!V$43,(((100-V$172)/100)*'4KV3_TuneBuilder'!$B$42)+'4KV3_TuneBuilder'!$B47,('4KV3_TuneBuilder'!$B47-'4KV3_TuneBuilder'!$B$39+('4KV3_TuneBuilder'!$B$39*V$172)/100))","v":21}]
["3000RPM",{"$f":"IF(B$172<='4KV3_TuneBuilder'!B$43,(((100-B$172)/100)*'4KV3_TuneBuilder'!$B$42)+'4KV3_TuneBuilder'!$B48,('4KV3_TuneBuilder'!$B48-('4KV3_TuneBuilder'!$B$39*B$172)/100))","v":25},{"$f":"IF(C$172<='4KV3_TuneBuilder'!J$6,(((100-C$172)/100)*'4KV3_TuneBuilder'!$B$42)+'4KV3_TuneBuilder'!$B48,('4KV3_TuneBuilder'!$B48-'4KV3_TuneBuilder'!$B$39+('4KV3_TuneBuilder'!$B$39*C$172)/100))","v":24.9},{"$f":"IF(D$172<='4KV3_TuneBuilder'!K$6,(((100-D$172)/100)*'4KV3_TuneBuilder'!$B$42)+'4KV3_TuneBuilder'!$B48,('4KV3_TuneBuilder'!$B48-'4KV3_TuneBuilder'!$B$39+('4KV3_TuneBuilder'!$B$39*D$172)/100))","v":24.8},{"$f":"IF(E$172<='4KV3_TuneBuilder'!K$7,(((100-E$172)/100)*'4KV3_TuneBuilder'!$B$42)+'4KV3_TuneBuilder'!$B48,('4KV3_TuneBuilder'!$B48-'4KV3_TuneBuilder'!$B$39+('4KV3_TuneBuilder'!$B$39*E$172)/100))","v":24.7},{"$f":"IF(F$172<='4KV3_TuneBuilder'!F$43,(((100-F$172)/100)*'4KV3_TuneBuilder'!$B$42)+'4KV3_TuneBuilder'!$B48,('4KV3_TuneBuilder'!$B48-'4KV3_TuneBuilder'!$B$39+('4KV3_TuneBuilder'!$B$39*F$172)/100))","v":21.4},{"$f":"IF(G$172<='4KV3_TuneBuilder'!G$43,(((100-G$172)/100)*'4KV3_TuneBuilder'!$B$42)+'4KV3_TuneBuilder'!$B48,('4KV3_TuneBuilder'!$B48-'4KV3_TuneBuilder'!$B$39+('4KV3_TuneBuilder'!$B$39*G$172)/100))","v":21.5},{"$f":"IF(H$172<='4KV3_TuneBuilder'!H$43,(((100-H$172)/100)*'4KV3_TuneBuilder'!$B$42)+'4KV3_TuneBuilder'!$B48,('4KV3_TuneBuilder'!$B48-'4KV3_TuneBuilder'!$B$39+('4KV3_TuneBuilder'!$B$39*H$172)/100))","v":21.6},{"$f":"IF(I$172<='4KV3_TuneBuilder'!I$43,(((100-I$172)/100)*'4KV3_TuneBuilder'!$B$42)+'4KV3_TuneBuilder'!$B48,('4KV3_TuneBuilder'!$B48-'4KV3_TuneBuilder'!$B$39+('4KV3_TuneBuilder'!$B$39*I$172)/100))","v":21.7},{"$f":"IF(J$172<='4KV3_TuneBuilder'!J$43,(((100-J$172)/100)*'4KV3_TuneBuilder'!$B$42)+'4KV3_TuneBuilder'!$B48,('4KV3_TuneBuilder'!$B48-'4KV3_TuneBuilder'!$B$39+('4KV3_TuneBuilder'!$B$39*J$172)/100))","v":21.8},{"$f":"IF(K$172<='4KV3_TuneBuilder'!K$43,(((100-K$172)/100)*'4KV3_TuneBuilder'!$B$42)+'4KV3_TuneBuilder'!$B48,('4KV3_TuneBuilder'!$B48-'4KV3_TuneBuilder'!$B$39+('4KV3_TuneBuilder'!$B$39*K$172)/100))","v":21.9},{"$f":"IF(L$172<='4KV3_TuneBuilder'!L$43,(((100-L$172)/100)*'4KV3_TuneBuilder'!$B$42)+'4KV3_TuneBuilder'!$B48,('4KV3_TuneBuilder'!$B48-'4KV3_TuneBuilder'!$B$39+('4KV3_TuneBuilder'!$B$39*L$172)/100))","v":22},{"$f":"IF(M$172<='4KV3_TuneBuilder'!M$43,(((100-M$172)/100)*'4KV3_TuneBuilder'!$B$42)+'4KV3_TuneBuilder'!$B48,('4KV3_TuneBuilder'!$B48-'4KV3_TuneBuilder'!$B$39+('4KV3_TuneBuilder'!$B$39*M$172)/100))","v":22.1},{"$f":"IF(N$172<='4KV3_TuneBuilder'!N$43,(((100-N$172)/100)*'4KV3_TuneBuilder'!$B$42)+'4KV3_TuneBuilder'!$B48,('4KV3_TuneBuilder'!$B48-'4KV3_TuneBuilder'!$B$39+('4KV3_TuneBuilder'!$B$39*N$172)/100))","v":22.2},{"$f":"IF(O$172<='4KV3_TuneBuilder'!O$43,(((100-O$172)/100)*'4KV3_TuneBuilder'!$B$42)+'4KV3_TuneBuilder'!$B48,('4KV3_TuneBuilder'!$B48-'4KV3_TuneBuilder'!$B$39+('4KV3_TuneBuilder'!$B$39*O$172)/100))","v":22.3},{"$f":"IF(P$172<='4KV3_TuneBuilder'!P$43,(((100-P$172)/100)*'4KV3_TuneBuilder'!$B$42)+'4KV3_TuneBuilder'!$B48,('4KV3_TuneBuilder'!$B48-'4KV3_TuneBuilder'!$B$39+('4KV3_TuneBuilder'!$B$39*P$172)/100))","v":22.4},{"$f":"IF(Q$172<='4KV3_TuneBuilder'!Q$43,(((100-Q$172)/100)*'4KV3_TuneBuilder'!$B$42)+'4KV3_TuneBuilder'!$B48,('4KV3_TuneBuilder'!$B48-'4KV3_TuneBuilder'!$B$39+('4KV3_TuneBuilder'!$B$39*Q$172)/100))","v":22.5},{"$f":"IF(R$172<='4KV3_TuneBuilder'!R$43,(((100-R$172)/100)*'4KV3_TuneBuilder'!$B$42)+'4KV3_TuneBuilder'!$B48,('4KV3_TuneBuilder'!$B48-'4KV3_TuneBuilder'!$B$39+('4KV3_TuneBuilder'!$B$39*R$172)/100))","v":22.6},{"$f":"IF(S$172<='4KV3_TuneBuilder'!S$43,(((100-S$172)/100)*'4KV3_TuneBuilder'!$B$42)+'4KV3_TuneBuilder'!$B48,('4KV3_TuneBuilder'!$B48-'4KV3_TuneBuilder'!$B$39+('4KV3_TuneBuilder'!$B$39*S$172)/100))","v":22.7},{"$f":"IF(T$172<='4KV3_TuneBuilder'!T$43,(((100-T$172)/100)*'4KV3_TuneBuilder'!$B$42)+'4KV3_TuneBuilder'!$B48,('4KV3_TuneBuilder'!$B48-'4KV3_TuneBuilder'!$B$39+('4KV3_TuneBuilder'!$B$39*T$172)/100))","v":22.8},{"$f":"IF(U$172<='4KV3_TuneBuilder'!U$43,(((100-U$172)/100)*'4KV3_TuneBuilder'!$B$42)+'4KV3_TuneBuilder'!$B48,('4KV3_TuneBuilder'!$B48-'4KV3_TuneBuilder'!$B$39+('4KV3_TuneBuilder'!$B$39*U$172)/100))","v":22.9},{"$f":"IF(V$172<='4KV3_TuneBuilder'!V$43,(((100-V$172)/100)*'4KV3_TuneBuilder'!$B$42)+'4KV3_TuneBuilder'!$B48,('4KV3_TuneBuilder'!$B48-'4KV3_TuneBuilder'!$B$39+('4KV3_TuneBuilder'!$B$39*V$172)/100))","v":23}]
["3500RPM",{"$f":"IF(B$172<='4KV3_TuneBuilder'!B$43,(((100-B$172)/100)*'4KV3_TuneBuilder'!$B$42)+'4KV3_TuneBuilder'!$B49,('4KV3_TuneBuilder'!$B49-('4KV3_TuneBuilder'!$B$39*B$172)/100))","v":26},{"$f":"IF(C$172<='4KV3_TuneBuilder'!J$6,(((100-C$172)/100)*'4KV3_TuneBuilder'!$B$42)+'4KV3_TuneBuilder'!$B49,('4KV3_TuneBuilder'!$B49-'4KV3_TuneBuilder'!$B$39+('4KV3_TuneBuilder'!$B$39*C$172)/100))","v":25.9},{"$f":"IF(D$172<='4KV3_TuneBuilder'!K$6,(((100-D$172)/100)*'4KV3_TuneBuilder'!$B$42)+'4KV3_TuneBuilder'!$B49,('4KV3_TuneBuilder'!$B49-'4KV3_TuneBuilder'!$B$39+('4KV3_TuneBuilder'!$B$39*D$172)/100))","v":25.8},{"$f":"IF(E$172<='4KV3_TuneBuilder'!K$7,(((100-E$172)/100)*'4KV3_TuneBuilder'!$B$42)+'4KV3_TuneBuilder'!$B49,('4KV3_TuneBuilder'!$B49-'4KV3_TuneBuilder'!$B$39+('4KV3_TuneBuilder'!$B$39*E$172)/100))","v":25.7},{"$f":"IF(F$172<='4KV3_TuneBuilder'!F$43,(((100-F$172)/100)*'4KV3_TuneBuilder'!$B$42)+'4KV3_TuneBuilder'!$B49,('4KV3_TuneBuilder'!$B49-'4KV3_TuneBuilder'!$B$39+('4KV3_TuneBuilder'!$B$39*F$172)/100))","v":22.4},{"$f":"IF(G$172<='4KV3_TuneBuilder'!G$43,(((100-G$172)/100)*'4KV3_TuneBuilder'!$B$42)+'4KV3_TuneBuilder'!$B49,('4KV3_TuneBuilder'!$B49-'4KV3_TuneBuilder'!$B$39+('4KV3_TuneBuilder'!$B$39*G$172)/100))","v":22.5},{"$f":"IF(H$172<='4KV3_TuneBuilder'!H$43,(((100-H$172)/100)*'4KV3_TuneBuilder'!$B$42)+'4KV3_TuneBuilder'!$B49,('4KV3_TuneBuilder'!$B49-'4KV3_TuneBuilder'!$B$39+('4KV3_TuneBuilder'!$B$39*H$172)/100))","v":22.6},{"$f":"IF(I$172<='4KV3_TuneBuilder'!I$43,(((100-I$172)/100)*'4KV3_TuneBuilder'!$B$42)+'4KV3_TuneBuilder'!$B49,('4KV3_TuneBuilder'!$B49-'4KV3_TuneBuilder'!$B$39+('4KV3_TuneBuilder'!$B$39*I$172)/100))","v":22.7},{"$f":"IF(J$172<='4KV3_TuneBuilder'!J$43,(((100-J$172)/100)*'4KV3_TuneBuilder'!$B$42)+'4KV3_TuneBuilder'!$B49,('4KV3_TuneBuilder'!$B49-'4KV3_TuneBuilder'!$B$39+('4KV3_TuneBuilder'!$B$39*J$172)/100))","v":22.8},{"$f":"IF(K$172<='4KV3_TuneBuilder'!K$43,(((100-K$172)/100)*'4KV3_TuneBuilder'!$B$42)+'4KV3_TuneBuilder'!$B49,('4KV3_TuneBuilder'!$B49-'4KV3_TuneBuilder'!$B$39+('4KV3_TuneBuilder'!$B$39*K$172)/100))","v":22.9},{"$f":"IF(L$172<='4KV3_TuneBuilder'!L$43,(((100-L$172)/100)*'4KV3_TuneBuilder'!$B$42)+'4KV3_TuneBuilder'!$B49,('4KV3_TuneBuilder'!$B49-'4KV3_TuneBuilder'!$B$39+('4KV3_TuneBuilder'!$B$39*L$172)/100))","v":23},{"$f":"IF(M$172<='4KV3_TuneBuilder'!M$43,(((100-M$172)/100)*'4KV3_TuneBuilder'!$B$42)+'4KV3_TuneBuilder'!$B49,('4KV3_TuneBuilder'!$B49-'4KV3_TuneBuilder'!$B$39+('4KV3_TuneBuilder'!$B$39*M$172)/100))","v":23.1},{"$f":"IF(N$172<='4KV3_TuneBuilder'!N$43,(((100-N$172)/100)*'4KV3_TuneBuilder'!$B$42)+'4KV3_TuneBuilder'!$B49,('4KV3_TuneBuilder'!$B49-'4KV3_TuneBuilder'!$B$39+('4KV3_TuneBuilder'!$B$39*N$172)/100))","v":23.2},{"$f":"IF(O$172<='4KV3_TuneBuilder'!O$43,(((100-O$172)/100)*'4KV3_TuneBuilder'!$B$42)+'4KV3_TuneBuilder'!$B49,('4KV3_TuneBuilder'!$B49-'4KV3_TuneBuilder'!$B$39+('4KV3_TuneBuilder'!$B$39*O$172)/100))","v":23.3},{"$f":"IF(P$172<='4KV3_TuneBuilder'!P$43,(((100-P$172)/100)*'4KV3_TuneBuilder'!$B$42)+'4KV3_TuneBuilder'!$B49,('4KV3_TuneBuilder'!$B49-'4KV3_TuneBuilder'!$B$39+('4KV3_TuneBuilder'!$B$39*P$172)/100))","v":23.4},{"$f":"IF(Q$172<='4KV3_TuneBuilder'!Q$43,(((100-Q$172)/100)*'4KV3_TuneBuilder'!$B$42)+'4KV3_TuneBuilder'!$B49,('4KV3_TuneBuilder'!$B49-'4KV3_TuneBuilder'!$B$39+('4KV3_TuneBuilder'!$B$39*Q$172)/100))","v":23.5},{"$f":"IF(R$172<='4KV3_TuneBuilder'!R$43,(((100-R$172)/100)*'4KV3_TuneBuilder'!$B$42)+'4KV3_TuneBuilder'!$B49,('4KV3_TuneBuilder'!$B49-'4KV3_TuneBuilder'!$B$39+('4KV3_TuneBuilder'!$B$39*R$172)/100))","v":23.6},{"$f":"IF(S$172<='4KV3_TuneBuilder'!S$43,(((100-S$172)/100)*'4KV3_TuneBuilder'!$B$42)+'4KV3_TuneBuilder'!$B49,('4KV3_TuneBuilder'!$B49-'4KV3_TuneBuilder'!$B$39+('4KV3_TuneBuilder'!$B$39*S$172)/100))","v":23.7},{"$f":"IF(T$172<='4KV3_TuneBuilder'!T$43,(((100-T$172)/100)*'4KV3_TuneBuilder'!$B$42)+'4KV3_TuneBuilder'!$B49,('4KV3_TuneBuilder'!$B49-'4KV3_TuneBuilder'!$B$39+('4KV3_TuneBuilder'!$B$39*T$172)/100))","v":23.8},{"$f":"IF(U$172<='4KV3_TuneBuilder'!U$43,(((100-U$172)/100)*'4KV3_TuneBuilder'!$B$42)+'4KV3_TuneBuilder'!$B49,('4KV3_TuneBuilder'!$B49-'4KV3_TuneBuilder'!$B$39+('4KV3_TuneBuilder'!$B$39*U$172)/100))","v":23.9},{"$f":"IF(V$172<='4KV3_TuneBuilder'!V$43,(((100-V$172)/100)*'4KV3_TuneBuilder'!$B$42)+'4KV3_TuneBuilder'!$B49,('4KV3_TuneBuilder'!$B49-'4KV3_TuneBuilder'!$B$39+('4KV3_TuneBuilder'!$B$39*V$172)/100))","v":24}]
["4000RPM",{"$f":"IF(B$172<='4KV3_TuneBuilder'!B$43,(((100-B$172)/100)*'4KV3_TuneBuilder'!$B$42)+'4KV3_TuneBuilder'!$B50,('4KV3_TuneBuilder'!$B50-('4KV3_TuneBuilder'!$B$39*B$172)/100))","v":27},{"$f":"IF(C$172<='4KV3_TuneBuilder'!J$6,(((100-C$172)/100)*'4KV3_TuneBuilder'!$B$42)+'4KV3_TuneBuilder'!$B50,('4KV3_TuneBuilder'!$B50-'4KV3_TuneBuilder'!$B$39+('4KV3_TuneBuilder'!$B$39*C$172)/100))","v":26.9},{"$f":"IF(D$172<='4KV3_TuneBuilder'!K$6,(((100-D$172)/100)*'4KV3_TuneBuilder'!$B$42)+'4KV3_TuneBuilder'!$B50,('4KV3_TuneBuilder'!$B50-'4KV3_TuneBuilder'!$B$39+('4KV3_TuneBuilder'!$B$39*D$172)/100))","v":26.8},{"$f":"IF(E$172<='4KV3_TuneBuilder'!K$7,(((100-E$172)/100)*'4KV3_TuneBuilder'!$B$42)+'4KV3_TuneBuilder'!$B50,('4KV3_TuneBuilder'!$B50-'4KV3_TuneBuilder'!$B$39+('4KV3_TuneBuilder'!$B$39*E$172)/100))","v":26.7},{"$f":"IF(F$172<='4KV3_TuneBuilder'!F$43,(((100-F$172)/100)*'4KV3_TuneBuilder'!$B$42)+'4KV3_TuneBuilder'!$B50,('4KV3_TuneBuilder'!$B50-'4KV3_TuneBuilder'!$B$39+('4KV3_TuneBuilder'!$B$39*F$172)/100))","v":23.4},{"$f":"IF(G$172<='4KV3_TuneBuilder'!G$43,(((100-G$172)/100)*'4KV3_TuneBuilder'!$B$42)+'4KV3_TuneBuilder'!$B50,('4KV3_TuneBuilder'!$B50-'4KV3_TuneBuilder'!$B$39+('4KV3_TuneBuilder'!$B$39*G$172)/100))","v":23.5},{"$f":"IF(H$172<='4KV3_TuneBuilder'!H$43,(((100-H$172)/100)*'4KV3_TuneBuilder'!$B$42)+'4KV3_TuneBuilder'!$B50,('4KV3_TuneBuilder'!$B50-'4KV3_TuneBuilder'!$B$39+('4KV3_TuneBuilder'!$B$39*H$172)/100))","v":23.6},{"$f":"IF(I$172<='4KV3_TuneBuilder'!I$43,(((100-I$172)/100)*'4KV3_TuneBuilder'!$B$42)+'4KV3_TuneBuilder'!$B50,('4KV3_TuneBuilder'!$B50-'4KV3_TuneBuilder'!$B$39+('4KV3_TuneBuilder'!$B$39*I$172)/100))","v":23.7},{"$f":"IF(J$172<='4KV3_TuneBuilder'!J$43,(((100-J$172)/100)*'4KV3_TuneBuilder'!$B$42)+'4KV3_TuneBuilder'!$B50,('4KV3_TuneBuilder'!$B50-'4KV3_TuneBuilder'!$B$39+('4KV3_TuneBuilder'!$B$39*J$172)/100))","v":23.8},{"$f":"IF(K$172<='4KV3_TuneBuilder'!K$43,(((100-K$172)/100)*'4KV3_TuneBuilder'!$B$42)+'4KV3_TuneBuilder'!$B50,('4KV3_TuneBuilder'!$B50-'4KV3_TuneBuilder'!$B$39+('4KV3_TuneBuilder'!$B$39*K$172)/100))","v":23.9},{"$f":"IF(L$172<='4KV3_TuneBuilder'!L$43,(((100-L$172)/100)*'4KV3_TuneBuilder'!$B$42)+'4KV3_TuneBuilder'!$B50,('4KV3_TuneBuilder'!$B50-'4KV3_TuneBuilder'!$B$39+('4KV3_TuneBuilder'!$B$39*L$172)/100))","v":24},{"$f":"IF(M$172<='4KV3_TuneBuilder'!M$43,(((100-M$172)/100)*'4KV3_TuneBuilder'!$B$42)+'4KV3_TuneBuilder'!$B50,('4KV3_TuneBuilder'!$B50-'4KV3_TuneBuilder'!$B$39+('4KV3_TuneBuilder'!$B$39*M$172)/100))","v":24.1},{"$f":"IF(N$172<='4KV3_TuneBuilder'!N$43,(((100-N$172)/100)*'4KV3_TuneBuilder'!$B$42)+'4KV3_TuneBuilder'!$B50,('4KV3_TuneBuilder'!$B50-'4KV3_TuneBuilder'!$B$39+('4KV3_TuneBuilder'!$B$39*N$172)/100))","v":24.2},{"$f":"IF(O$172<='4KV3_TuneBuilder'!O$43,(((100-O$172)/100)*'4KV3_TuneBuilder'!$B$42)+'4KV3_TuneBuilder'!$B50,('4KV3_TuneBuilder'!$B50-'4KV3_TuneBuilder'!$B$39+('4KV3_TuneBuilder'!$B$39*O$172)/100))","v":24.3},{"$f":"IF(P$172<='4KV3_TuneBuilder'!P$43,(((100-P$172)/100)*'4KV3_TuneBuilder'!$B$42)+'4KV3_TuneBuilder'!$B50,('4KV3_TuneBuilder'!$B50-'4KV3_TuneBuilder'!$B$39+('4KV3_TuneBuilder'!$B$39*P$172)/100))","v":24.4},{"$f":"IF(Q$172<='4KV3_TuneBuilder'!Q$43,(((100-Q$172)/100)*'4KV3_TuneBuilder'!$B$42)+'4KV3_TuneBuilder'!$B50,('4KV3_TuneBuilder'!$B50-'4KV3_TuneBuilder'!$B$39+('4KV3_TuneBuilder'!$B$39*Q$172)/100))","v":24.5},{"$f":"IF(R$172<='4KV3_TuneBuilder'!R$43,(((100-R$172)/100)*'4KV3_TuneBuilder'!$B$42)+'4KV3_TuneBuilder'!$B50,('4KV3_TuneBuilder'!$B50-'4KV3_TuneBuilder'!$B$39+('4KV3_TuneBuilder'!$B$39*R$172)/100))","v":24.6},{"$f":"IF(S$172<='4KV3_TuneBuilder'!S$43,(((100-S$172)/100)*'4KV3_TuneBuilder'!$B$42)+'4KV3_TuneBuilder'!$B50,('4KV3_TuneBuilder'!$B50-'4KV3_TuneBuilder'!$B$39+('4KV3_TuneBuilder'!$B$39*S$172)/100))","v":24.7},{"$f":"IF(T$172<='4KV3_TuneBuilder'!T$43,(((100-T$172)/100)*'4KV3_TuneBuilder'!$B$42)+'4KV3_TuneBuilder'!$B50,('4KV3_TuneBuilder'!$B50-'4KV3_TuneBuilder'!$B$39+('4KV3_TuneBuilder'!$B$39*T$172)/100))","v":24.8},{"$f":"IF(U$172<='4KV3_TuneBuilder'!U$43,(((100-U$172)/100)*'4KV3_TuneBuilder'!$B$42)+'4KV3_TuneBuilder'!$B50,('4KV3_TuneBuilder'!$B50-'4KV3_TuneBuilder'!$B$39+('4KV3_TuneBuilder'!$B$39*U$172)/100))","v":24.9},{"$f":"IF(V$172<='4KV3_TuneBuilder'!V$43,(((100-V$172)/100)*'4KV3_TuneBuilder'!$B$42)+'4KV3_TuneBuilder'!$B50,('4KV3_TuneBuilder'!$B50-'4KV3_TuneBuilder'!$B$39+('4KV3_TuneBuilder'!$B$39*V$172)/100))","v":25}]
["MaxRPM",{"$f":"IF(B$172<='4KV3_TuneBuilder'!B$43,(((100-B$172)/100)*'4KV3_TuneBuilder'!$B$42)+'4KV3_TuneBuilder'!$B51,('4KV3_TuneBuilder'!$B51-('4KV3_TuneBuilder'!$B$39*B$172)/100))","v":28},{"$f":"IF(C$172<='4KV3_TuneBuilder'!J$6,(((100-C$172)/100)*'4KV3_TuneBuilder'!$B$42)+'4KV3_TuneBuilder'!$B51,('4KV3_TuneBuilder'!$B51-'4KV3_TuneBuilder'!$B$39+('4KV3_TuneBuilder'!$B$39*C$172)/100))","v":27.9},{"$f":"IF(D$172<='4KV3_TuneBuilder'!K$6,(((100-D$172)/100)*'4KV3_TuneBuilder'!$B$42)+'4KV3_TuneBuilder'!$B51,('4KV3_TuneBuilder'!$B51-'4KV3_TuneBuilder'!$B$39+('4KV3_TuneBuilder'!$B$39*D$172)/100))","v":27.8},{"$f":"IF(E$172<='4KV3_TuneBuilder'!K$7,(((100-E$172)/100)*'4KV3_TuneBuilder'!$B$42)+'4KV3_TuneBuilder'!$B51,('4KV3_TuneBuilder'!$B51-'4KV3_TuneBuilder'!$B$39+('4KV3_TuneBuilder'!$B$39*E$172)/100))","v":27.7},{"$f":"IF(F$172<='4KV3_TuneBuilder'!F$43,(((100-F$172)/100)*'4KV3_TuneBuilder'!$B$42)+'4KV3_TuneBuilder'!$B51,('4KV3_TuneBuilder'!$B51-'4KV3_TuneBuilder'!$B$39+('4KV3_TuneBuilder'!$B$39*F$172)/100))","v":24.4},{"$f":"IF(G$172<='4KV3_TuneBuilder'!G$43,(((100-G$172)/100)*'4KV3_TuneBuilder'!$B$42)+'4KV3_TuneBuilder'!$B51,('4KV3_TuneBuilder'!$B51-'4KV3_TuneBuilder'!$B$39+('4KV3_TuneBuilder'!$B$39*G$172)/100))","v":24.5},{"$f":"IF(H$172<='4KV3_TuneBuilder'!H$43,(((100-H$172)/100)*'4KV3_TuneBuilder'!$B$42)+'4KV3_TuneBuilder'!$B51,('4KV3_TuneBuilder'!$B51-'4KV3_TuneBuilder'!$B$39+('4KV3_TuneBuilder'!$B$39*H$172)/100))","v":24.6},{"$f":"IF(I$172<='4KV3_TuneBuilder'!I$43,(((100-I$172)/100)*'4KV3_TuneBuilder'!$B$42)+'4KV3_TuneBuilder'!$B51,('4KV3_TuneBuilder'!$B51-'4KV3_TuneBuilder'!$B$39+('4KV3_TuneBuilder'!$B$39*I$172)/100))","v":24.7},{"$f":"IF(J$172<='4KV3_TuneBuilder'!J$43,(((100-J$172)/100)*'4KV3_TuneBuilder'!$B$42)+'4KV3_TuneBuilder'!$B51,('4KV3_TuneBuilder'!$B51-'4KV3_TuneBuilder'!$B$39+('4KV3_TuneBuilder'!$B$39*J$172)/100))","v":24.8},{"$f":"IF(K$172<='4KV3_TuneBuilder'!K$43,(((100-K$172)/100)*'4KV3_TuneBuilder'!$B$42)+'4KV3_TuneBuilder'!$B51,('4KV3_TuneBuilder'!$B51-'4KV3_TuneBuilder'!$B$39+('4KV3_TuneBuilder'!$B$39*K$172)/100))","v":24.9},{"$f":"IF(L$172<='4KV3_TuneBuilder'!L$43,(((100-L$172)/100)*'4KV3_TuneBuilder'!$B$42)+'4KV3_TuneBuilder'!$B51,('4KV3_TuneBuilder'!$B51-'4KV3_TuneBuilder'!$B$39+('4KV3_TuneBuilder'!$B$39*L$172)/100))","v":25},{"$f":"IF(M$172<='4KV3_TuneBuilder'!M$43,(((100-M$172)/100)*'4KV3_TuneBuilder'!$B$42)+'4KV3_TuneBuilder'!$B51,('4KV3_TuneBuilder'!$B51-'4KV3_TuneBuilder'!$B$39+('4KV3_TuneBuilder'!$B$39*M$172)/100))","v":25.1},{"$f":"IF(N$172<='4KV3_TuneBuilder'!N$43,(((100-N$172)/100)*'4KV3_TuneBuilder'!$B$42)+'4KV3_TuneBuilder'!$B51,('4KV3_TuneBuilder'!$B51-'4KV3_TuneBuilder'!$B$39+('4KV3_TuneBuilder'!$B$39*N$172)/100))","v":25.2},{"$f":"IF(O$172<='4KV3_TuneBuilder'!O$43,(((100-O$172)/100)*'4KV3_TuneBuilder'!$B$42)+'4KV3_TuneBuilder'!$B51,('4KV3_TuneBuilder'!$B51-'4KV3_TuneBuilder'!$B$39+('4KV3_TuneBuilder'!$B$39*O$172)/100))","v":25.3},{"$f":"IF(P$172<='4KV3_TuneBuilder'!P$43,(((100-P$172)/100)*'4KV3_TuneBuilder'!$B$42)+'4KV3_TuneBuilder'!$B51,('4KV3_TuneBuilder'!$B51-'4KV3_TuneBuilder'!$B$39+('4KV3_TuneBuilder'!$B$39*P$172)/100))","v":25.4},{"$f":"IF(Q$172<='4KV3_TuneBuilder'!Q$43,(((100-Q$172)/100)*'4KV3_TuneBuilder'!$B$42)+'4KV3_TuneBuilder'!$B51,('4KV3_TuneBuilder'!$B51-'4KV3_TuneBuilder'!$B$39+('4KV3_TuneBuilder'!$B$39*Q$172)/100))","v":25.5},{"$f":"IF(R$172<='4KV3_TuneBuilder'!R$43,(((100-R$172)/100)*'4KV3_TuneBuilder'!$B$42)+'4KV3_TuneBuilder'!$B51,('4KV3_TuneBuilder'!$B51-'4KV3_TuneBuilder'!$B$39+('4KV3_TuneBuilder'!$B$39*R$172)/100))","v":25.6},{"$f":"IF(S$172<='4KV3_TuneBuilder'!S$43,(((100-S$172)/100)*'4KV3_TuneBuilder'!$B$42)+'4KV3_TuneBuilder'!$B51,('4KV3_TuneBuilder'!$B51-'4KV3_TuneBuilder'!$B$39+('4KV3_TuneBuilder'!$B$39*S$172)/100))","v":25.7},{"$f":"IF(T$172<='4KV3_TuneBuilder'!T$43,(((100-T$172)/100)*'4KV3_TuneBuilder'!$B$42)+'4KV3_TuneBuilder'!$B51,('4KV3_TuneBuilder'!$B51-'4KV3_TuneBuilder'!$B$39+('4KV3_TuneBuilder'!$B$39*T$172)/100))","v":25.8},{"$f":"IF(U$172<='4KV3_TuneBuilder'!U$43,(((100-U$172)/100)*'4KV3_TuneBuilder'!$B$42)+'4KV3_TuneBuilder'!$B51,('4KV3_TuneBuilder'!$B51-'4KV3_TuneBuilder'!$B$39+('4KV3_TuneBuilder'!$B$39*U$172)/100))","v":25.9},{"$f":"IF(V$172<='4KV3_TuneBuilder'!V$43,(((100-V$172)/100)*'4KV3_TuneBuilder'!$B$42)+'4KV3_TuneBuilder'!$B51,('4KV3_TuneBuilder'!$B51-'4KV3_TuneBuilder'!$B$39+('4KV3_TuneBuilder'!$B$39*V$172)/100))","v":26}]
[]
[]
["V2 Fuel load timing vs rpm"]
[null,null,0,5,10,15,20,25,30,35,40,45,50,55,60,65,70,75,80,85,90,95,100]
["0PSI","1500RPM",0,0,0,0,{"$f":"IF(10*V2_TuneBuilder!$B$15/100>V2_TuneBuilder!$B$15*V2_TuneBuilder!$B$16/100,V2_TuneBuilder!$B$15*V2_TuneBuilder!$B$16/100,10*V2_TuneBuilder!$B$15/100)","v":0.2},{"$f":"IF(20*V2_TuneBuilder!$B$15/100>V2_TuneBuilder!$B$15*V2_TuneBuilder!$B$16/100,V2_TuneBuilder!$B$15*V2_TuneBuilder!$B$16/100,20*V2_TuneBuilder!$B$15/100)","v":0.4},{"$f":"IF(30*V2_TuneBuilder!$B$15/100>V2_TuneBuilder!$B$15*V2_TuneBuilder!$B$16/100,V2_TuneBuilder!$B$15*V2_TuneBuilder!$B$16/100,30*V2_TuneBuilder!$B$15/100)","v":0.6},{"$f":"IF(35*V2_TuneBuilder!$B$15/100>V2_TuneBuilder!$B$15*V2_TuneBuilder!$B$16/100,V2_TuneBuilder!$B$15*V2_TuneBuilder!$B$16/100,35*V2_TuneBuilder!$B$15/100)","v":0.7},{"$f":"IF(40*V2_TuneBuilder!$B$15/100>V2_TuneBuilder!$B$15*V2_TuneBuilder!$B$16/100,V2_TuneBuilder!$B$15*V2_TuneBuilder!$B$16/100,40*V2_TuneBuilder!$B$15/100)","v":0.8},{"$f":"IF(45*V2_TuneBuilder!$B$15/100>V2_TuneBuilder!$B$15*V2_TuneBuilder!$B$16/100,V2_TuneBuilder!$B$15*V2_TuneBuilder!$B$16/100,45*V2_TuneBuilder!$B$15/100)","v":0.9},{"$f":"IF(50*V2_TuneBuilder!$B$15/100>V2_TuneBuilder!$B$15*V2_TuneBuilder!$B$16/100,V2_TuneBuilder!$B$15*V2_TuneBuilder!$B$16/100,50*V2_TuneBuilder!$B$15/100)","v":1},{"$f":"IF(55*V2_TuneBuilder!$B$15/100>V2_TuneBuilder!$B$15*V2_TuneBuilder!$B$16/100,V2_TuneBuilder!$B$15*V2_TuneBuilder!$B$16/100,55*V2_TuneBuilder!$B$15/100)","v":1.1000000000000001},{"$f":"IF(60*V2_TuneBuilder!$B$15/100>V2_TuneBuilder!$B$15*V2_TuneBuilder!$B$16/100,V2_TuneBuilder!$B$15*V2_TuneBuilder!$B$16/100,60*V2_TuneBuilder!$B$15/100)","v":1.2},{"$f":"IF(65*V2_TuneBuilder!$B$15/100>V2_TuneBuilder!$B$15*V2_TuneBuilder!$B$16/100,V2_TuneBuilder!$B$15*V2_TuneBuilder!$B$16/100,65*V2_TuneBuilder!$B$15/100)","v":1.3},{"$f":"IF(70*V2_TuneBuilder!$B$15/100>V2_TuneBuilder!$B$15*V2_TuneBuilder!$B$16/100,V2_TuneBuilder!$B$15*V2_TuneBuilder!$B$16/100,70*V2_TuneBuilder!$B$15/100)","v":1.4},{"$f":"IF(75*V2_TuneBuilder!$B$15/100>V2_TuneBuilder!$B$15*V2_TuneBuilder!$B$16/100,V2_TuneBuilder!$B$15*V2_TuneBuilder!$B$16/100,75*V2_TuneBuilder!$B$15/100)","v":1.5},{"$f":"IF(80*V2_TuneBuilder!$B$15/100>V2_TuneBuilder!$B$15*V2_TuneBuilder!$B$16/100,V2_TuneBuilder!$B$15*V2_TuneBuilder!$B$16/100,80*V2_TuneBuilder!$B$15/100)","v":1.6},{"$f":"IF(85*V2_TuneBuilder!$B$15/100>V2_TuneBuilder!$B$15*V2_TuneBuilder!$B$16/100,V2_TuneBuilder!$B$15*V2_TuneBuilder!$B$16/100,85*V2_TuneBuilder!$B$15/100)","v":1.7},{"$f":"IF(90*V2_TuneBuilder!$B$15/100>V2_TuneBuilder!$B$15*V2_TuneBuilder!$B$16/100,V2_TuneBuilder!$B$15*V2_TuneBuilder!$B$16/100,90*V2_TuneBuilder!$B$15/100)","v":1.8},{"$f":"IF(95*V2_TuneBuilder!$B$15/100>V2_TuneBuilder!$B$15*V2_TuneBuilder!$B$16/100,V2_TuneBuilder!$B$15*V2_TuneBuilder!$B$16/100,95*V2_TuneBuilder!$B$15/100)","v":1.9},{"$f":"IF(100*V2_TuneBuilder!$B$15/100>V2_TuneBuilder!$B$15*V2_TuneBuilder!$B$16/100,V2_TuneBuilder!$B$15*V2_TuneBuilder!$B$16/100,100*V2_TuneBuilder!$B$15/100)","v":2}]
["2PSI","2000RPM",0,0,0,0,0,0,{"$f":"IF(E183*V2_TuneBuilder!$B$15/100>V2_TuneBuilder!$B$15*V2_TuneBuilder!$B$16/100,V2_TuneBuilder!$B$15*V2_TuneBuilder!$B$16/100,E183*V2_TuneBuilder!$B$15/100)","v":0.2},{"$f":"IF(F183*V2_TuneBuilder!$B$15/100>V2_TuneBuilder!$B$15*V2_TuneBuilder!$B$16/100,V2_TuneBuilder!$B$15*V2_TuneBuilder!$B$16/100,F183*V2_TuneBuilder!$B$15/100)","v":0.3},{"$f":"IF(G183*V2_TuneBuilder!$B$15/100>V2_TuneBuilder!$B$15*V2_TuneBuilder!$B$16/100,V2_TuneBuilder!$B$15*V2_TuneBuilder!$B$16/100,G183*V2_TuneBuilder!$B$15/100)","v":0.4},{"$f":"IF(H183*V2_TuneBuilder!$B$15/100>V2_TuneBuilder!$B$15*V2_TuneBuilder!$B$16/100,V2_TuneBuilder!$B$15*V2_TuneBuilder!$B$16/100,H183*V2_TuneBuilder!$B$15/100)","v":0.5},{"$f":"IF(I183*V2_TuneBuilder!$B$15/100>V2_TuneBuilder!$B$15*V2_TuneBuilder!$B$16/100,V2_TuneBuilder!$B$15*V2_TuneBuilder!$B$16/100,I183*V2_TuneBuilder!$B$15/100)","v":0.6},{"$f":"IF(J183*V2_TuneBuilder!$B$15/100>V2_TuneBuilder!$B$15*V2_TuneBuilder!$B$16/100,V2_TuneBuilder!$B$15*V2_TuneBuilder!$B$16/100,J183*V2_TuneBuilder!$B$15/100)","v":0.7},{"$f":"IF(K183*V2_TuneBuilder!$B$15/100>V2_TuneBuilder!$B$15*V2_TuneBuilder!$B$16/100,V2_TuneBuilder!$B$15*V2_TuneBuilder!$B$16/100,K183*V2_TuneBuilder!$B$15/100)","v":0.8},{"$f":"IF(L183*V2_TuneBuilder!$B$15/100>V2_TuneBuilder!$B$15*V2_TuneBuilder!$B$16/100,V2_TuneBuilder!$B$15*V2_TuneBuilder!$B$16/100,L183*V2_TuneBuilder!$B$15/100)","v":0.9},{"$f":"IF(M183*V2_TuneBuilder!$B$15/100>V2_TuneBuilder!$B$15*V2_TuneBuilder!$B$16/100,V2_TuneBuilder!$B$15*V2_TuneBuilder!$B$16/100,M183*V2_TuneBuilder!$B$15/100)","v":1},{"$f":"IF(N183*V2_TuneBuilder!$B$15/100>V2_TuneBuilder!$B$15*V2_TuneBuilder!$B$16/100,V2_TuneBuilder!$B$15*V2_TuneBuilder!$B$16/100,N183*V2_TuneBuilder!$B$15/100)","v":1.1000000000000001},{"$f":"IF(O183*V2_TuneBuilder!$B$15/100>V2_TuneBuilder!$B$15*V2_TuneBuilder!$B$16/100,V2_TuneBuilder!$B$15*V2_TuneBuilder!$B$16/100,O183*V2_TuneBuilder!$B$15/100)","v":1.2},{"$f":"IF(P183*V2_TuneBuilder!$B$15/100>V2_TuneBuilder!$B$15*V2_TuneBuilder!$B$16/100,V2_TuneBuilder!$B$15*V2_TuneBuilder!$B$16/100,P183*V2_TuneBuilder!$B$15/100)","v":1.3},{"$f":"IF(Q183*V2_TuneBuilder!$B$15/100>V2_TuneBuilder!$B$15*V2_TuneBuilder!$B$16/100,V2_TuneBuilder!$B$15*V2_TuneBuilder!$B$16/100,Q183*V2_TuneBuilder!$B$15/100)","v":1.4},{"$f":"IF(R183*V2_TuneBuilder!$B$15/100>V2_TuneBuilder!$B$15*V2_TuneBuilder!$B$16/100,V2_TuneBuilder!$B$15*V2_TuneBuilder!$B$16/100,R183*V2_TuneBuilder!$B$15/100)","v":1.5},{"$f":"IF(S183*V2_TuneBuilder!$B$15/100>V2_TuneBuilder!$B$15*V2_TuneBuilder!$B$16/100,V2_TuneBuilder!$B$15*V2_TuneBuilder!$B$16/100,S183*V2_TuneBuilder!$B$15/100)","v":1.6}]
["4PSI","2500RPM",0,0,0,0,0,0,0,0,0,{"$f":"IF(D183*V2_TuneBuilder!$B$15/100>V2_TuneBuilder!$B$15*V2_TuneBuilder!$B$16/100,V2_TuneBuilder!$B$15*V2_TuneBuilder!$B$16/100,D183*V2_TuneBuilder!$B$15/100)","v":0.1},{"$f":"IF(E183*V2_TuneBuilder!$B$15/100>V2_TuneBuilder!$B$15*V2_TuneBuilder!$B$16/100,V2_TuneBuilder!$B$15*V2_TuneBuilder!$B$16/100,E183*V2_TuneBuilder!$B$15/100)","v":0.2},{"$f":"IF(F183*V2_TuneBuilder!$B$15/100>V2_TuneBuilder!$B$15*V2_TuneBuilder!$B$16/100,V2_TuneBuilder!$B$15*V2_TuneBuilder!$B$16/100,F183*V2_TuneBuilder!$B$15/100)","v":0.3},{"$f":"IF(G183*V2_TuneBuilder!$B$15/100>V2_TuneBuilder!$B$15*V2_TuneBuilder!$B$16/100,V2_TuneBuilder!$B$15*V2_TuneBuilder!$B$16/100,G183*V2_TuneBuilder!$B$15/100)","v":0.4},{"$f":"IF(H183*V2_TuneBuilder!$B$15/100>V2_TuneBuilder!$B$15*V2_TuneBuilder!$B$16/100,V2_TuneBuilder!$B$15*V2_TuneBuilder!$B$16/100,H183*V2_TuneBuilder!$B$15/100)","v":0.5},{"$f":"IF(I183*V2_TuneBuilder!$B$15/100>V2_TuneBuilder!$B$15*V2_TuneBuilder!$B$16/100,V2_TuneBuilder!$B$15*V2_TuneBuilder!$B$16/100,I183*V2_TuneBuilder!$B$15/100)","v":0.6},{"$f":"IF(J183*V2_TuneBuilder!$B$15/100>V2_TuneBuilder!$B$15*V2_TuneBuilder!$B$16/100,V2_TuneBuilder!$B$15*V2_TuneBuilder!$B$16/100,J183*V2_TuneBuilder!$B$15/100)","v":0.7},{"$f":"IF(K183*V2_TuneBuilder!$B$15/100>V2_TuneBuilder!$B$15*V2_TuneBuilder!$B$16/100,V2_TuneBuilder!$B$15*V2_TuneBuilder!$B$16/100,K183*V2_TuneBuilder!$B$15/100)","v":0.8},{"$f":"IF(L183*V2_TuneBuilder!$B$15/100>V2_TuneBuilder!$B$15*V2_TuneBuilder!$B$16/100,V2_TuneBuilder!$B$15*V2_TuneBuilder!$B$16/100,L183*V2_TuneBuilder!$B$15/100)","v":0.9},{"$f":"IF(M183*V2_TuneBuilder!$B$15/100>V2_TuneBuilder!$B$15*V2_TuneBuilder!$B$16/100,V2_TuneBuilder!$B$15*V2_TuneBuilder!$B$16/100,M183*V2_TuneBuilder!$B$15/100)","v":1},{"$f":"IF(N183*V2_TuneBuilder!$B$15/100>V2_TuneBuilder!$B$15*V2_TuneBuilder!$B$16/100,V2_TuneBuilder!$B$15*V2_TuneBuilder!$B$16/100,N183*V2_TuneBuilder!$B$15/100)","v":1.1000000000000001},{"$f":"IF(O183*V2_TuneBuilder!$B$15/100>V2_TuneBuilder!$B$15*V2_TuneBuilder!$B$16/100,V2_TuneBuilder!$B$15*V2_TuneBuilder!$B$16/100,O183*V2_TuneBuilder!$B$15/100)","v":1.2}]
["6PSI","3000RPM",0,0,0,0,0,0,0,0,0,0,0,0,0,{"$f":"IF(D183*V2_TuneBuilder!$B$15/100>V2_TuneBuilder!$B$15*V2_TuneBuilder!$B$16/100,V2_TuneBuilder!$B$15*V2_TuneBuilder!$B$16/100,D183*V2_TuneBuilder!$B$15/100)","v":0.1},{"$f":"IF(E183*V2_TuneBuilder!$B$15/100>V2_TuneBuilder!$B$15*V2_TuneBuilder!$B$16/100,V2_TuneBuilder!$B$15*V2_TuneBuilder!$B$16/100,E183*V2_TuneBuilder!$B$15/100)","v":0.2},{"$f":"IF(F183*V2_TuneBuilder!$B$15/100>V2_TuneBuilder!$B$15*V2_TuneBuilder!$B$16/100,V2_TuneBuilder!$B$15*V2_TuneBuilder!$B$16/100,F183*V2_TuneBuilder!$B$15/100)","v":0.3},{"$f":"IF(G183*V2_TuneBuilder!$B$15/100>V2_TuneBuilder!$B$15*V2_TuneBuilder!$B$16/100,V2_TuneBuilder!$B$15*V2_TuneBuilder!$B$16/100,G183*V2_TuneBuilder!$B$15/100)","v":0.4},{"$f":"IF(H183*V2_TuneBuilder!$B$15/100>V2_TuneBuilder!$B$15*V2_TuneBuilder!$B$16/100,V2_TuneBuilder!$B$15*V2_TuneBuilder!$B$16/100,H183*V2_TuneBuilder!$B$15/100)","v":0.5},{"$f":"IF(I183*V2_TuneBuilder!$B$15/100>V2_TuneBuilder!$B$15*V2_TuneBuilder!$B$16/100,V2_TuneBuilder!$B$15*V2_TuneBuilder!$B$16/100,I183*V2_TuneBuilder!$B$15/100)","v":0.6},{"$f":"IF(J183*V2_TuneBuilder!$B$15/100>V2_TuneBuilder!$B$15*V2_TuneBuilder!$B$16/100,V2_TuneBuilder!$B$15*V2_TuneBuilder!$B$16/100,J183*V2_TuneBuilder!$B$15/100)","v":0.7},{"$f":"IF(K183*V2_TuneBuilder!$B$15/100>V2_TuneBuilder!$B$15*V2_TuneBuilder!$B$16/100,V2_TuneBuilder!$B$15*V2_TuneBuilder!$B$16/100,K183*V2_TuneBuilder!$B$15/100)","v":0.8}]
["8PSI","MaxRPM",0,0,0,0,0,0,0,0,0,0,0,0,0,0,0,0,0,{"$f":"IF(D183*V2_TuneBuilder!$B$15/100>V2_TuneBuilder!$B$15*V2_TuneBuilder!$B$16/100,V2_TuneBuilder!$B$15*V2_TuneBuilder!$B$16/100,D183*V2_TuneBuilder!$B$15/100)","v":0.1},{"$f":"IF(E183*V2_TuneBuilder!$B$15/100>V2_TuneBuilder!$B$15*V2_TuneBuilder!$B$16/100,V2_TuneBuilder!$B$15*V2_TuneBuilder!$B$16/100,E183*V2_TuneBuilder!$B$15/100)","v":0.2},{"$f":"IF(F183*V2_TuneBuilder!$B$15/100>V2_TuneBuilder!$B$15*V2_TuneBuilder!$B$16/100,V2_TuneBuilder!$B$15*V2_TuneBuilder!$B$16/100,F183*V2_TuneBuilder!$B$15/100)","v":0.3},{"$f":"IF(G183*V2_TuneBuilder!$B$15/100>V2_TuneBuilder!$B$15*V2_TuneBuilder!$B$16/100,V2_TuneBuilder!$B$15*V2_TuneBuilder!$B$16/100,G183*V2_TuneBuilder!$B$15/100)","v":0.4}]
["10PSI",null,0,0,0,0,0,0,0,0,0,0,0,0,0,0,0,0,0,0,0,0,0]
[null,"V3 Fuel load timing vs rpm"]
[null,null,0,5,10,15,20,25,30,35,40,45,50,55,60,65,70,75,80,85,90,95,100]
["0PSI","1500RPM",0,0,0,0,{"$f":"IF(10*V3_TuneBuilder!$B$40/100>V3_TuneBuilder!$B$40*V3_TuneBuilder!$B$41/100,V3_TuneBuilder!$B$40*V3_TuneBuilder!$B$41/100,10*V3_TuneBuilder!$B$40/100)","v":0.2},{"$f":"IF(20*V3_TuneBuilder!$B$40/100>V3_TuneBuilder!$B$40*V3_TuneBuilder!$B$41/100,V3_TuneBuilder!$B$40*V3_TuneBuilder!$B$41/100,20*V3_TuneBuilder!$B$40/100)","v":0.4},{"$f":"IF(I191*V3_TuneBuilder!$B$40/100>V3_TuneBuilder!$B$40*V3_TuneBuilder!$B$41/100,V3_TuneBuilder!$B$40*V3_TuneBuilder!$B$41/100,I191*V3_TuneBuilder!$B$40/100)","v":0.6},{"$f":"IF(J191*V3_TuneBuilder!$B$40/100>V3_TuneBuilder!$B$40*V3_TuneBuilder!$B$41/100,V3_TuneBuilder!$B$40*V3_TuneBuilder!$B$41/100,J191*V3_TuneBuilder!$B$40/100)","v":0.7},{"$f":"IF(K191*V3_TuneBuilder!$B$40/100>V3_TuneBuilder!$B$40*V3_TuneBuilder!$B$41/100,V3_TuneBuilder!$B$40*V3_TuneBuilder!$B$41/100,K191*V3_TuneBuilder!$B$40/100)","v":0.8},{"$f":"IF(L191*V3_TuneBuilder!$B$40/100>V3_TuneBuilder!$B$40*V3_TuneBuilder!$B$41/100,V3_TuneBuilder!$B$40*V3_TuneBuilder!$B$41/100,L191*V3_TuneBuilder!$B$40/100)","v":0.9},{"$f":"IF(M191*V3_TuneBuilder!$B$40/100>V3_TuneBuilder!$B$40*V3_TuneBuilder!$B$41/100,V3_TuneBuilder!$B$40*V3_TuneBuilder!$B$41/100,M191*V3_TuneBuilder!$B$40/100)","v":1},{"$f":"IF(N191*V3_TuneBuilder!$B$40/100>V3_TuneBuilder!$B$40*V3_TuneBuilder!$B$41/100,V3_TuneBuilder!$B$40*V3_TuneBuilder!$B$41/100,N191*V3_TuneBuilder!$B$40/100)","v":1.1000000000000001},{"$f":"IF(O191*V3_TuneBuilder!$B$40/100>V3_TuneBuilder!$B$40*V3_TuneBuilder!$B$41/100,V3_TuneBuilder!$B$40*V3_TuneBuilder!$B$41/100,O191*V3_TuneBuilder!$B$40/100)","v":1.2},{"$f":"IF(P191*V3_TuneBuilder!$B$40/100>V3_TuneBuilder!$B$40*V3_TuneBuilder!$B$41/100,V3_TuneBuilder!$B$40*V3_TuneBuilder!$B$41/100,P191*V3_TuneBuilder!$B$40/100)","v":1.3},{"$f":"IF(Q191*V3_TuneBuilder!$B$40/100>V3_TuneBuilder!$B$40*V3_TuneBuilder!$B$41/100,V3_TuneBuilder!$B$40*V3_TuneBuilder!$B$41/100,Q191*V3_TuneBuilder!$B$40/100)","v":1.4},{"$f":"IF(R191*V3_TuneBuilder!$B$40/100>V3_TuneBuilder!$B$40*V3_TuneBuilder!$B$41/100,V3_TuneBuilder!$B$40*V3_TuneBuilder!$B$41/100,R191*V3_TuneBuilder!$B$40/100)","v":1.5},{"$f":"IF(S191*V3_TuneBuilder!$B$40/100>V3_TuneBuilder!$B$40*V3_TuneBuilder!$B$41/100,V3_TuneBuilder!$B$40*V3_TuneBuilder!$B$41/100,S191*V3_TuneBuilder!$B$40/100)","v":1.6},{"$f":"IF(T191*V3_TuneBuilder!$B$40/100>V3_TuneBuilder!$B$40*V3_TuneBuilder!$B$41/100,V3_TuneBuilder!$B$40*V3_TuneBuilder!$B$41/100,T191*V3_TuneBuilder!$B$40/100)","v":1.7},{"$f":"IF(U191*V3_TuneBuilder!$B$40/100>V3_TuneBuilder!$B$40*V3_TuneBuilder!$B$41/100,V3_TuneBuilder!$B$40*V3_TuneBuilder!$B$41/100,U191*V3_TuneBuilder!$B$40/100)","v":1.8},{"$f":"IF(V191*V3_TuneBuilder!$B$40/100>V3_TuneBuilder!$B$40*V3_TuneBuilder!$B$41/100,V3_TuneBuilder!$B$40*V3_TuneBuilder!$B$41/100,V191*V3_TuneBuilder!$B$40/100)","v":1.9},{"$f":"IF(W191*V3_TuneBuilder!$B$40/100>V3_TuneBuilder!$B$40*V3_TuneBuilder!$B$41/100,V3_TuneBuilder!$B$40*V3_TuneBuilder!$B$41/100,W191*V3_TuneBuilder!$B$40/100)","v":2}]
["2PSI","2000RPM",0,0,0,0,0,0,{"$f":"IF(E191*V3_TuneBuilder!$B$40/100>V3_TuneBuilder!$B$40*V3_TuneBuilder!$B$41/100,V3_TuneBuilder!$B$40*V3_TuneBuilder!$B$41/100,E191*V3_TuneBuilder!$B$40/100)","v":0.2},{"$f":"IF(F191*V3_TuneBuilder!$B$40/100>V3_TuneBuilder!$B$40*V3_TuneBuilder!$B$41/100,V3_TuneBuilder!$B$40*V3_TuneBuilder!$B$41/100,F191*V3_TuneBuilder!$B$40/100)","v":0.3},{"$f":"IF(G191*V3_TuneBuilder!$B$40/100>V3_TuneBuilder!$B$40*V3_TuneBuilder!$B$41/100,V3_TuneBuilder!$B$40*V3_TuneBuilder!$B$41/100,G191*V3_TuneBuilder!$B$40/100)","v":0.4},{"$f":"IF(H191*V3_TuneBuilder!$B$40/100>V3_TuneBuilder!$B$40*V3_TuneBuilder!$B$41/100,V3_TuneBuilder!$B$40*V3_TuneBuilder!$B$41/100,H191*V3_TuneBuilder!$B$40/100)","v":0.5},{"$f":"IF(I191*V3_TuneBuilder!$B$40/100>V3_TuneBuilder!$B$40*V3_TuneBuilder!$B$41/100,V3_TuneBuilder!$B$40*V3_TuneBuilder!$B$41/100,I191*V3_TuneBuilder!$B$40/100)","v":0.6},{"$f":"IF(J191*V3_TuneBuilder!$B$40/100>V3_TuneBuilder!$B$40*V3_TuneBuilder!$B$41/100,V3_TuneBuilder!$B$40*V3_TuneBuilder!$B$41/100,J191*V3_TuneBuilder!$B$40/100)","v":0.7},{"$f":"IF(K191*V3_TuneBuilder!$B$40/100>V3_TuneBuilder!$B$40*V3_TuneBuilder!$B$41/100,V3_TuneBuilder!$B$40*V3_TuneBuilder!$B$41/100,K191*V3_TuneBuilder!$B$40/100)","v":0.8},{"$f":"IF(L191*V3_TuneBuilder!$B$40/100>V3_TuneBuilder!$B$40*V3_TuneBuilder!$B$41/100,V3_TuneBuilder!$B$40*V3_TuneBuilder!$B$41/100,L191*V3_TuneBuilder!$B$40/100)","v":0.9},{"$f":"IF(M191*V3_TuneBuilder!$B$40/100>V3_TuneBuilder!$B$40*V3_TuneBuilder!$B$41/100,V3_TuneBuilder!$B$40*V3_TuneBuilder!$B$41/100,M191*V3_TuneBuilder!$B$40/100)","v":1},{"$f":"IF(N191*V3_TuneBuilder!$B$40/100>V3_TuneBuilder!$B$40*V3_TuneBuilder!$B$41/100,V3_TuneBuilder!$B$40*V3_TuneBuilder!$B$41/100,N191*V3_TuneBuilder!$B$40/100)","v":1.1000000000000001},{"$f":"IF(O191*V3_TuneBuilder!$B$40/100>V3_TuneBuilder!$B$40*V3_TuneBuilder!$B$41/100,V3_TuneBuilder!$B$40*V3_TuneBuilder!$B$41/100,O191*V3_TuneBuilder!$B$40/100)","v":1.2},{"$f":"IF(P191*V3_TuneBuilder!$B$40/100>V3_TuneBuilder!$B$40*V3_TuneBuilder!$B$41/100,V3_TuneBuilder!$B$40*V3_TuneBuilder!$B$41/100,P191*V3_TuneBuilder!$B$40/100)","v":1.3},{"$f":"IF(Q191*V3_TuneBuilder!$B$40/100>V3_TuneBuilder!$B$40*V3_TuneBuilder!$B$41/100,V3_TuneBuilder!$B$40*V3_TuneBuilder!$B$41/100,Q191*V3_TuneBuilder!$B$40/100)","v":1.4},{"$f":"IF(R191*V3_TuneBuilder!$B$40/100>V3_TuneBuilder!$B$40*V3_TuneBuilder!$B$41/100,V3_TuneBuilder!$B$40*V3_TuneBuilder!$B$41/100,R191*V3_TuneBuilder!$B$40/100)","v":1.5},{"$f":"IF(S191*V3_TuneBuilder!$B$40/100>V3_TuneBuilder!$B$40*V3_TuneBuilder!$B$41/100,V3_TuneBuilder!$B$40*V3_TuneBuilder!$B$41/100,S191*V3_TuneBuilder!$B$40/100)","v":1.6}]
["4PSI","2500RPM",0,0,0,0,0,0,0,0,0,{"$f":"IF(D191*V3_TuneBuilder!$B$40/100>V3_TuneBuilder!$B$40*V3_TuneBuilder!$B$41/100,V3_TuneBuilder!$B$40*V3_TuneBuilder!$B$41/100,D191*V3_TuneBuilder!$B$40/100)","v":0.1},{"$f":"IF(E191*V3_TuneBuilder!$B$40/100>V3_TuneBuilder!$B$40*V3_TuneBuilder!$B$41/100,V3_TuneBuilder!$B$40*V3_TuneBuilder!$B$41/100,E191*V3_TuneBuilder!$B$40/100)","v":0.2},{"$f":"IF(F191*V3_TuneBuilder!$B$40/100>V3_TuneBuilder!$B$40*V3_TuneBuilder!$B$41/100,V3_TuneBuilder!$B$40*V3_TuneBuilder!$B$41/100,F191*V3_TuneBuilder!$B$40/100)","v":0.3},{"$f":"IF(G191*V3_TuneBuilder!$B$40/100>V3_TuneBuilder!$B$40*V3_TuneBuilder!$B$41/100,V3_TuneBuilder!$B$40*V3_TuneBuilder!$B$41/100,G191*V3_TuneBuilder!$B$40/100)","v":0.4},{"$f":"IF(H191*V3_TuneBuilder!$B$40/100>V3_TuneBuilder!$B$40*V3_TuneBuilder!$B$41/100,V3_TuneBuilder!$B$40*V3_TuneBuilder!$B$41/100,H191*V3_TuneBuilder!$B$40/100)","v":0.5},{"$f":"IF(I191*V3_TuneBuilder!$B$40/100>V3_TuneBuilder!$B$40*V3_TuneBuilder!$B$41/100,V3_TuneBuilder!$B$40*V3_TuneBuilder!$B$41/100,I191*V3_TuneBuilder!$B$40/100)","v":0.6},{"$f":"IF(J191*V3_TuneBuilder!$B$40/100>V3_TuneBuilder!$B$40*V3_TuneBuilder!$B$41/100,V3_TuneBuilder!$B$40*V3_TuneBuilder!$B$41/100,J191*V3_TuneBuilder!$B$40/100)","v":0.7},{"$f":"IF(K191*V3_TuneBuilder!$B$40/100>V3_TuneBuilder!$B$40*V3_TuneBuilder!$B$41/100,V3_TuneBuilder!$B$40*V3_TuneBuilder!$B$41/100,K191*V3_TuneBuilder!$B$40/100)","v":0.8},{"$f":"IF(L191*V3_TuneBuilder!$B$40/100>V3_TuneBuilder!$B$40*V3_TuneBuilder!$B$41/100,V3_TuneBuilder!$B$40*V3_TuneBuilder!$B$41/100,L191*V3_TuneBuilder!$B$40/100)","v":0.9},{"$f":"IF(M191*V3_TuneBuilder!$B$40/100>V3_TuneBuilder!$B$40*V3_TuneBuilder!$B$41/100,V3_TuneBuilder!$B$40*V3_TuneBuilder!$B$41/100,M191*V3_TuneBuilder!$B$40/100)","v":1},{"$f":"IF(N191*V3_TuneBuilder!$B$40/100>V3_TuneBuilder!$B$40*V3_TuneBuilder!$B$41/100,V3_TuneBuilder!$B$40*V3_TuneBuilder!$B$41/100,N191*V3_TuneBuilder!$B$40/100)","v":1.1000000000000001},{"$f":"IF(O191*V3_TuneBuilder!$B$40/100>V3_TuneBuilder!$B$40*V3_TuneBuilder!$B$41/100,V3_TuneBuilder!$B$40*V3_TuneBuilder!$B$41/100,O191*V3_TuneBuilder!$B$40/100)","v":1.2}]
["6PSI","3000RPM",0,0,0,0,0,0,0,0,0,0,0,0,0,{"$f":"IF(D191*V3_TuneBuilder!$B$40/100>V3_TuneBuilder!$B$40*V3_TuneBuilder!$B$41/100,V3_TuneBuilder!$B$40*V3_TuneBuilder!$B$41/100,D191*V3_TuneBuilder!$B$40/100)","v":0.1},{"$f":"IF(E191*V3_TuneBuilder!$B$40/100>V3_TuneBuilder!$B$40*V3_TuneBuilder!$B$41/100,V3_TuneBuilder!$B$40*V3_TuneBuilder!$B$41/100,E191*V3_TuneBuilder!$B$40/100)","v":0.2},{"$f":"IF(F191*V3_TuneBuilder!$B$40/100>V3_TuneBuilder!$B$40*V3_TuneBuilder!$B$41/100,V3_TuneBuilder!$B$40*V3_TuneBuilder!$B$41/100,F191*V3_TuneBuilder!$B$40/100)","v":0.3},{"$f":"IF(G191*V3_TuneBuilder!$B$40/100>V3_TuneBuilder!$B$40*V3_TuneBuilder!$B$41/100,V3_TuneBuilder!$B$40*V3_TuneBuilder!$B$41/100,G191*V3_TuneBuilder!$B$40/100)","v":0.4},{"$f":"IF(H191*V3_TuneBuilder!$B$40/100>V3_TuneBuilder!$B$40*V3_TuneBuilder!$B$41/100,V3_TuneBuilder!$B$40*V3_TuneBuilder!$B$41/100,H191*V3_TuneBuilder!$B$40/100)","v":0.5},{"$f":"IF(I191*V3_TuneBuilder!$B$40/100>V3_TuneBuilder!$B$40*V3_TuneBuilder!$B$41/100,V3_TuneBuilder!$B$40*V3_TuneBuilder!$B$41/100,I191*V3_TuneBuilder!$B$40/100)","v":0.6},{"$f":"IF(J191*V3_TuneBuilder!$B$40/100>V3_TuneBuilder!$B$40*V3_TuneBuilder!$B$41/100,V3_TuneBuilder!$B$40*V3_TuneBuilder!$B$41/100,J191*V3_TuneBuilder!$B$40/100)","v":0.7},{"$f":"IF(K191*V3_TuneBuilder!$B$40/100>V3_TuneBuilder!$B$40*V3_TuneBuilder!$B$41/100,V3_TuneBuilder!$B$40*V3_TuneBuilder!$B$41/100,K191*V3_TuneBuilder!$B$40/100)","v":0.8}]
["8PSI","MaxRPM",0,0,0,0,0,0,0,0,0,0,0,0,0,0,0,0,0,{"$f":"IF(D191*V3_TuneBuilder!$B$40/100>V3_TuneBuilder!$B$40*V3_TuneBuilder!$B$41/100,V3_TuneBuilder!$B$40*V3_TuneBuilder!$B$41/100,D191*V3_TuneBuilder!$B$40/100)","v":0.1},{"$f":"IF(E191*V3_TuneBuilder!$B$40/100>V3_TuneBuilder!$B$40*V3_TuneBuilder!$B$41/100,V3_TuneBuilder!$B$40*V3_TuneBuilder!$B$41/100,E191*V3_TuneBuilder!$B$40/100)","v":0.2},{"$f":"IF(F191*V3_TuneBuilder!$B$40/100>V3_TuneBuilder!$B$40*V3_TuneBuilder!$B$41/100,V3_TuneBuilder!$B$40*V3_TuneBuilder!$B$41/100,F191*V3_TuneBuilder!$B$40/100)","v":0.3},{"$f":"IF(G191*V3_TuneBuilder!$B$40/100>V3_TuneBuilder!$B$40*V3_TuneBuilder!$B$41/100,V3_TuneBuilder!$B$40*V3_TuneBuilder!$B$41/100,G191*V3_TuneBuilder!$B$40/100)","v":0.4}]
["10PSI",null,0,0,0,0,0,0,0,0,0,0,0,0,0,0,0,0,0,0,0,0,0]
[null,"4KV2 Fuel load timing vs rpm"]
[null,null,0,5,10,15,20,25,30,35,40,45,50,55,60,65,70,75,80,85,90,95,100]
["0PSI","1500RPM",0,0,0,0,{"$f":"IF(10*'4KV2_TuneBuilder'!$B$15/100>'4KV2_TuneBuilder'!$B$15*'4KV2_TuneBuilder'!$B$16/100,'4KV2_TuneBuilder'!$B$15*'4KV2_TuneBuilder'!$B$16/100,10*'4KV2_TuneBuilder'!$B$15/100)","v":0.2},{"$f":"IF(20*'4KV2_TuneBuilder'!$B$15/100>'4KV2_TuneBuilder'!$B$15*'4KV2_TuneBuilder'!$B$16/100,'4KV2_TuneBuilder'!$B$15*'4KV2_TuneBuilder'!$B$16/100,20*'4KV2_TuneBuilder'!$B$15/100)","v":0.4},{"$f":"IF(30*'4KV2_TuneBuilder'!$B$15/100>'4KV2_TuneBuilder'!$B$15*'4KV2_TuneBuilder'!$B$16/100,'4KV2_TuneBuilder'!$B$15*'4KV2_TuneBuilder'!$B$16/100,30*'4KV2_TuneBuilder'!$B$15/100)","v":0.6},{"$f":"IF(J199*'4KV2_TuneBuilder'!$B$15/100>'4KV2_TuneBuilder'!$B$15*'4KV2_TuneBuilder'!$B$16/100,'4KV2_TuneBuilder'!$B$15*'4KV2_TuneBuilder'!$B$16/100,J199*'4KV2_TuneBuilder'!$B$15/100)","v":0.7},{"$f":"IF(K199*'4KV2_TuneBuilder'!$B$15/100>'4KV2_TuneBuilder'!$B$15*'4KV2_TuneBuilder'!$B$16/100,'4KV2_TuneBuilder'!$B$15*'4KV2_TuneBuilder'!$B$16/100,K199*'4KV2_TuneBuilder'!$B$15/100)","v":0.8},{"$f":"IF(L199*'4KV2_TuneBuilder'!$B$15/100>'4KV2_TuneBuilder'!$B$15*'4KV2_TuneBuilder'!$B$16/100,'4KV2_TuneBuilder'!$B$15*'4KV2_TuneBuilder'!$B$16/100,L199*'4KV2_TuneBuilder'!$B$15/100)","v":0.9},{"$f":"IF(M199*'4KV2_TuneBuilder'!$B$15/100>'4KV2_TuneBuilder'!$B$15*'4KV2_TuneBuilder'!$B$16/100,'4KV2_TuneBuilder'!$B$15*'4KV2_TuneBuilder'!$B$16/100,M199*'4KV2_TuneBuilder'!$B$15/100)","v":1},{"$f":"IF(N199*'4KV2_TuneBuilder'!$B$15/100>'4KV2_TuneBuilder'!$B$15*'4KV2_TuneBuilder'!$B$16/100,'4KV2_TuneBuilder'!$B$15*'4KV2_TuneBuilder'!$B$16/100,N199*'4KV2_TuneBuilder'!$B$15/100)","v":1.1000000000000001},{"$f":"IF(O199*'4KV2_TuneBuilder'!$B$15/100>'4KV2_TuneBuilder'!$B$15*'4KV2_TuneBuilder'!$B$16/100,'4KV2_TuneBuilder'!$B$15*'4KV2_TuneBuilder'!$B$16/100,O199*'4KV2_TuneBuilder'!$B$15/100)","v":1.2},{"$f":"IF(P199*'4KV2_TuneBuilder'!$B$15/100>'4KV2_TuneBuilder'!$B$15*'4KV2_TuneBuilder'!$B$16/100,'4KV2_TuneBuilder'!$B$15*'4KV2_TuneBuilder'!$B$16/100,P199*'4KV2_TuneBuilder'!$B$15/100)","v":1.3},{"$f":"IF(Q199*'4KV2_TuneBuilder'!$B$15/100>'4KV2_TuneBuilder'!$B$15*'4KV2_TuneBuilder'!$B$16/100,'4KV2_TuneBuilder'!$B$15*'4KV2_TuneBuilder'!$B$16/100,Q199*'4KV2_TuneBuilder'!$B$15/100)","v":1.4},{"$f":"IF(R199*'4KV2_TuneBuilder'!$B$15/100>'4KV2_TuneBuilder'!$B$15*'4KV2_TuneBuilder'!$B$16/100,'4KV2_TuneBuilder'!$B$15*'4KV2_TuneBuilder'!$B$16/100,R199*'4KV2_TuneBuilder'!$B$15/100)","v":1.5},{"$f":"IF(S199*'4KV2_TuneBuilder'!$B$15/100>'4KV2_TuneBuilder'!$B$15*'4KV2_TuneBuilder'!$B$16/100,'4KV2_TuneBuilder'!$B$15*'4KV2_TuneBuilder'!$B$16/100,S199*'4KV2_TuneBuilder'!$B$15/100)","v":1.6},{"$f":"IF(T199*'4KV2_TuneBuilder'!$B$15/100>'4KV2_TuneBuilder'!$B$15*'4KV2_TuneBuilder'!$B$16/100,'4KV2_TuneBuilder'!$B$15*'4KV2_TuneBuilder'!$B$16/100,T199*'4KV2_TuneBuilder'!$B$15/100)","v":1.7},{"$f":"IF(U199*'4KV2_TuneBuilder'!$B$15/100>'4KV2_TuneBuilder'!$B$15*'4KV2_TuneBuilder'!$B$16/100,'4KV2_TuneBuilder'!$B$15*'4KV2_TuneBuilder'!$B$16/100,U199*'4KV2_TuneBuilder'!$B$15/100)","v":1.8},{"$f":"IF(V199*'4KV2_TuneBuilder'!$B$15/100>'4KV2_TuneBuilder'!$B$15*'4KV2_TuneBuilder'!$B$16/100,'4KV2_TuneBuilder'!$B$15*'4KV2_TuneBuilder'!$B$16/100,V199*'4KV2_TuneBuilder'!$B$15/100)","v":1.9},{"$f":"IF(W199*'4KV2_TuneBuilder'!$B$15/100>'4KV2_TuneBuilder'!$B$15*'4KV2_TuneBuilder'!$B$16/100,'4KV2_TuneBuilder'!$B$15*'4KV2_TuneBuilder'!$B$16/100,W199*'4KV2_TuneBuilder'!$B$15/100)","v":2}]
["2PSI","2000RPM",0,0,0,0,0,0,{"$f":"IF(E199*'4KV2_TuneBuilder'!$B$15/100>'4KV2_TuneBuilder'!$B$15*'4KV2_TuneBuilder'!$B$16/100,'4KV2_TuneBuilder'!$B$15*'4KV2_TuneBuilder'!$B$16/100,E199*'4KV2_TuneBuilder'!$B$15/100)","v":0.2},{"$f":"IF(F199*'4KV2_TuneBuilder'!$B$15/100>'4KV2_TuneBuilder'!$B$15*'4KV2_TuneBuilder'!$B$16/100,'4KV2_TuneBuilder'!$B$15*'4KV2_TuneBuilder'!$B$16/100,F199*'4KV2_TuneBuilder'!$B$15/100)","v":0.3},{"$f":"IF(G199*'4KV2_TuneBuilder'!$B$15/100>'4KV2_TuneBuilder'!$B$15*'4KV2_TuneBuilder'!$B$16/100,'4KV2_TuneBuilder'!$B$15*'4KV2_TuneBuilder'!$B$16/100,G199*'4KV2_TuneBuilder'!$B$15/100)","v":0.4},{"$f":"IF(H199*'4KV2_TuneBuilder'!$B$15/100>'4KV2_TuneBuilder'!$B$15*'4KV2_TuneBuilder'!$B$16/100,'4KV2_TuneBuilder'!$B$15*'4KV2_TuneBuilder'!$B$16/100,H199*'4KV2_TuneBuilder'!$B$15/100)","v":0.5},{"$f":"IF(I199*'4KV2_TuneBuilder'!$B$15/100>'4KV2_TuneBuilder'!$B$15*'4KV2_TuneBuilder'!$B$16/100,'4KV2_TuneBuilder'!$B$15*'4KV2_TuneBuilder'!$B$16/100,I199*'4KV2_TuneBuilder'!$B$15/100)","v":0.6},{"$f":"IF(J199*'4KV2_TuneBuilder'!$B$15/100>'4KV2_TuneBuilder'!$B$15*'4KV2_TuneBuilder'!$B$16/100,'4KV2_TuneBuilder'!$B$15*'4KV2_TuneBuilder'!$B$16/100,J199*'4KV2_TuneBuilder'!$B$15/100)","v":0.7},{"$f":"IF(K199*'4KV2_TuneBuilder'!$B$15/100>'4KV2_TuneBuilder'!$B$15*'4KV2_TuneBuilder'!$B$16/100,'4KV2_TuneBuilder'!$B$15*'4KV2_TuneBuilder'!$B$16/100,K199*'4KV2_TuneBuilder'!$B$15/100)","v":0.8},{"$f":"IF(L199*'4KV2_TuneBuilder'!$B$15/100>'4KV2_TuneBuilder'!$B$15*'4KV2_TuneBuilder'!$B$16/100,'4KV2_TuneBuilder'!$B$15*'4KV2_TuneBuilder'!$B$16/100,L199*'4KV2_TuneBuilder'!$B$15/100)","v":0.9},{"$f":"IF(M199*'4KV2_TuneBuilder'!$B$15/100>'4KV2_TuneBuilder'!$B$15*'4KV2_TuneBuilder'!$B$16/100,'4KV2_TuneBuilder'!$B$15*'4KV2_TuneBuilder'!$B$16/100,M199*'4KV2_TuneBuilder'!$B$15/100)","v":1},{"$f":"IF(N199*'4KV2_TuneBuilder'!$B$15/100>'4KV2_TuneBuilder'!$B$15*'4KV2_TuneBuilder'!$B$16/100,'4KV2_TuneBuilder'!$B$15*'4KV2_TuneBuilder'!$B$16/100,N199*'4KV2_TuneBuilder'!$B$15/100)","v":1.1000000000000001},{"$f":"IF(O199*'4KV2_TuneBuilder'!$B$15/100>'4KV2_TuneBuilder'!$B$15*'4KV2_TuneBuilder'!$B$16/100,'4KV2_TuneBuilder'!$B$15*'4KV2_TuneBuilder'!$B$16/100,O199*'4KV2_TuneBuilder'!$B$15/100)","v":1.2},{"$f":"IF(P199*'4KV2_TuneBuilder'!$B$15/100>'4KV2_TuneBuilder'!$B$15*'4KV2_TuneBuilder'!$B$16/100,'4KV2_TuneBuilder'!$B$15*'4KV2_TuneBuilder'!$B$16/100,P199*'4KV2_TuneBuilder'!$B$15/100)","v":1.3},{"$f":"IF(Q199*'4KV2_TuneBuilder'!$B$15/100>'4KV2_TuneBuilder'!$B$15*'4KV2_TuneBuilder'!$B$16/100,'4KV2_TuneBuilder'!$B$15*'4KV2_TuneBuilder'!$B$16/100,Q199*'4KV2_TuneBuilder'!$B$15/100)","v":1.4},{"$f":"IF(R199*'4KV2_TuneBuilder'!$B$15/100>'4KV2_TuneBuilder'!$B$15*'4KV2_TuneBuilder'!$B$16/100,'4KV2_TuneBuilder'!$B$15*'4KV2_TuneBuilder'!$B$16/100,R199*'4KV2_TuneBuilder'!$B$15/100)","v":1.5},{"$f":"IF(S199*'4KV2_TuneBuilder'!$B$15/100>'4KV2_TuneBuilder'!$B$15*'4KV2_TuneBuilder'!$B$16/100,'4KV2_TuneBuilder'!$B$15*'4KV2_TuneBuilder'!$B$16/100,S199*'4KV2_TuneBuilder'!$B$15/100)","v":1.6}]
["4PSI","2500RPM",0,0,0,0,0,0,0,0,0,{"$f":"IF(D199*'4KV2_TuneBuilder'!$B$15/100>'4KV2_TuneBuilder'!$B$15*'4KV2_TuneBuilder'!$B$16/100,'4KV2_TuneBuilder'!$B$15*'4KV2_TuneBuilder'!$B$16/100,D199*'4KV2_TuneBuilder'!$B$15/100)","v":0.1},{"$f":"IF(E199*'4KV2_TuneBuilder'!$B$15/100>'4KV2_TuneBuilder'!$B$15*'4KV2_TuneBuilder'!$B$16/100,'4KV2_TuneBuilder'!$B$15*'4KV2_TuneBuilder'!$B$16/100,E199*'4KV2_TuneBuilder'!$B$15/100)","v":0.2},{"$f":"IF(F199*'4KV2_TuneBuilder'!$B$15/100>'4KV2_TuneBuilder'!$B$15*'4KV2_TuneBuilder'!$B$16/100,'4KV2_TuneBuilder'!$B$15*'4KV2_TuneBuilder'!$B$16/100,F199*'4KV2_TuneBuilder'!$B$15/100)","v":0.3},{"$f":"IF(G199*'4KV2_TuneBuilder'!$B$15/100>'4KV2_TuneBuilder'!$B$15*'4KV2_TuneBuilder'!$B$16/100,'4KV2_TuneBuilder'!$B$15*'4KV2_TuneBuilder'!$B$16/100,G199*'4KV2_TuneBuilder'!$B$15/100)","v":0.4},{"$f":"IF(H199*'4KV2_TuneBuilder'!$B$15/100>'4KV2_TuneBuilder'!$B$15*'4KV2_TuneBuilder'!$B$16/100,'4KV2_TuneBuilder'!$B$15*'4KV2_TuneBuilder'!$B$16/100,H199*'4KV2_TuneBuilder'!$B$15/100)","v":0.5},{"$f":"IF(I199*'4KV2_TuneBuilder'!$B$15/100>'4KV2_TuneBuilder'!$B$15*'4KV2_TuneBuilder'!$B$16/100,'4KV2_TuneBuilder'!$B$15*'4KV2_TuneBuilder'!$B$16/100,I199*'4KV2_TuneBuilder'!$B$15/100)","v":0.6},{"$f":"IF(J199*'4KV2_TuneBuilder'!$B$15/100>'4KV2_TuneBuilder'!$B$15*'4KV2_TuneBuilder'!$B$16/100,'4KV2_TuneBuilder'!$B$15*'4KV2_TuneBuilder'!$B$16/100,J199*'4KV2_TuneBuilder'!$B$15/100)","v":0.7},{"$f":"IF(K199*'4KV2_TuneBuilder'!$B$15/100>'4KV2_TuneBuilder'!$B$15*'4KV2_TuneBuilder'!$B$16/100,'4KV2_TuneBuilder'!$B$15*'4KV2_TuneBuilder'!$B$16/100,K199*'4KV2_TuneBuilder'!$B$15/100)","v":0.8},{"$f":"IF(L199*'4KV2_TuneBuilder'!$B$15/100>'4KV2_TuneBuilder'!$B$15*'4KV2_TuneBuilder'!$B$16/100,'4KV2_TuneBuilder'!$B$15*'4KV2_TuneBuilder'!$B$16/100,L199*'4KV2_TuneBuilder'!$B$15/100)","v":0.9},{"$f":"IF(M199*'4KV2_TuneBuilder'!$B$15/100>'4KV2_TuneBuilder'!$B$15*'4KV2_TuneBuilder'!$B$16/100,'4KV2_TuneBuilder'!$B$15*'4KV2_TuneBuilder'!$B$16/100,M199*'4KV2_TuneBuilder'!$B$15/100)","v":1},{"$f":"IF(N199*'4KV2_TuneBuilder'!$B$15/100>'4KV2_TuneBuilder'!$B$15*'4KV2_TuneBuilder'!$B$16/100,'4KV2_TuneBuilder'!$B$15*'4KV2_TuneBuilder'!$B$16/100,N199*'4KV2_TuneBuilder'!$B$15/100)","v":1.1000000000000001},{"$f":"IF(O199*'4KV2_TuneBuilder'!$B$15/100>'4KV2_TuneBuilder'!$B$15*'4KV2_TuneBuilder'!$B$16/100,'4KV2_TuneBuilder'!$B$15*'4KV2_TuneBuilder'!$B$16/100,O199*'4KV2_TuneBuilder'!$B$15/100)","v":1.2}]
["6PSI","3000RPM",0,0,0,0,0,0,0,0,0,0,0,0,0,{"$f":"IF(D199*'4KV2_TuneBuilder'!$B$15/100>'4KV2_TuneBuilder'!$B$15*'4KV2_TuneBuilder'!$B$16/100,'4KV2_TuneBuilder'!$B$15*'4KV2_TuneBuilder'!$B$16/100,D199*'4KV2_TuneBuilder'!$B$15/100)","v":0.1},{"$f":"IF(E199*'4KV2_TuneBuilder'!$B$15/100>'4KV2_TuneBuilder'!$B$15*'4KV2_TuneBuilder'!$B$16/100,'4KV2_TuneBuilder'!$B$15*'4KV2_TuneBuilder'!$B$16/100,E199*'4KV2_TuneBuilder'!$B$15/100)","v":0.2},{"$f":"IF(F199*'4KV2_TuneBuilder'!$B$15/100>'4KV2_TuneBuilder'!$B$15*'4KV2_TuneBuilder'!$B$16/100,'4KV2_TuneBuilder'!$B$15*'4KV2_TuneBuilder'!$B$16/100,F199*'4KV2_TuneBuilder'!$B$15/100)","v":0.3},{"$f":"IF(G199*'4KV2_TuneBuilder'!$B$15/100>'4KV2_TuneBuilder'!$B$15*'4KV2_TuneBuilder'!$B$16/100,'4KV2_TuneBuilder'!$B$15*'4KV2_TuneBuilder'!$B$16/100,G199*'4KV2_TuneBuilder'!$B$15/100)","v":0.4},{"$f":"IF(H199*'4KV2_TuneBuilder'!$B$15/100>'4KV2_TuneBuilder'!$B$15*'4KV2_TuneBuilder'!$B$16/100,'4KV2_TuneBuilder'!$B$15*'4KV2_TuneBuilder'!$B$16/100,H199*'4KV2_TuneBuilder'!$B$15/100)","v":0.5},{"$f":"IF(I199*'4KV2_TuneBuilder'!$B$15/100>'4KV2_TuneBuilder'!$B$15*'4KV2_TuneBuilder'!$B$16/100,'4KV2_TuneBuilder'!$B$15*'4KV2_TuneBuilder'!$B$16/100,I199*'4KV2_TuneBuilder'!$B$15/100)","v":0.6},{"$f":"IF(J199*'4KV2_TuneBuilder'!$B$15/100>'4KV2_TuneBuilder'!$B$15*'4KV2_TuneBuilder'!$B$16/100,'4KV2_TuneBuilder'!$B$15*'4KV2_TuneBuilder'!$B$16/100,J199*'4KV2_TuneBuilder'!$B$15/100)","v":0.7},{"$f":"IF(K199*'4KV2_TuneBuilder'!$B$15/100>'4KV2_TuneBuilder'!$B$15*'4KV2_TuneBuilder'!$B$16/100,'4KV2_TuneBuilder'!$B$15*'4KV2_TuneBuilder'!$B$16/100,K199*'4KV2_TuneBuilder'!$B$15/100)","v":0.8}]
["8PSI","3500RPM",0,0,0,0,0,0,0,0,0,0,0,0,0,0,0,0,0,{"$f":"IF(D199*'4KV2_TuneBuilder'!$B$15/100>'4KV2_TuneBuilder'!$B$15*'4KV2_TuneBuilder'!$B$16/100,'4KV2_TuneBuilder'!$B$15*'4KV2_TuneBuilder'!$B$16/100,D199*'4KV2_TuneBuilder'!$B$15/100)","v":0.1},{"$f":"IF(E199*'4KV2_TuneBuilder'!$B$15/100>'4KV2_TuneBuilder'!$B$15*'4KV2_TuneBuilder'!$B$16/100,'4KV2_TuneBuilder'!$B$15*'4KV2_TuneBuilder'!$B$16/100,E199*'4KV2_TuneBuilder'!$B$15/100)","v":0.2},{"$f":"IF(F199*'4KV2_TuneBuilder'!$B$15/100>'4KV2_TuneBuilder'!$B$15*'4KV2_TuneBuilder'!$B$16/100,'4KV2_TuneBuilder'!$B$15*'4KV2_TuneBuilder'!$B$16/100,F199*'4KV2_TuneBuilder'!$B$15/100)","v":0.3},{"$f":"IF(G199*'4KV2_TuneBuilder'!$B$15/100>'4KV2_TuneBuilder'!$B$15*'4KV2_TuneBuilder'!$B$16/100,'4KV2_TuneBuilder'!$B$15*'4KV2_TuneBuilder'!$B$16/100,G199*'4KV2_TuneBuilder'!$B$15/100)","v":0.4}]
["10PSI","4000RPM",0,0,0,0,0,0,0,0,0,0,0,0,0,0,0,0,0,0,0,0,0]
[null,"MaxRPM",0,0,0,0,0,0,0,0,0,0,0,0,0,0,0,0,0,0,0,0,0]
[]
[null,"V3 Fuel load timing vs rpm"]
[null,null,0,5,10,15,20,25,30,35,40,45,50,55,60,65,70,75,80,85,90,95,100]
["0PSI","1500RPM",0,0,0,0,{"$f":"IF(10*'4KV3_TuneBuilder'!$B$40/100>'4KV3_TuneBuilder'!$B$40*'4KV3_TuneBuilder'!$B$41/100,'4KV3_TuneBuilder'!$B$40*'4KV3_TuneBuilder'!$B$41/100,10*'4KV3_TuneBuilder'!$B$40/100)","v":0.2},{"$f":"IF(20*'4KV3_TuneBuilder'!$B$40/100>'4KV3_TuneBuilder'!$B$40*'4KV3_TuneBuilder'!$B$41/100,'4KV3_TuneBuilder'!$B$40*'4KV3_TuneBuilder'!$B$41/100,20*'4KV3_TuneBuilder'!$B$40/100)","v":0.4},{"$f":"IF(30*'4KV3_TuneBuilder'!$B$40/100>'4KV3_TuneBuilder'!$B$40*'4KV3_TuneBuilder'!$B$41/100,'4KV3_TuneBuilder'!$B$40*'4KV3_TuneBuilder'!$B$41/100,30*'4KV3_TuneBuilder'!$B$40/100)","v":0.6},{"$f":"IF(J209*'4KV3_TuneBuilder'!$B$40/100>'4KV3_TuneBuilder'!$B$40*'4KV3_TuneBuilder'!$B$41/100,'4KV3_TuneBuilder'!$B$40*'4KV3_TuneBuilder'!$B$41/100,J209*'4KV3_TuneBuilder'!$B$40/100)","v":0.7},{"$f":"IF(K209*'4KV3_TuneBuilder'!$B$40/100>'4KV3_TuneBuilder'!$B$40*'4KV3_TuneBuilder'!$B$41/100,'4KV3_TuneBuilder'!$B$40*'4KV3_TuneBuilder'!$B$41/100,K209*'4KV3_TuneBuilder'!$B$40/100)","v":0.8},{"$f":"IF(L209*'4KV3_TuneBuilder'!$B$40/100>'4KV3_TuneBuilder'!$B$40*'4KV3_TuneBuilder'!$B$41/100,'4KV3_TuneBuilder'!$B$40*'4KV3_TuneBuilder'!$B$41/100,L209*'4KV3_TuneBuilder'!$B$40/100)","v":0.9},{"$f":"IF(M209*'4KV3_TuneBuilder'!$B$40/100>'4KV3_TuneBuilder'!$B$40*'4KV3_TuneBuilder'!$B$41/100,'4KV3_TuneBuilder'!$B$40*'4KV3_TuneBuilder'!$B$41/100,M209*'4KV3_TuneBuilder'!$B$40/100)","v":1},{"$f":"IF(N209*'4KV3_TuneBuilder'!$B$40/100>'4KV3_TuneBuilder'!$B$40*'4KV3_TuneBuilder'!$B$41/100,'4KV3_TuneBuilder'!$B$40*'4KV3_TuneBuilder'!$B$41/100,N209*'4KV3_TuneBuilder'!$B$40/100)","v":1.1000000000000001},{"$f":"IF(O209*'4KV3_TuneBuilder'!$B$40/100>'4KV3_TuneBuilder'!$B$40*'4KV3_TuneBuilder'!$B$41/100,'4KV3_TuneBuilder'!$B$40*'4KV3_TuneBuilder'!$B$41/100,O209*'4KV3_TuneBuilder'!$B$40/100)","v":1.2},{"$f":"IF(P209*'4KV3_TuneBuilder'!$B$40/100>'4KV3_TuneBuilder'!$B$40*'4KV3_TuneBuilder'!$B$41/100,'4KV3_TuneBuilder'!$B$40*'4KV3_TuneBuilder'!$B$41/100,P209*'4KV3_TuneBuilder'!$B$40/100)","v":1.3},{"$f":"IF(Q209*'4KV3_TuneBuilder'!$B$40/100>'4KV3_TuneBuilder'!$B$40*'4KV3_TuneBuilder'!$B$41/100,'4KV3_TuneBuilder'!$B$40*'4KV3_TuneBuilder'!$B$41/100,Q209*'4KV3_TuneBuilder'!$B$40/100)","v":1.4},{"$f":"IF(R209*'4KV3_TuneBuilder'!$B$40/100>'4KV3_TuneBuilder'!$B$40*'4KV3_TuneBuilder'!$B$41/100,'4KV3_TuneBuilder'!$B$40*'4KV3_TuneBuilder'!$B$41/100,R209*'4KV3_TuneBuilder'!$B$40/100)","v":1.5},{"$f":"IF(S209*'4KV3_TuneBuilder'!$B$40/100>'4KV3_TuneBuilder'!$B$40*'4KV3_TuneBuilder'!$B$41/100,'4KV3_TuneBuilder'!$B$40*'4KV3_TuneBuilder'!$B$41/100,S209*'4KV3_TuneBuilder'!$B$40/100)","v":1.6},{"$f":"IF(T209*'4KV3_TuneBuilder'!$B$40/100>'4KV3_TuneBuilder'!$B$40*'4KV3_TuneBuilder'!$B$41/100,'4KV3_TuneBuilder'!$B$40*'4KV3_TuneBuilder'!$B$41/100,T209*'4KV3_TuneBuilder'!$B$40/100)","v":1.7},{"$f":"IF(U209*'4KV3_TuneBuilder'!$B$40/100>'4KV3_TuneBuilder'!$B$40*'4KV3_TuneBuilder'!$B$41/100,'4KV3_TuneBuilder'!$B$40*'4KV3_TuneBuilder'!$B$41/100,U209*'4KV3_TuneBuilder'!$B$40/100)","v":1.8},{"$f":"IF(V209*'4KV3_TuneBuilder'!$B$40/100>'4KV3_TuneBuilder'!$B$40*'4KV3_TuneBuilder'!$B$41/100,'4KV3_TuneBuilder'!$B$40*'4KV3_TuneBuilder'!$B$41/100,V209*'4KV3_TuneBuilder'!$B$40/100)","v":1.9},{"$f":"IF(W209*'4KV3_TuneBuilder'!$B$40/100>'4KV3_TuneBuilder'!$B$40*'4KV3_TuneBuilder'!$B$41/100,'4KV3_TuneBuilder'!$B$40*'4KV3_TuneBuilder'!$B$41/100,W209*'4KV3_TuneBuilder'!$B$40/100)","v":2}]
["2PSI","2000RPM",0,0,0,0,0,0,{"$f":"IF(E209*'4KV3_TuneBuilder'!$B$40/100>'4KV3_TuneBuilder'!$B$40*'4KV3_TuneBuilder'!$B$41/100,'4KV3_TuneBuilder'!$B$40*'4KV3_TuneBuilder'!$B$41/100,E209*'4KV3_TuneBuilder'!$B$40/100)","v":0.2},{"$f":"IF(F209*'4KV3_TuneBuilder'!$B$40/100>'4KV3_TuneBuilder'!$B$40*'4KV3_TuneBuilder'!$B$41/100,'4KV3_TuneBuilder'!$B$40*'4KV3_TuneBuilder'!$B$41/100,F209*'4KV3_TuneBuilder'!$B$40/100)","v":0.3},{"$f":"IF(G209*'4KV3_TuneBuilder'!$B$40/100>'4KV3_TuneBuilder'!$B$40*'4KV3_TuneBuilder'!$B$41/100,'4KV3_TuneBuilder'!$B$40*'4KV3_TuneBuilder'!$B$41/100,G209*'4KV3_TuneBuilder'!$B$40/100)","v":0.4},{"$f":"IF(H209*'4KV3_TuneBuilder'!$B$40/100>'4KV3_TuneBuilder'!$B$40*'4KV3_TuneBuilder'!$B$41/100,'4KV3_TuneBuilder'!$B$40*'4KV3_TuneBuilder'!$B$41/100,H209*'4KV3_TuneBuilder'!$B$40/100)","v":0.5},{"$f":"IF(I209*'4KV3_TuneBuilder'!$B$40/100>'4KV3_TuneBuilder'!$B$40*'4KV3_TuneBuilder'!$B$41/100,'4KV3_TuneBuilder'!$B$40*'4KV3_TuneBuilder'!$B$41/100,I209*'4KV3_TuneBuilder'!$B$40/100)","v":0.6},{"$f":"IF(J209*'4KV3_TuneBuilder'!$B$40/100>'4KV3_TuneBuilder'!$B$40*'4KV3_TuneBuilder'!$B$41/100,'4KV3_TuneBuilder'!$B$40*'4KV3_TuneBuilder'!$B$41/100,J209*'4KV3_TuneBuilder'!$B$40/100)","v":0.7},{"$f":"IF(K209*'4KV3_TuneBuilder'!$B$40/100>'4KV3_TuneBuilder'!$B$40*'4KV3_TuneBuilder'!$B$41/100,'4KV3_TuneBuilder'!$B$40*'4KV3_TuneBuilder'!$B$41/100,K209*'4KV3_TuneBuilder'!$B$40/100)","v":0.8},{"$f":"IF(L209*'4KV3_TuneBuilder'!$B$40/100>'4KV3_TuneBuilder'!$B$40*'4KV3_TuneBuilder'!$B$41/100,'4KV3_TuneBuilder'!$B$40*'4KV3_TuneBuilder'!$B$41/100,L209*'4KV3_TuneBuilder'!$B$40/100)","v":0.9},{"$f":"IF(M209*'4KV3_TuneBuilder'!$B$40/100>'4KV3_TuneBuilder'!$B$40*'4KV3_TuneBuilder'!$B$41/100,'4KV3_TuneBuilder'!$B$40*'4KV3_TuneBuilder'!$B$41/100,M209*'4KV3_TuneBuilder'!$B$40/100)","v":1},{"$f":"IF(N209*'4KV3_TuneBuilder'!$B$40/100>'4KV3_TuneBuilder'!$B$40*'4KV3_TuneBuilder'!$B$41/100,'4KV3_TuneBuilder'!$B$40*'4KV3_TuneBuilder'!$B$41/100,N209*'4KV3_TuneBuilder'!$B$40/100)","v":1.1000000000000001},{"$f":"IF(O209*'4KV3_TuneBuilder'!$B$40/100>'4KV3_TuneBuilder'!$B$40*'4KV3_TuneBuilder'!$B$41/100,'4KV3_TuneBuilder'!$B$40*'4KV3_TuneBuilder'!$B$41/100,O209*'4KV3_TuneBuilder'!$B$40/100)","v":1.2},{"$f":"IF(P209*'4KV3_TuneBuilder'!$B$40/100>'4KV3_TuneBuilder'!$B$40*'4KV3_TuneBuilder'!$B$41/100,'4KV3_TuneBuilder'!$B$40*'4KV3_TuneBuilder'!$B$41/100,P209*'4KV3_TuneBuilder'!$B$40/100)","v":1.3},{"$f":"IF(Q209*'4KV3_TuneBuilder'!$B$40/100>'4KV3_TuneBuilder'!$B$40*'4KV3_TuneBuilder'!$B$41/100,'4KV3_TuneBuilder'!$B$40*'4KV3_TuneBuilder'!$B$41/100,Q209*'4KV3_TuneBuilder'!$B$40/100)","v":1.4},{"$f":"IF(R209*'4KV3_TuneBuilder'!$B$40/100>'4KV3_TuneBuilder'!$B$40*'4KV3_TuneBuilder'!$B$41/100,'4KV3_TuneBuilder'!$B$40*'4KV3_TuneBuilder'!$B$41/100,R209*'4KV3_TuneBuilder'!$B$40/100)","v":1.5},{"$f":"IF(S209*'4KV3_TuneBuilder'!$B$40/100>'4KV3_TuneBuilder'!$B$40*'4KV3_TuneBuilder'!$B$41/100,'4KV3_TuneBuilder'!$B$40*'4KV3_TuneBuilder'!$B$41/100,S209*'4KV3_TuneBuilder'!$B$40/100)","v":1.6}]
["4PSI","2500RPM",0,0,0,0,0,0,0,0,0,{"$f":"IF(D209*'4KV3_TuneBuilder'!$B$40/100>'4KV3_TuneBuilder'!$B$40*'4KV3_TuneBuilder'!$B$41/100,'4KV3_TuneBuilder'!$B$40*'4KV3_TuneBuilder'!$B$41/100,D209*'4KV3_TuneBuilder'!$B$40/100)","v":0.1},{"$f":"IF(E209*'4KV3_TuneBuilder'!$B$40/100>'4KV3_TuneBuilder'!$B$40*'4KV3_TuneBuilder'!$B$41/100,'4KV3_TuneBuilder'!$B$40*'4KV3_TuneBuilder'!$B$41/100,E209*'4KV3_TuneBuilder'!$B$40/100)","v":0.2},{"$f":"IF(F209*'4KV3_TuneBuilder'!$B$40/100>'4KV3_TuneBuilder'!$B$40*'4KV3_TuneBuilder'!$B$41/100,'4KV3_TuneBuilder'!$B$40*'4KV3_TuneBuilder'!$B$41/100,F209*'4KV3_TuneBuilder'!$B$40/100)","v":0.3},{"$f":"IF(G209*'4KV3_TuneBuilder'!$B$40/100>'4KV3_TuneBuilder'!$B$40*'4KV3_TuneBuilder'!$B$41/100,'4KV3_TuneBuilder'!$B$40*'4KV3_TuneBuilder'!$B$41/100,G209*'4KV3_TuneBuilder'!$B$40/100)","v":0.4},{"$f":"IF(H209*'4KV3_TuneBuilder'!$B$40/100>'4KV3_TuneBuilder'!$B$40*'4KV3_TuneBuilder'!$B$41/100,'4KV3_TuneBuilder'!$B$40*'4KV3_TuneBuilder'!$B$41/100,H209*'4KV3_TuneBuilder'!$B$40/100)","v":0.5},{"$f":"IF(I209*'4KV3_TuneBuilder'!$B$40/100>'4KV3_TuneBuilder'!$B$40*'4KV3_TuneBuilder'!$B$41/100,'4KV3_TuneBuilder'!$B$40*'4KV3_TuneBuilder'!$B$41/100,I209*'4KV3_TuneBuilder'!$B$40/100)","v":0.6},{"$f":"IF(J209*'4KV3_TuneBuilder'!$B$40/100>'4KV3_TuneBuilder'!$B$40*'4KV3_TuneBuilder'!$B$41/100,'4KV3_TuneBuilder'!$B$40*'4KV3_TuneBuilder'!$B$41/100,J209*'4KV3_TuneBuilder'!$B$40/100)","v":0.7},{"$f":"IF(K209*'4KV3_TuneBuilder'!$B$40/100>'4KV3_TuneBuilder'!$B$40*'4KV3_TuneBuilder'!$B$41/100,'4KV3_TuneBuilder'!$B$40*'4KV3_TuneBuilder'!$B$41/100,K209*'4KV3_TuneBuilder'!$B$40/100)","v":0.8},{"$f":"IF(L209*'4KV3_TuneBuilder'!$B$40/100>'4KV3_TuneBuilder'!$B$40*'4KV3_TuneBuilder'!$B$41/100,'4KV3_TuneBuilder'!$B$40*'4KV3_TuneBuilder'!$B$41/100,L209*'4KV3_TuneBuilder'!$B$40/100)","v":0.9},{"$f":"IF(M209*'4KV3_TuneBuilder'!$B$40/100>'4KV3_TuneBuilder'!$B$40*'4KV3_TuneBuilder'!$B$41/100,'4KV3_TuneBuilder'!$B$40*'4KV3_TuneBuilder'!$B$41/100,M209*'4KV3_TuneBuilder'!$B$40/100)","v":1},{"$f":"IF(N209*'4KV3_TuneBuilder'!$B$40/100>'4KV3_TuneBuilder'!$B$40*'4KV3_TuneBuilder'!$B$41/100,'4KV3_TuneBuilder'!$B$40*'4KV3_TuneBuilder'!$B$41/100,N209*'4KV3_TuneBuilder'!$B$40/100)","v":1.1000000000000001},{"$f":"IF(O209*'4KV3_TuneBuilder'!$B$40/100>'4KV3_TuneBuilder'!$B$40*'4KV3_TuneBuilder'!$B$41/100,'4KV3_TuneBuilder'!$B$40*'4KV3_TuneBuilder'!$B$41/100,O209*'4KV3_TuneBuilder'!$B$40/100)","v":1.2}]
["6PSI","3000RPM",0,0,0,0,0,0,0,0,0,0,0,0,0,{"$f":"IF(D209*'4KV3_TuneBuilder'!$B$40/100>'4KV3_TuneBuilder'!$B$40*'4KV3_TuneBuilder'!$B$41/100,'4KV3_TuneBuilder'!$B$40*'4KV3_TuneBuilder'!$B$41/100,D209*'4KV3_TuneBuilder'!$B$40/100)","v":0.1},{"$f":"IF(E209*'4KV3_TuneBuilder'!$B$40/100>'4KV3_TuneBuilder'!$B$40*'4KV3_TuneBuilder'!$B$41/100,'4KV3_TuneBuilder'!$B$40*'4KV3_TuneBuilder'!$B$41/100,E209*'4KV3_TuneBuilder'!$B$40/100)","v":0.2},{"$f":"IF(F209*'4KV3_TuneBuilder'!$B$40/100>'4KV3_TuneBuilder'!$B$40*'4KV3_TuneBuilder'!$B$41/100,'4KV3_TuneBuilder'!$B$40*'4KV3_TuneBuilder'!$B$41/100,F209*'4KV3_TuneBuilder'!$B$40/100)","v":0.3},{"$f":"IF(G209*'4KV3_TuneBuilder'!$B$40/100>'4KV3_TuneBuilder'!$B$40*'4KV3_TuneBuilder'!$B$41/100,'4KV3_TuneBuilder'!$B$40*'4KV3_TuneBuilder'!$B$41/100,G209*'4KV3_TuneBuilder'!$B$40/100)","v":0.4},{"$f":"IF(H209*'4KV3_TuneBuilder'!$B$40/100>'4KV3_TuneBuilder'!$B$40*'4KV3_TuneBuilder'!$B$41/100,'4KV3_TuneBuilder'!$B$40*'4KV3_TuneBuilder'!$B$41/100,H209*'4KV3_TuneBuilder'!$B$40/100)","v":0.5},{"$f":"IF(I209*'4KV3_TuneBuilder'!$B$40/100>'4KV3_TuneBuilder'!$B$40*'4KV3_TuneBuilder'!$B$41/100,'4KV3_TuneBuilder'!$B$40*'4KV3_TuneBuilder'!$B$41/100,I209*'4KV3_TuneBuilder'!$B$40/100)","v":0.6},{"$f":"IF(J209*'4KV3_TuneBuilder'!$B$40/100>'4KV3_TuneBuilder'!$B$40*'4KV3_TuneBuilder'!$B$41/100,'4KV3_TuneBuilder'!$B$40*'4KV3_TuneBuilder'!$B$41/100,J209*'4KV3_TuneBuilder'!$B$40/100)","v":0.7},{"$f":"IF(K209*'4KV3_TuneBuilder'!$B$40/100>'4KV3_TuneBuilder'!$B$40*'4KV3_TuneBuilder'!$B$41/100,'4KV3_TuneBuilder'!$B$40*'4KV3_TuneBuilder'!$B$41/100,K209*'4KV3_TuneBuilder'!$B$40/100)","v":0.8}]
["8PSI","3500RPM",0,0,0,0,0,0,0,0,0,0,0,0,0,0,0,0,0,{"$f":"IF(D209*'4KV3_TuneBuilder'!$B$40/100>'4KV3_TuneBuilder'!$B$40*'4KV3_TuneBuilder'!$B$41/100,'4KV3_TuneBuilder'!$B$40*'4KV3_TuneBuilder'!$B$41/100,D209*'4KV3_TuneBuilder'!$B$40/100)","v":0.1},{"$f":"IF(E209*'4KV3_TuneBuilder'!$B$40/100>'4KV3_TuneBuilder'!$B$40*'4KV3_TuneBuilder'!$B$41/100,'4KV3_TuneBuilder'!$B$40*'4KV3_TuneBuilder'!$B$41/100,E209*'4KV3_TuneBuilder'!$B$40/100)","v":0.2},{"$f":"IF(F209*'4KV3_TuneBuilder'!$B$40/100>'4KV3_TuneBuilder'!$B$40*'4KV3_TuneBuilder'!$B$41/100,'4KV3_TuneBuilder'!$B$40*'4KV3_TuneBuilder'!$B$41/100,F209*'4KV3_TuneBuilder'!$B$40/100)","v":0.3},{"$f":"IF(G209*'4KV3_TuneBuilder'!$B$40/100>'4KV3_TuneBuilder'!$B$40*'4KV3_TuneBuilder'!$B$41/100,'4KV3_TuneBuilder'!$B$40*'4KV3_TuneBuilder'!$B$41/100,G209*'4KV3_TuneBuilder'!$B$40/100)","v":0.4}]
["10PSI","4000RPM",0,0,0,0,0,0,0,0,0,0,0,0,0,0,0,0,0,0,0,0,0]
[null,"MaxRPM",{"$f":"IF(C$209<='4KV3_TuneBuilder'!B$43,(((100-C$209)/100)*'4KV3_TuneBuilder'!$B$42)+'4KV3_TuneBuilder'!$B51,('4KV3_TuneBuilder'!$B51-('4KV3_TuneBuilder'!$B$39*C$209)/100))","v":28},{"$f":"IF(D$209<='4KV3_TuneBuilder'!J$6,(((100-D$209)/100)*'4KV3_TuneBuilder'!$B$42)+'4KV3_TuneBuilder'!$B51,('4KV3_TuneBuilder'!$B51-'4KV3_TuneBuilder'!$B$39+('4KV3_TuneBuilder'!$B$39*D$209)/100))","v":27.9},{"$f":"IF(E$209<='4KV3_TuneBuilder'!K$6,(((100-E$209)/100)*'4KV3_TuneBuilder'!$B$42)+'4KV3_TuneBuilder'!$B51,('4KV3_TuneBuilder'!$B51-'4KV3_TuneBuilder'!$B$39+('4KV3_TuneBuilder'!$B$39*E$209)/100))","v":27.8},{"$f":"IF(F$209<='4KV3_TuneBuilder'!K$7,(((100-F$209)/100)*'4KV3_TuneBuilder'!$B$42)+'4KV3_TuneBuilder'!$B51,('4KV3_TuneBuilder'!$B51-'4KV3_TuneBuilder'!$B$39+('4KV3_TuneBuilder'!$B$39*F$209)/100))","v":27.7},{"$f":"IF(G$209<='4KV3_TuneBuilder'!F$43,(((100-G$209)/100)*'4KV3_TuneBuilder'!$B$42)+'4KV3_TuneBuilder'!$B51,('4KV3_TuneBuilder'!$B51-'4KV3_TuneBuilder'!$B$39+('4KV3_TuneBuilder'!$B$39*G$209)/100))","v":24.4},{"$f":"IF(H$209<='4KV3_TuneBuilder'!G$43,(((100-H$209)/100)*'4KV3_TuneBuilder'!$B$42)+'4KV3_TuneBuilder'!$B51,('4KV3_TuneBuilder'!$B51-'4KV3_TuneBuilder'!$B$39+('4KV3_TuneBuilder'!$B$39*H$209)/100))","v":24.5},{"$f":"IF(I$209<='4KV3_TuneBuilder'!H$43,(((100-I$209)/100)*'4KV3_TuneBuilder'!$B$42)+'4KV3_TuneBuilder'!$B51,('4KV3_TuneBuilder'!$B51-'4KV3_TuneBuilder'!$B$39+('4KV3_TuneBuilder'!$B$39*I$209)/100))","v":24.6},{"$f":"IF(J$209<='4KV3_TuneBuilder'!I$43,(((100-J$209)/100)*'4KV3_TuneBuilder'!$B$42)+'4KV3_TuneBuilder'!$B51,('4KV3_TuneBuilder'!$B51-'4KV3_TuneBuilder'!$B$39+('4KV3_TuneBuilder'!$B$39*J$209)/100))","v":24.7},{"$f":"IF(K$209<='4KV3_TuneBuilder'!J$43,(((100-K$209)/100)*'4KV3_TuneBuilder'!$B$42)+'4KV3_TuneBuilder'!$B51,('4KV3_TuneBuilder'!$B51-'4KV3_TuneBuilder'!$B$39+('4KV3_TuneBuilder'!$B$39*K$209)/100))","v":24.8},{"$f":"IF(L$209<='4KV3_TuneBuilder'!K$43,(((100-L$209)/100)*'4KV3_TuneBuilder'!$B$42)+'4KV3_TuneBuilder'!$B51,('4KV3_TuneBuilder'!$B51-'4KV3_TuneBuilder'!$B$39+('4KV3_TuneBuilder'!$B$39*L$209)/100))","v":24.9},{"$f":"IF(M$209<='4KV3_TuneBuilder'!L$43,(((100-M$209)/100)*'4KV3_TuneBuilder'!$B$42)+'4KV3_TuneBuilder'!$B51,('4KV3_TuneBuilder'!$B51-'4KV3_TuneBuilder'!$B$39+('4KV3_TuneBuilder'!$B$39*M$209)/100))","v":25},{"$f":"IF(N$209<='4KV3_TuneBuilder'!M$43,(((100-N$209)/100)*'4KV3_TuneBuilder'!$B$42)+'4KV3_TuneBuilder'!$B51,('4KV3_TuneBuilder'!$B51-'4KV3_TuneBuilder'!$B$39+('4KV3_TuneBuilder'!$B$39*N$209)/100))","v":25.1},{"$f":"IF(O$209<='4KV3_TuneBuilder'!N$43,(((100-O$209)/100)*'4KV3_TuneBuilder'!$B$42)+'4KV3_TuneBuilder'!$B51,('4KV3_TuneBuilder'!$B51-'4KV3_TuneBuilder'!$B$39+('4KV3_TuneBuilder'!$B$39*O$209)/100))","v":25.2},{"$f":"IF(P$209<='4KV3_TuneBuilder'!O$43,(((100-P$209)/100)*'4KV3_TuneBuilder'!$B$42)+'4KV3_TuneBuilder'!$B51,('4KV3_TuneBuilder'!$B51-'4KV3_TuneBuilder'!$B$39+('4KV3_TuneBuilder'!$B$39*P$209)/100))","v":25.3},{"$f":"IF(Q$209<='4KV3_TuneBuilder'!P$43,(((100-Q$209)/100)*'4KV3_TuneBuilder'!$B$42)+'4KV3_TuneBuilder'!$B51,('4KV3_TuneBuilder'!$B51-'4KV3_TuneBuilder'!$B$39+('4KV3_TuneBuilder'!$B$39*Q$209)/100))","v":25.4},{"$f":"IF(R$209<='4KV3_TuneBuilder'!Q$43,(((100-R$209)/100)*'4KV3_TuneBuilder'!$B$42)+'4KV3_TuneBuilder'!$B51,('4KV3_TuneBuilder'!$B51-'4KV3_TuneBuilder'!$B$39+('4KV3_TuneBuilder'!$B$39*R$209)/100))","v":25.5},{"$f":"IF(S$209<='4KV3_TuneBuilder'!R$43,(((100-S$209)/100)*'4KV3_TuneBuilder'!$B$42)+'4KV3_TuneBuilder'!$B51,('4KV3_TuneBuilder'!$B51-'4KV3_TuneBuilder'!$B$39+('4KV3_TuneBuilder'!$B$39*S$209)/100))","v":25.6},{"$f":"IF(T$209<='4KV3_TuneBuilder'!S$43,(((100-T$209)/100)*'4KV3_TuneBuilder'!$B$42)+'4KV3_TuneBuilder'!$B51,('4KV3_TuneBuilder'!$B51-'4KV3_TuneBuilder'!$B$39+('4KV3_TuneBuilder'!$B$39*T$209)/100))","v":25.7},{"$f":"IF(U$209<='4KV3_TuneBuilder'!T$43,(((100-U$209)/100)*'4KV3_TuneBuilder'!$B$42)+'4KV3_TuneBuilder'!$B51,('4KV3_TuneBuilder'!$B51-'4KV3_TuneBuilder'!$B$39+('4KV3_TuneBuilder'!$B$39*U$209)/100))","v":25.8},{"$f":"IF(V$209<='4KV3_TuneBuilder'!U$43,(((100-V$209)/100)*'4KV3_TuneBuilder'!$B$42)+'4KV3_TuneBuilder'!$B51,('4KV3_TuneBuilder'!$B51-'4KV3_TuneBuilder'!$B$39+('4KV3_TuneBuilder'!$B$39*V$209)/100))","v":25.9},{"$f":"IF(W$209<='4KV3_TuneBuilder'!V$43,(((100-W$209)/100)*'4KV3_TuneBuilder'!$B$42)+'4KV3_TuneBuilder'!$B51,('4KV3_TuneBuilder'!$B51-'4KV3_TuneBuilder'!$B$39+('4KV3_TuneBuilder'!$B$39*W$209)/100))","v":26}]

{"sheet":"V2_TuneBuilder","index":6,"n_rows":49,"n_cols":11,"rows_kept":49,"cut":false,"hidden":true,"merged":[[6,8,6,9]]}
["7x012 vgt daily",null,null,null,null,"RPM","Timing Input","Respective Timing",null,"Timing Calculator"]
["Number of Power Levels",12,null,null,null,"1500RPM",{"$f":"B20","v":15},{"$f":"GraphBuild!B92","v":16.420000000000002},null,"Load %",29]
["RPM Limit",3200,null,null,null,"2000RPM",{"$f":"B21","v":18},{"$f":"GraphBuild!B93","v":19.420000000000002},null,"PSI",0]
["Valet Mode",null,null,null,null,"2500RPM",{"$f":"B22","v":21},{"$f":"GraphBuild!B94","v":22.42},null,"TPS %",1]
["Maximum Valet Mode Power",50,null,null,null,"3000RPM",{"$f":"B23","v":23},{"$f":"GraphBuild!B95","v":24.42},null,"MPH",35]
["Pump Tap Parameters List",null,null,null,null,"MAX",{"$f":"B24","v":26},{"$f":"GraphBuild!B96","v":27.42},null,"RPM",2000]
["Maximum Fuel Stretch",1800,null,null,null,null,null,null,"Exact Timing at RPM",null,{"$f":"GraphBuild!F90","v":19.426000000000002}]
["TPS Pump Maximum",100]
["TPS Pump Minimum",10]
["Min Pump Tap Fueling %",10]
["Pump Tap Min PSI",5]
["Boost Scaling",38]
["Timing Parameters"]
["Fuel Load Timing",2]
["Low PSI Timing Reduct",2]
["Timing Reduct Scaling",100]
["LightThrottle Timing Adv",2]
["Light Throttle Limit",30]
["Timing Equilzer"]
["1500RPM",15]
["2000RPM",18]
["2500RPM",21]
["3000RPM",23]
["MAX",26]
["Boost Level Fueling - CAN Bus"]
["0 PSI",101]
["1 PSI",103]
["2 PSI",105]
["3 PSI",107]
["4 PSI",110]
["5 PSI",113]
["6 PSI",116]
["7 PSI",119]
["8 PSI",122]
["9 PSI",125]
["10 PSI",128]
["11 PSI",131]
["12 PSI",134]
["13 PSI",137]
["14 PSI",140]
["15 PSI",143]
["16 PSI",146]
["18 PSI",149]
["20 PSI",150]
["22 PSI",150]
["24 PSI",150]
["26 PSI",150]
["28 PSI",150]
["30+ PSI",150]

{"sheet":"V3_TuneBuilder","index":7,"n_rows":74,"n_cols":11,"rows_kept":74,"cut":false,"hidden":true,"merged":[]}
["Daily",null,null,null,null,"RPM","Timing Input","Timing Given Inputs",null,"Timing Calculator"]
["Number of Power Levels",12,null,null,null,"1500RPM",{"$f":"B45","v":15},{"$f":"GraphBuild!B106","v":13.58},null,"Load %",29]
["RPM Limit",3200,null,null,null,"2000RPM",{"$f":"B46","v":18},{"$f":"GraphBuild!B107","v":16.579999999999998},null,"PSI",0]
["Valet Mode",null,null,null,null,"2500RPM",{"$f":"B47","v":21},{"$f":"GraphBuild!B108","v":19.579999999999998},null,"TPS %",1]
["Maximum Valet Mode Power",50,null,null,null,"3000RPM",{"$f":"B48","v":23},{"$f":"GraphBuild!B109","v":21.58},null,"MPH",35]
["Pump Tap Parameters List",null,null,null,null,"MAX",{"$f":"B49","v":26},{"$f":"GraphBuild!B110","v":24.58},null,"RPM",2000]
["Maximum Fuel Stretch",1800,null,null,null,null,null,null,null,"Exact Timing At RPM",{"$f":"GraphBuild!F104","v":16.585999999999999}]
["TPS Pump Maximum",100]
["TPS Pump Minimum",10]
["Pump Tap Min PSI",5]
["Boost Scaling",38]
["Wiretap PSI Equlizer"]
["1 PSI ",4]
["2 PSI ",8]
["3 PSI ",12]
["4 PSI ",16]
["5 PSI ",20]
["6 PSI ",24]
["7 PSI ",28]
["8 PSI ",32]
["9 PSI ",36]
["10 PSI ",40]
["12 PSI ",44]
["14 PSI ",48]
["16 PSI ",52]
["18 PSI ",56]
["20 PSI ",60]
["22 PSI ",64]
["24 PSI ",68]
["26 PSI ",72]
["28 PSI ",76]
["30 PSI ",80]
["32 PSI ",84]
["34 PSI ",88]
["36 PSI ",92]
["38 PSI ",96]
["40 PSI ",100]
["Timing Parameters"]
["Fuel Load Timing",2]
["Low PSI Timing Reduct",2]
["Timing Reduct Scaling",100]
["LightThrottle Timing Adv",2]
["Light Throttle Limit",5]
["Timing Equilzer"]
["1500RPM",15]
["2000RPM",18]
["2500RPM",21]
["3000RPM",23]
["MAX",26]
["Boost Level Fueling - CAN Bus"]
["0 PSI",101]
["1 PSI",103]
["2 PSI",105]
["3 PSI",107]
["4 PSI",110]
["5 PSI",113]
["6 PSI",116]
["7 PSI",119]
["8 PSI",122]
["9 PSI",125]
["10 PSI",128]
["11 PSI",131]
["12 PSI",134]
["13 PSI",137]
["14 PSI",140]
["15 PSI",143]
["16 PSI",146]
["18 PSI",149]
["20 PSI",150]
["22 PSI",150]
["24 PSI",150]
["26 PSI",150]
["28 PSI",150]
["30+ PSI",150]

{"sheet":"4KV2_TuneBuilder","index":8,"n_rows":51,"n_cols":11,"rows_kept":51,"cut":false,"hidden":true,"merged":[]}
["test4k",null,null,null,null,"RPM","Timing Input","Timing Given Inputs",null,"Timing Calculator"]
["Number of Power Levels",12,null,null,null,"1500RPM",{"$f":"B20","v":15},{"$f":"GraphBuild!B136","v":13.5},null,"Load %",29]
["RPM Limit",4200,null,null,null,"2000RPM",18,{"$f":"GraphBuild!B137","v":16.5},null,"PSI",0]
["Valet Mode",null,null,null,null,"2500RPM",21,{"$f":"GraphBuild!B138","v":19.5},null,"TPS %",1]
["Maximum Valet Mode Power",50,null,null,null,"3000RPM",23,{"$f":"GraphBuild!B139","v":21.5},null,"MPH",35]
["Pump Tap Parameters List",null,null,null,null,"3500RPM",24,{"$f":"GraphBuild!B140","v":25.42},null,"RPM",2000]
["Maximum Fuel Stretch",4400,null,null,null,"4000RPM",25,{"$f":"GraphBuild!B141","v":26.42},null,"Timing at Given Input",{"$f":"GraphBuild!F118","v":19.426000000000002}]
["TPS Pump Maximum",100,null,null,null,"MAX",26,{"$f":"GraphBuild!B142","v":27.42}]
["TPS Pump Minimum",10]
["Min Pump Tap Fueling %",10]
["Pump Tap Min PSI",5]
["Boost Scaling",38]
["Timing Parameters"]
["Fuel Load Timing",2]
["Low PSI Timing Reduct",2]
["Timing Reduct Scaling",100]
["LightThrottle Timing Adv",2]
["Light Throttle Limit",30]
["Timing Equilzer"]
["1500RPM",15]
["2000RPM",18]
["2500RPM",21]
["3000RPM",23]
["3500RPM",24]
["4000RPM",25]
["MAX",26]
["Boost Level Fueling - CAN Bus"]
["0 PSI",101]
["1 PSI",103]
["2 PSI",105]
["3 PSI",107]
["4 PSI",110]
["5 PSI",113]
["6 PSI",116]
["7 PSI",119]
["8 PSI",122]
["9 PSI",125]
["10 PSI",128]
["11 PSI",131]
["12 PSI",134]
["13 PSI",137]
["14 PSI",140]
["15 PSI",143]
["16 PSI",146]
["18 PSI",149]
["20 PSI",150]
["22 PSI",150]
["24 PSI",150]
["26 PSI",150]
["28 PSI",150]
["30+ PSI",150]

{"sheet":"4KV3_TuneBuilder","index":9,"n_rows":76,"n_cols":11,"rows_kept":76,"cut":false,"hidden":true,"merged":[]}
["Daily",null,null,null,null,"RPM","Timing Input","Timing Inputs",null,"Timing Calculator"]
["Number of Power Levels",12,null,null,null,"1500RPM",{"$f":"B45","v":15},{"$f":"GraphBuild!B136","v":13.5},null,"Load %",25]
["RPM Limit",4200,null,null,null,"2000RPM",18,{"$f":"GraphBuild!B137","v":16.5},null,"PSI",0]
["Valet Mode",null,null,null,null,"2500RPM",21,{"$f":"GraphBuild!B138","v":19.5},null,"TPS %",5]
["Maximum Valet Mode Power",50,null,null,null,"3000RPM",23,{"$f":"GraphBuild!B139","v":21.5},null,"MPH",35]
["Pump Tap Parameters List",null,null,null,null,"3500RPM",24,{"$f":"GraphBuild!B140","v":25.42},null,"RPM",2000]
["Maximum Fuel Stretch",4400,null,null,null,"4000RPM",25,{"$f":"GraphBuild!B141","v":26.42},null,"Timing at Given Input",{"$f":"GraphBuild!F134","v":16.506}]
["TPS Pump Maximum",100,null,null,null,"MAX",26,{"$f":"GraphBuild!B142","v":27.42}]
["TPS Pump Minimum",10]
["Pump Tap Min PSI",5]
["Boost Scaling",38]
["Wiretap PSI Equlizer"]
["1 PSI ",4]
["2 PSI ",8]
["3 PSI ",12]
["4 PSI ",16]
["5 PSI ",20]
["6 PSI ",24]
["7 PSI ",28]
["8 PSI ",32]
["9 PSI ",36]
["10 PSI ",40]
["12 PSI ",44]
["14 PSI ",48]
["16 PSI ",52]
["18 PSI ",56]
["20 PSI ",60]
["22 PSI ",64]
["24 PSI ",68]
["26 PSI ",72]
["28 PSI ",76]
["30 PSI ",80]
["32 PSI ",84]
["34 PSI ",88]
["36 PSI ",92]
["38 PSI ",96]
["40 PSI ",100]
["Timing Parameters"]
["Fuel Load Timing",2]
["Low PSI Timing Reduct",2]
["Timing Reduct Scaling",100]
["LightThrottle Timing Adv",2]
["Light Throttle Limit",5]
["Timing Equilzer"]
["1500RPM",15]
["2000RPM",18]
["2500RPM",21]
["3000RPM",23]
["3500RPM",24]
["4000RPM",25]
["MAX",26]
["Boost Level Fueling - CAN Bus"]
["0 PSI",101]
["1 PSI",103]
["2 PSI",105]
["3 PSI",107]
["4 PSI",110]
["5 PSI",113]
["6 PSI",116]
["7 PSI",119]
["8 PSI",122]
["9 PSI",125]
["10 PSI",128]
["11 PSI",131]
["12 PSI",134]
["13 PSI",137]
["14 PSI",140]
["15 PSI",143]
["16 PSI",146]
["18 PSI",149]
["20 PSI",150]
["22 PSI",150]
["24 PSI",150]
["26 PSI",150]
["28 PSI",150]
["30+ PSI",150]

{"sheet":"SendIt","index":10,"n_rows":1,"n_cols":1,"rows_kept":1,"cut":false,"hidden":true,"merged":[]}
["{\"profileName\":\"Daily\",\"vehicleName\":\"V2 QUADZILLA-ONLY\",\"settingsMap\":{\"15\":\"6\",\"104\":\"3700\",\"111\":\"35\",\"85\":\"1800\",\"18\":\"100\",\"19\":\"0\",\"112\":\"0\",\"22\":\"40\",\"156\":\"1\",\"157\":\"2\",\"158\":\"3\",\"159\":\"4\",\"160\":\"5\",\"161\":\"6\",\"162\":\"8\",\"163\":\"10\",\"164\":\"15\",\"165\":\"20\",\"166\":\"25\",\"167\":\"30\",\"168\":\"35\",\"169\":\"40\",\"170\":\"50\",\"171\":\"60\",\"172\":\"70\",\"173\":\"80\",\"174\":\"90\",\"175\":\"95\",\"176\":\"100\",\"177\":\"100\",\"178\":\"100\",\"179\":\"100\",\"180\":\"100\",\"17\":\"2\",\"59\":\"5\",\"60\":\"80\",\"61\":\"1.5\",\"62\":\"30\",\"137\":\"17\",\"138\":\"18.5\",\"139\":\"22\",\"140\":\"24\",\"141\":\"12\",\"113\":\"84.5\",\"114\":\"85\",\"115\":\"86\",\"116\":\"87\",\"117\":\"88\",\"118\":\"89\",\"119\":\"90\",\"120\":\"92\",\"121\":\"94\",\"122\":\"96\",\"123\":\"100\",\"124\":\"104\",\"125\":\"109\",\"126\":\"115\",\"127\":\"120\",\"128\":\"125\",\"129\":\"130\",\"130\":\"130\",\"131\":\"130\",\"132\":\"130\",\"133\":\"130\",\"134\":\"130\",\"135\":\"130\",\"136\":\"130\"}}"]